BEGIN:VCALENDAR
VERSION:2.0
PRODID:-//What To Do - ECPv6.15.20//NONSGML v1.0//EN
CALSCALE:GREGORIAN
METHOD:PUBLISH
X-ORIGINAL-URL:https://www.whattododigital.com
X-WR-CALDESC:Events for What To Do
REFRESH-INTERVAL;VALUE=DURATION:PT1H
X-Robots-Tag:noindex
X-PUBLISHED-TTL:PT1H
BEGIN:VTIMEZONE
TZID:America/New_York
BEGIN:DAYLIGHT
TZOFFSETFROM:-0500
TZOFFSETTO:-0400
TZNAME:EDT
DTSTART:20240310T070000
END:DAYLIGHT
BEGIN:STANDARD
TZOFFSETFROM:-0400
TZOFFSETTO:-0500
TZNAME:EST
DTSTART:20241103T060000
END:STANDARD
BEGIN:DAYLIGHT
TZOFFSETFROM:-0500
TZOFFSETTO:-0400
TZNAME:EDT
DTSTART:20250309T070000
END:DAYLIGHT
BEGIN:STANDARD
TZOFFSETFROM:-0400
TZOFFSETTO:-0500
TZNAME:EST
DTSTART:20251102T060000
END:STANDARD
BEGIN:DAYLIGHT
TZOFFSETFROM:-0500
TZOFFSETTO:-0400
TZNAME:EDT
DTSTART:20260308T070000
END:DAYLIGHT
BEGIN:STANDARD
TZOFFSETFROM:-0400
TZOFFSETTO:-0500
TZNAME:EST
DTSTART:20261101T060000
END:STANDARD
END:VTIMEZONE
BEGIN:VEVENT
DTSTART;TZID=America/New_York:20251101T110000
DTEND;TZID=America/New_York:20251101T150000
DTSTAMP:20260425T123120
CREATED:20251007T155432Z
LAST-MODIFIED:20251007T155432Z
UID:91397-1761994800-1762009200@www.whattododigital.com
SUMMARY:New York Botanical Garden Fall Forest Weekend
DESCRIPTION:New York Botanical Garden Fall Forest Weekend \nThe Thain Family Forest—New York City’s largest remaining tract of old-growth woodland—is your fall foliage headquarters. \nThis weekend offers activities\, tours\, and educational demonstrations by members of NYBG’s science and education teams. \nNew York Botanical Garden
URL:https://www.whattododigital.com/event/new-york-botanical-garden-fall-forest-weekend/
LOCATION:New York Botanical Garden\, 2900 Southern Blvd.\, Bronx\, NY\, 10458-5126\, United States
CATEGORIES:Fairs and Festivals,Outdoors
ATTACH;FMTTYPE=image/jpeg:https://www.whattododigital.com/wp-content/uploads/2025/10/NYBG_Fall-Forest.jpeg
END:VEVENT
END:VCALENDAR