BEGIN:VCALENDAR
VERSION:2.0
PRODID:-//What To Do - ECPv6.15.20//NONSGML v1.0//EN
CALSCALE:GREGORIAN
METHOD:PUBLISH
X-WR-CALNAME:What To Do
X-ORIGINAL-URL:https://www.whattododigital.com
X-WR-CALDESC:Events for What To Do
REFRESH-INTERVAL;VALUE=DURATION:PT1H
X-Robots-Tag:noindex
X-PUBLISHED-TTL:PT1H
BEGIN:VTIMEZONE
TZID:America/New_York
BEGIN:DAYLIGHT
TZOFFSETFROM:-0500
TZOFFSETTO:-0400
TZNAME:EDT
DTSTART:20240310T070000
END:DAYLIGHT
BEGIN:STANDARD
TZOFFSETFROM:-0400
TZOFFSETTO:-0500
TZNAME:EST
DTSTART:20241103T060000
END:STANDARD
BEGIN:DAYLIGHT
TZOFFSETFROM:-0500
TZOFFSETTO:-0400
TZNAME:EDT
DTSTART:20250309T070000
END:DAYLIGHT
BEGIN:STANDARD
TZOFFSETFROM:-0400
TZOFFSETTO:-0500
TZNAME:EST
DTSTART:20251102T060000
END:STANDARD
BEGIN:DAYLIGHT
TZOFFSETFROM:-0500
TZOFFSETTO:-0400
TZNAME:EDT
DTSTART:20260308T070000
END:DAYLIGHT
BEGIN:STANDARD
TZOFFSETFROM:-0400
TZOFFSETTO:-0500
TZNAME:EST
DTSTART:20261101T060000
END:STANDARD
END:VTIMEZONE
BEGIN:VEVENT
DTSTART;VALUE=DATE:20251129
DTEND;VALUE=DATE:20251130
DTSTAMP:20260425T122931
CREATED:20251121T211409Z
LAST-MODIFIED:20251121T211409Z
UID:92433-1764374400-1764460799@www.whattododigital.com
SUMMARY:New Castle Historical Society Holiday Train Sho
DESCRIPTION:New Castle Historical Society Holiday Train Show \nFeaturing: LEGO Around the World\, Polar Express and Santa’s Holiday Train \nIn addition to the trains\, the rooms of the historic Horace Greeley House will be festively decorated for the season. For those who are young or young at heart\, we offer a train-themed scavenger hunt\, an activity room with crafts and hands-on trains\, and even a mini train engine for the perfect photo op! \nThe exhibition opens on Saturday\, November 22 and runs through Saturday\, January 3\, 2026. Two entrance times daily at 10am & 1:15 pm. \nNew Castle Historical Society
URL:https://www.whattododigital.com/event/new-castle-historical-society-holiday-train-sho/
LOCATION:Horace Greeley House\, 100 King St.\, Chappaqua\, NY\, 10514\, United States
CATEGORIES:Holidays,Kids
ATTACH;FMTTYPE=image/jpeg:https://www.whattododigital.com/wp-content/uploads/2025/10/NCHS-9-1536x1025-1.jpeg
END:VEVENT
END:VCALENDAR