BEGIN:VCALENDAR
VERSION:2.0
PRODID:-//What To Do - ECPv6.15.20//NONSGML v1.0//EN
CALSCALE:GREGORIAN
METHOD:PUBLISH
X-WR-CALNAME:What To Do
X-ORIGINAL-URL:https://www.whattododigital.com
X-WR-CALDESC:Events for What To Do
REFRESH-INTERVAL;VALUE=DURATION:PT1H
X-Robots-Tag:noindex
X-PUBLISHED-TTL:PT1H
BEGIN:VTIMEZONE
TZID:America/New_York
BEGIN:DAYLIGHT
TZOFFSETFROM:-0500
TZOFFSETTO:-0400
TZNAME:EDT
DTSTART:20240310T070000
END:DAYLIGHT
BEGIN:STANDARD
TZOFFSETFROM:-0400
TZOFFSETTO:-0500
TZNAME:EST
DTSTART:20241103T060000
END:STANDARD
BEGIN:DAYLIGHT
TZOFFSETFROM:-0500
TZOFFSETTO:-0400
TZNAME:EDT
DTSTART:20250309T070000
END:DAYLIGHT
BEGIN:STANDARD
TZOFFSETFROM:-0400
TZOFFSETTO:-0500
TZNAME:EST
DTSTART:20251102T060000
END:STANDARD
BEGIN:DAYLIGHT
TZOFFSETFROM:-0500
TZOFFSETTO:-0400
TZNAME:EDT
DTSTART:20260308T070000
END:DAYLIGHT
BEGIN:STANDARD
TZOFFSETFROM:-0400
TZOFFSETTO:-0500
TZNAME:EST
DTSTART:20261101T060000
END:STANDARD
END:VTIMEZONE
BEGIN:VEVENT
DTSTART;VALUE=DATE:20251212
DTEND;VALUE=DATE:20251213
DTSTAMP:20260425T234200
CREATED:20251121T155309Z
LAST-MODIFIED:20251121T155309Z
UID:92175-1765497600-1765583999@www.whattododigital.com
SUMMARY:Lumina Returns to Harvest Moon for the Holidays
DESCRIPTION:Lumina Returns to Harvest Moon for the Holidays \nA Magical Light Experience! \nImmerse yourself in the warmth and magic of Harvest Moon Farm & Orchard’s enchanting\, illuminated forest. Over half a million brilliant lights will create a cozy and inviting glow\, filling the air with holiday cheer. \nCheck dates and times. \nHarvest Moon Farm & Orchard
URL:https://www.whattododigital.com/event/lumina-returns-to-harvest-moon-for-the-holidays-10/
LOCATION:Harvest Moon Farm & Orchard
CATEGORIES:Holidays,Kids
ATTACH;FMTTYPE=image/jpeg:https://www.whattododigital.com/wp-content/uploads/2025/11/Harvest-Moon_lumina-copy.jpg
END:VEVENT
BEGIN:VEVENT
DTSTART;VALUE=DATE:20251212
DTEND;VALUE=DATE:20251213
DTSTAMP:20260425T234200
CREATED:20251121T164229Z
LAST-MODIFIED:20251121T164229Z
UID:92232-1765497600-1765583999@www.whattododigital.com
SUMMARY:Westchester Winter Wonderland
DESCRIPTION:Westchester Winter Wonderland \nWestchester’s Winter Wonderland Drive-Thru Holiday Light Extravaganza is a one-of-a-kind\, affordable holiday experience for the whole family! See 1.2 miles of dazzling lights from the comfort of your own car\, and see Westchester’s BEST Santa! \nSelect dates from November 21 to December 7. Daily except Christmas Eve and Christmas Day from December 11 to 31. \nMetered tickets from 5pm to 9:45 most nights. \nWestchester Winter Wonderland
URL:https://www.whattododigital.com/event/westchester-winter-wonderland-12/
LOCATION:Kensico Dam
CATEGORIES:Holidays,Kids
ATTACH;FMTTYPE=image/gif:https://www.whattododigital.com/wp-content/uploads/2021/11/Winter-Wonderlan_gif_website_light2.gif
END:VEVENT
BEGIN:VEVENT
DTSTART;TZID=America/New_York:20251212T183000
DTEND;TZID=America/New_York:20251212T183000
DTSTAMP:20260425T234200
CREATED:20251124T204010Z
LAST-MODIFIED:20251124T204022Z
UID:92638-1765564200-1765564200@www.whattododigital.com
SUMMARY:Ridgefield Playhouse: The Nutcracker performed by The Ridgefield Conservatory of Dance
DESCRIPTION:Ridgefield Playhouse: The Nutcracker performed by The Ridgefield Conservatory of Dance \nThe Ridgefield Conservatory of Dance presents a full-length production of The Nutcracker ballet with a cast of student\, professional\, and guest performers under the Direction of Mary Beth Hansohn. \nRidgefield Playhouse
URL:https://www.whattododigital.com/event/ridgefield-playhouse-the-nutcracker-performed-by-the-ridgefield-conservatory-of-dance/
LOCATION:The Ridgefield Playhouse\, 80 East Ridge\, Ridfgefield\, CT\, 06877\, United States
CATEGORIES:Holidays,Kids
ATTACH;FMTTYPE=image/jpeg:https://www.whattododigital.com/wp-content/uploads/2025/11/RPH-THE-NUTCRACKER-550x800-1-copy.jpg
END:VEVENT
BEGIN:VEVENT
DTSTART;TZID=America/New_York:20251212T190000
DTEND;TZID=America/New_York:20251212T190000
DTSTAMP:20260425T234200
CREATED:20251121T214828Z
LAST-MODIFIED:20251121T214828Z
UID:92469-1765566000-1765566000@www.whattododigital.com
SUMMARY:Schoolhouse Theater: Jeeves and Wooster in Perfect Nonsense
DESCRIPTION:Schoolhouse Theater: Jeeves and Wooster in Perfect Nonsense \nJeeves and Wooster in “Perfect Nonsense” brings P.G. Wodehouse’s beloved duo to the stage in a gloriously theatrical farce packed with lightning-fast costume changes\, madcap characters\, and impeccable comic timing. \nWinner of the Olivier Award for Best New Comedy\, this gleeful romp is equal parts charm and chaos—a loving send-up of British high society and the magic of live theatre itself. \nSchoolhouse Theater
URL:https://www.whattododigital.com/event/schoolhouse-theater-jeeves-and-wooster-in-perfect-nonsense-6/
LOCATION:The Schoolhouse Theater
CATEGORIES:Arts
ATTACH;FMTTYPE=image/jpeg:https://www.whattododigital.com/wp-content/uploads/2025/08/schoolhouse_jeeves-copy-1.jpg
END:VEVENT
BEGIN:VEVENT
DTSTART;TZID=America/New_York:20251212T190000
DTEND;TZID=America/New_York:20251212T190000
DTSTAMP:20260425T234200
CREATED:20251208T185434Z
LAST-MODIFIED:20251208T185457Z
UID:92819-1765566000-1765566000@www.whattododigital.com
SUMMARY:Bedford Playhouse: Broadway in Bedford
DESCRIPTION:Bedford Playhouse: Broadway in Bedford \nDan Micciche\, music director/conductor of Wicked accompanies Jonathan Christopher (Hamilton)\, Laurel Harris(Beautiful\, Wicked\, Jagged Little Pill) and DeLaney Westfall (Sweeney Todd/ Beautiful / Sideshow / Kinky Boots and upcoming The Lost Boys) in a program that includes selections from the Golden Age of Broadway and holiday favorites. \nBedford Playhouse
URL:https://www.whattododigital.com/event/bedford-playhouse-broadway-in-bedford/
LOCATION:Bedford Playhouse
CATEGORIES:Holidays
ATTACH;FMTTYPE=image/jpeg:https://www.whattododigital.com/wp-content/uploads/2025/12/BPH_Broadway-in-Bedford.jpg
END:VEVENT
BEGIN:VEVENT
DTSTART;TZID=America/New_York:20251212T190000
DTEND;TZID=America/New_York:20251212T220000
DTSTAMP:20260425T234200
CREATED:20251121T193134Z
LAST-MODIFIED:20251121T193134Z
UID:92346-1765566000-1765576800@www.whattododigital.com
SUMMARY:Holiday Train Show Nights
DESCRIPTION:Holiday Train Show Nights \nLet roving train conductors welcome you to experience the Holiday Train Show® in a whole new light as we illuminate the exhibition for Holiday Train Nights—lively after-dark celebrations where you can sip seasonal cocktails and mocktails under the glass of the warm and twinkling Haupt Conservatory. \nHoliday Train Show Nights
URL:https://www.whattododigital.com/event/holiday-train-show-nights-5/
LOCATION:New York Botanical Garden\, 2900 Southern Blvd.\, Bronx\, NY\, 10458-5126\, United States
CATEGORIES:Grown Ups,Holidays
ATTACH;FMTTYPE=image/jpeg:https://www.whattododigital.com/wp-content/uploads/2025/10/NYBG_Holiday-Train-Nights.jpg
END:VEVENT
BEGIN:VEVENT
DTSTART;TZID=America/New_York:20251212T193000
DTEND;TZID=America/New_York:20251212T193000
DTSTAMP:20260425T234200
CREATED:20251202T155503Z
LAST-MODIFIED:20251202T155503Z
UID:92718-1765567800-1765567800@www.whattododigital.com
SUMMARY:White Plains Performing Arts Center: Finding Neverland
DESCRIPTION:White Plains Performing Arts Center: Finding Neverland \nBased on the movie\, Finding Neverland tells the story of J.M. Barrie\, the playwright who created ‘Peter Pan’. As Barrie struggles to find inspiration for his next play\, his life takes a turn when he encounters a family\, including the widow Sylvia and her four sons. Barrie’s relationship with the family deepens and he begins crafting the timeless tale of ‘Peter Pan’. The show explores themes of imagination\, friendship\, and the spirit of childhood\, perfect for the whole family. \nWhite Plains Performing Arts Center
URL:https://www.whattododigital.com/event/white-plains-performing-arts-center-finding-neverland-2/
LOCATION:White Plains Performing Arts Center
CATEGORIES:Arts
ATTACH;FMTTYPE=image/jpeg:https://www.whattododigital.com/wp-content/uploads/2025/10/WPPAC_Neverland.jpeg
END:VEVENT
BEGIN:VEVENT
DTSTART;TZID=America/New_York:20251212T200000
DTEND;TZID=America/New_York:20251212T200000
DTSTAMP:20260425T234200
CREATED:20251120T151319Z
LAST-MODIFIED:20251120T151319Z
UID:92045-1765569600-1765569600@www.whattododigital.com
SUMMARY:Capitol Theater: John Henry's Friends
DESCRIPTION:Capitol Theater: John Henry’s Friends \nSteve Earle in partnership with Harper House Foundation and The Capitol Theatre present the 11th Annual John Henry’s Friends Benefit featuring Steve Earle\, Brandi Carlile\, Margaret Glaspy\, Larry Campbell & Teresa Williams to benefit The Keswell School\, an educational program for children and young adults with Autism Spectrum Disorder (ASD). \nCapitol Theater
URL:https://www.whattododigital.com/event/capitol-theater-john-henrys-friends/
LOCATION:Capitol Theater
CATEGORIES:Music
ATTACH;FMTTYPE=image/jpeg:https://www.whattododigital.com/wp-content/uploads/2025/11/Cap_johnHenrysFriends-copy.jpg
END:VEVENT
END:VCALENDAR