BEGIN:VCALENDAR
VERSION:2.0
PRODID:-//What To Do - ECPv6.15.20//NONSGML v1.0//EN
CALSCALE:GREGORIAN
METHOD:PUBLISH
X-ORIGINAL-URL:https://www.whattododigital.com
X-WR-CALDESC:Events for What To Do
REFRESH-INTERVAL;VALUE=DURATION:PT1H
X-Robots-Tag:noindex
X-PUBLISHED-TTL:PT1H
BEGIN:VTIMEZONE
TZID:America/New_York
BEGIN:DAYLIGHT
TZOFFSETFROM:-0500
TZOFFSETTO:-0400
TZNAME:EDT
DTSTART:20240310T070000
END:DAYLIGHT
BEGIN:STANDARD
TZOFFSETFROM:-0400
TZOFFSETTO:-0500
TZNAME:EST
DTSTART:20241103T060000
END:STANDARD
BEGIN:DAYLIGHT
TZOFFSETFROM:-0500
TZOFFSETTO:-0400
TZNAME:EDT
DTSTART:20250309T070000
END:DAYLIGHT
BEGIN:STANDARD
TZOFFSETFROM:-0400
TZOFFSETTO:-0500
TZNAME:EST
DTSTART:20251102T060000
END:STANDARD
BEGIN:DAYLIGHT
TZOFFSETFROM:-0500
TZOFFSETTO:-0400
TZNAME:EDT
DTSTART:20260308T070000
END:DAYLIGHT
BEGIN:STANDARD
TZOFFSETFROM:-0400
TZOFFSETTO:-0500
TZNAME:EST
DTSTART:20261101T060000
END:STANDARD
END:VTIMEZONE
BEGIN:VEVENT
DTSTART;VALUE=DATE:20251222
DTEND;VALUE=DATE:20251223
DTSTAMP:20260425T234209
CREATED:20251121T165444Z
LAST-MODIFIED:20251121T165444Z
UID:92250-1766361600-1766447999@www.whattododigital.com
SUMMARY:Westchester Winter Wonderland
DESCRIPTION:Westchester Winter Wonderland \nWestchester’s Winter Wonderland Drive-Thru Holiday Light Extravaganza is a one-of-a-kind\, affordable holiday experience for the whole family! See 1.2 miles of dazzling lights from the comfort of your own car\, and see Westchester’s BEST Santa! \nSelect dates from November 21 to December 7. Daily except Christmas Eve and Christmas Day from December 11 to 31. \nMetered tickets from 5pm to 9:45 most nights. \nWestchester Winter Wonderland
URL:https://www.whattododigital.com/event/westchester-winter-wonderland-10/
LOCATION:Kensico Dam
CATEGORIES:Holidays,Kids
ATTACH;FMTTYPE=image/gif:https://www.whattododigital.com/wp-content/uploads/2021/11/Winter-Wonderlan_gif_website_light2.gif
END:VEVENT
BEGIN:VEVENT
DTSTART;VALUE=DATE:20251222
DTEND;VALUE=DATE:20251223
DTSTAMP:20260425T234209
CREATED:20251121T182103Z
LAST-MODIFIED:20251121T182103Z
UID:92302-1766361600-1766447999@www.whattododigital.com
SUMMARY:NYBG Holiday Train Show
DESCRIPTION:NYBG Holiday Train Show \nThe timeless magic of rail travel fills NYBG with seasonal cheer as model trains travel over famous bridges and through familiar city settings\, bringing nearly 200 twinkling landmark replicas—including new surprises for 2025/2026—to life under the glass of the warm and welcoming Enid A. Haupt Conservatory. \nHoliday Train Show
URL:https://www.whattododigital.com/event/nybg-holiday-train-show-10/
LOCATION:New York Botanical Garden\, 2900 Southern Blvd.\, Bronx\, NY\, 10458-5126\, United States
CATEGORIES:Holidays,Kids
ATTACH;FMTTYPE=image/jpeg:https://www.whattododigital.com/wp-content/uploads/2025/10/NYBG-Train-Show.jpeg
END:VEVENT
BEGIN:VEVENT
DTSTART;VALUE=DATE:20251222
DTEND;VALUE=DATE:20251223
DTSTAMP:20260425T234209
CREATED:20251124T203719Z
LAST-MODIFIED:20251124T203719Z
UID:92635-1766361600-1766447999@www.whattododigital.com
SUMMARY:Emelin Theatre: Nutcracker Dream
DESCRIPTION:Emelin Theatre: Nutcracker Dream \nThe Emelin Theatre presents Nutcracker Dream: Inspired by the work of Rudolf Nureyev and Marius Petipa\, this 90-minute adaptation by French-American choreographer Carole Alexis is an exquisite interpretation of the beloved holiday classic. Professional dancers of Ballet des Amériques will perform the featured roles of the ballet\, with additional roles performed by young dancers from Westchester County. \nTwo shows at 1:30 & 5pm. \nEmelin Theatre
URL:https://www.whattododigital.com/event/emelin-theatre-nutcracker-dream-5/
LOCATION:Emelin Theatre
CATEGORIES:Holidays,Kids
ATTACH;FMTTYPE=image/jpeg:https://www.whattododigital.com/wp-content/uploads/2025/11/Emelin_Nutcracker_Dream.jpg
END:VEVENT
BEGIN:VEVENT
DTSTART;VALUE=DATE:20251222
DTEND;VALUE=DATE:20251223
DTSTAMP:20260425T234209
CREATED:20251201T201642Z
LAST-MODIFIED:20251201T201642Z
UID:92685-1766361600-1766447999@www.whattododigital.com
SUMMARY:New Castle Historical Society Holiday Train Show
DESCRIPTION:New Castle Historical Society Holiday Train Show \nFeaturing: LEGO Around the World\, Polar Express and Santa’s Holiday Train \nIn addition to the trains\, the rooms of the historic Horace Greeley House will be festively decorated for the season. For those who are young or young at heart\, we offer a train-themed scavenger hunt\, an activity room with crafts and hands-on trains\, and even a mini train engine for the perfect photo op! \nThe exhibition opens on Saturday\, November 22 and runs through Saturday\, January 3\, 2026. Two entrance times daily at 10am & 1:15 pm. \nNew Castle Historical Society
URL:https://www.whattododigital.com/event/new-castle-historical-society-holiday-train-show-11/
LOCATION:Horace Greeley House\, 100 King St.\, Chappaqua\, NY\, 10514\, United States
CATEGORIES:Holidays,Kids
ATTACH;FMTTYPE=image/jpeg:https://www.whattododigital.com/wp-content/uploads/2025/10/NCHS-9-1536x1025-1.jpeg
END:VEVENT
BEGIN:VEVENT
DTSTART;VALUE=DATE:20251222
DTEND;VALUE=DATE:20251223
DTSTAMP:20260425T234209
CREATED:20251215T171105Z
LAST-MODIFIED:20251215T172532Z
UID:92868-1766361600-1766447999@www.whattododigital.com
SUMMARY:Bedford Playhouse: The SpongeBob Movie: Search for Squarepants
DESCRIPTION:Bedford Playhouse: The SpongeBob Movie: Search for Squarepants \nSpongeBob sets out to prove his bravery to Mr. Krabs by following The Flying Dutchman – a mysterious swashbuckling ghost pirate – on a seafaring comedy-adventure that takes him to the deepest depths of the deep sea\, where no Sponge has gone before. \nRuns from December 18 to January 1: Check times \nBedford Playhouse
URL:https://www.whattododigital.com/event/bedford-playhouse-the-spongebob-movie-search-for-squarepants-5/
LOCATION:The Bedford Playhouse\, 633 Old Post Rd.\, Bedford Village\, NY\, 10506\, United States
ATTACH;FMTTYPE=image/jpeg:https://www.whattododigital.com/wp-content/uploads/2025/12/BPH_Sponge-Bob.jpeg
END:VEVENT
BEGIN:VEVENT
DTSTART;TZID=America/New_York:20251222T190000
DTEND;TZID=America/New_York:20251222T190000
DTSTAMP:20260425T234209
CREATED:20251124T194757Z
LAST-MODIFIED:20251124T194757Z
UID:92579-1766430000-1766430000@www.whattododigital.com
SUMMARY:Lyndhurst Mansion: Mr. Dickens Tells A Christmas Carol
DESCRIPTION:Lyndhurst Mansion: Mr. Dickens Tells A Christmas Carol \nM&M Performing Arts Presents; Mr. Dickens Tells A Christmas Carol\nThis one-hour play recreates the famous performance tour by Charles Dickens in 1867 with his classic tale bringing the travails of Ebenezer Scrooge\, Bob Cratchit\, and Tiny Tim alive. Taken from the original script\, actor Michael Muldoon plays Charles Dickens and tells the well-loved tale in the second-floor art gallery of the beautifully decorated Lyndhurst Mansion meeting the different spirits and characters. \nLyndhurst Mansion
URL:https://www.whattododigital.com/event/lyndhurst-mansion-mr-dickens-tells-a-christmas-carol-6/
LOCATION:Lyndhurst Mansion
CATEGORIES:Holidays
ATTACH;FMTTYPE=image/jpeg:https://www.whattododigital.com/wp-content/uploads/2024/11/Lyndhurst_Dickens.jpg
END:VEVENT
BEGIN:VEVENT
DTSTART;TZID=America/New_York:20251222T190000
DTEND;TZID=America/New_York:20251222T190000
DTSTAMP:20260425T234209
CREATED:20251208T182659Z
LAST-MODIFIED:20251208T182659Z
UID:92798-1766430000-1766430000@www.whattododigital.com
SUMMARY:JBFC: Hot Chocolate & The Holidays: The Shop Around the Corner
DESCRIPTION:JBFC: Hot Chocolate & The Holidays: The Shop Around the Corner \nBy night Alfred and Klara are pen pals who have never met but who are deeply devoted to each other. By day\, Alfred and Klara are co-workers who\, just as deeply\, dislike each other. Academy Award winner Jimmy Stewart stars with Margaret Sullivan as Alfred and Klara in this classic romance directed by the great Ernst Lubitsch. This day/night—love/hate relationship cannot continue… but will it be loving or loathing when Alfred and Klara discover the identities of their cherished pen pals? \nJacob Burns Film Center
URL:https://www.whattododigital.com/event/jbfc-hot-chocolate-the-holidays-the-shop-around-the-corner-2/
LOCATION:Jacob Burns Film Center
CATEGORIES:Holidays
ATTACH;FMTTYPE=image/jpeg:https://www.whattododigital.com/wp-content/uploads/2025/12/JBFC_Holidays-collage-2025-1.jpeg
END:VEVENT
END:VCALENDAR