BEGIN:VCALENDAR
VERSION:2.0
PRODID:-//What To Do - ECPv6.15.20//NONSGML v1.0//EN
CALSCALE:GREGORIAN
METHOD:PUBLISH
X-ORIGINAL-URL:https://www.whattododigital.com
X-WR-CALDESC:Events for What To Do
REFRESH-INTERVAL;VALUE=DURATION:PT1H
X-Robots-Tag:noindex
X-PUBLISHED-TTL:PT1H
BEGIN:VTIMEZONE
TZID:America/New_York
BEGIN:DAYLIGHT
TZOFFSETFROM:-0500
TZOFFSETTO:-0400
TZNAME:EDT
DTSTART:20240310T070000
END:DAYLIGHT
BEGIN:STANDARD
TZOFFSETFROM:-0400
TZOFFSETTO:-0500
TZNAME:EST
DTSTART:20241103T060000
END:STANDARD
BEGIN:DAYLIGHT
TZOFFSETFROM:-0500
TZOFFSETTO:-0400
TZNAME:EDT
DTSTART:20250309T070000
END:DAYLIGHT
BEGIN:STANDARD
TZOFFSETFROM:-0400
TZOFFSETTO:-0500
TZNAME:EST
DTSTART:20251102T060000
END:STANDARD
BEGIN:DAYLIGHT
TZOFFSETFROM:-0500
TZOFFSETTO:-0400
TZNAME:EDT
DTSTART:20260308T070000
END:DAYLIGHT
BEGIN:STANDARD
TZOFFSETFROM:-0400
TZOFFSETTO:-0500
TZNAME:EST
DTSTART:20261101T060000
END:STANDARD
END:VTIMEZONE
BEGIN:VEVENT
DTSTART;TZID=America/New_York:20251223T080000
DTEND;TZID=America/New_York:20251223T170000
DTSTAMP:20260423T041557
CREATED:20251121T165606Z
LAST-MODIFIED:20251121T165606Z
UID:92253-1766476800-1766509200@www.whattododigital.com
SUMMARY:Westchester Winter Wonderland
DESCRIPTION:Westchester Winter Wonderland \nWestchester’s Winter Wonderland Drive-Thru Holiday Light Extravaganza is a one-of-a-kind\, affordable holiday experience for the whole family! See 1.2 miles of dazzling lights from the comfort of your own car\, and see Westchester’s BEST Santa! \nSelect dates from November 21 to December 7. Daily except Christmas Eve and Christmas Day from December 11 to 31. \nMetered tickets from 5pm to 9:45 most nights. \nWestchester Winter Wonderland
URL:https://www.whattododigital.com/event/westchester-winter-wonderland-17/
LOCATION:Kensico Dam
CATEGORIES:Holidays,Kids
ATTACH;FMTTYPE=image/gif:https://www.whattododigital.com/wp-content/uploads/2021/11/Winter-Wonderlan_gif_website_light2.gif
END:VEVENT
END:VCALENDAR