BEGIN:VCALENDAR
VERSION:2.0
PRODID:-//What To Do - ECPv6.15.20//NONSGML v1.0//EN
CALSCALE:GREGORIAN
METHOD:PUBLISH
X-WR-CALNAME:What To Do
X-ORIGINAL-URL:https://www.whattododigital.com
X-WR-CALDESC:Events for What To Do
REFRESH-INTERVAL;VALUE=DURATION:PT1H
X-Robots-Tag:noindex
X-PUBLISHED-TTL:PT1H
BEGIN:VTIMEZONE
TZID:America/New_York
BEGIN:DAYLIGHT
TZOFFSETFROM:-0500
TZOFFSETTO:-0400
TZNAME:EDT
DTSTART:20250309T070000
END:DAYLIGHT
BEGIN:STANDARD
TZOFFSETFROM:-0400
TZOFFSETTO:-0500
TZNAME:EST
DTSTART:20251102T060000
END:STANDARD
BEGIN:DAYLIGHT
TZOFFSETFROM:-0500
TZOFFSETTO:-0400
TZNAME:EDT
DTSTART:20260308T070000
END:DAYLIGHT
BEGIN:STANDARD
TZOFFSETFROM:-0400
TZOFFSETTO:-0500
TZNAME:EST
DTSTART:20261101T060000
END:STANDARD
BEGIN:DAYLIGHT
TZOFFSETFROM:-0500
TZOFFSETTO:-0400
TZNAME:EDT
DTSTART:20270314T070000
END:DAYLIGHT
BEGIN:STANDARD
TZOFFSETFROM:-0400
TZOFFSETTO:-0500
TZNAME:EST
DTSTART:20271107T060000
END:STANDARD
END:VTIMEZONE
BEGIN:VEVENT
DTSTART;TZID=America/New_York:20260320T193000
DTEND;TZID=America/New_York:20260320T193000
DTSTAMP:20260425T121014
CREATED:20260106T173411Z
LAST-MODIFIED:20260106T173432Z
UID:93367-1774035000-1774035000@www.whattododigital.com
SUMMARY:Caramoor: Goitse
DESCRIPTION:Caramoor: Goitse \nBorn from Limerick’s Irish World Academy\, these five exceptional musicians have won hearts (and numerous awards) with their perfect blend of time-honored Irish tunes and their own fresh compositions. \nCaramoor
URL:https://www.whattododigital.com/event/caramoor-goitse/
LOCATION:Caramoor
CATEGORIES:Music
ATTACH;FMTTYPE=image/jpeg:https://www.whattododigital.com/wp-content/uploads/2026/01/Caramoor_Goitse.jpg
END:VEVENT
BEGIN:VEVENT
DTSTART;TZID=America/New_York:20260320T193000
DTEND;TZID=America/New_York:20260320T193000
DTSTAMP:20260425T121014
CREATED:20260120T161350Z
LAST-MODIFIED:20260120T161350Z
UID:93583-1774035000-1774035000@www.whattododigital.com
SUMMARY:Chappaqua Performing Arts Center: The Seven Wonders
DESCRIPTION:Chappaqua Performing Arts Center: The Seven Wonders: A Tribute to Fleetwood Mac \nAudiences can expect a journey through the entire Fleetwood Mac catalog from the early years to the iconic Buckingham/Nicks era—featuring faithful recreations of legendary tracks: \n“Dreams”\n“Go Your Own Way”\n“Rhiannon”\n“Landslide”\n“Edge of Seventeen”\n“Gypsy”\n“Everywhere” \nChappaqua Performing Arts Center
URL:https://www.whattododigital.com/event/chappaqua-performing-arts-center-the-seven-wonders/
LOCATION:Chappaqua Performing Arts Center\, 480 Bedford Road\, Chappaqua\, NY\, 10514\, United States
CATEGORIES:Music
ATTACH;FMTTYPE=image/jpeg:https://www.whattododigital.com/wp-content/uploads/2026/01/ChappPac_Fleetwwod-Mac.jpg
END:VEVENT
BEGIN:VEVENT
DTSTART;TZID=America/New_York:20260320T200000
DTEND;TZID=America/New_York:20260320T200000
DTSTAMP:20260425T121014
CREATED:20260105T211632Z
LAST-MODIFIED:20260105T211632Z
UID:93171-1774036800-1774036800@www.whattododigital.com
SUMMARY:Paramount Hudson Valley: Gary Numan
DESCRIPTION:Paramount Hudson Valley: Gary Numan \nFrom the moment he first stepped onto Top of the Pops in 1979 with Tubeway Army’s groundbreaking hit “Are ‘Friends’ Electric?\,” Numan has challenged conventions and reshaped the future of electronic music. Over a remarkable four-decade career\, he has achieved seven Top 10 singles—including “Are ‘Friends’ Electric?” and his debut solo hit “Cars”—alongside eight Top 10 albums\, three of which topped the charts\, and received the prestigious Ivor Novello Inspiration Award for his profound influence on generations of artists. \nParamount Hudson Valley
URL:https://www.whattododigital.com/event/paramount-hudson-valley-gary-numan/
LOCATION:Paramount Hudson Valley
CATEGORIES:Music
ATTACH;FMTTYPE=image/jpeg:https://www.whattododigital.com/wp-content/uploads/2026/01/Paramout_garynuman-copy.jpg
END:VEVENT
BEGIN:VEVENT
DTSTART;TZID=America/New_York:20260320T200000
DTEND;TZID=America/New_York:20260320T200000
DTSTAMP:20260425T121014
CREATED:20260316T151222Z
LAST-MODIFIED:20260316T151222Z
UID:93933-1774036800-1774036800@www.whattododigital.com
SUMMARY:Arc Stages: A Little Night Music
DESCRIPTION:Arc Stages: A Little Night Music \nThe Community Stage presents Sondheim’s A Little Night Music! Set in 1900 Sweden\, A Little Night Music explores the tangled web of affairs centered around actress\, Desirée Armfeldt\, and the men who love her. In the perpetual twilight of the Nordic summer\, lovers waltz in and out of each other’s lives and arms during a weekend romp in the country filled with possibility\, second chances\, and endless surprises. \nArc Stages
URL:https://www.whattododigital.com/event/arc-stages-a-little-night-music/
LOCATION:Arc Stages\, 147 WHEELER AVENUE\, Pleasantville\, NY\, United States
CATEGORIES:Arts
ATTACH;FMTTYPE=image/jpeg:https://www.whattododigital.com/wp-content/uploads/2026/03/Arc_Night-Music.jpg
END:VEVENT
END:VCALENDAR