BEGIN:VCALENDAR
VERSION:2.0
PRODID:-//What To Do - ECPv6.15.20//NONSGML v1.0//EN
CALSCALE:GREGORIAN
METHOD:PUBLISH
X-WR-CALNAME:What To Do
X-ORIGINAL-URL:https://www.whattododigital.com
X-WR-CALDESC:Events for What To Do
REFRESH-INTERVAL;VALUE=DURATION:PT1H
X-Robots-Tag:noindex
X-PUBLISHED-TTL:PT1H
BEGIN:VTIMEZONE
TZID:America/New_York
BEGIN:DAYLIGHT
TZOFFSETFROM:-0500
TZOFFSETTO:-0400
TZNAME:EDT
DTSTART:20250309T070000
END:DAYLIGHT
BEGIN:STANDARD
TZOFFSETFROM:-0400
TZOFFSETTO:-0500
TZNAME:EST
DTSTART:20251102T060000
END:STANDARD
BEGIN:DAYLIGHT
TZOFFSETFROM:-0500
TZOFFSETTO:-0400
TZNAME:EDT
DTSTART:20260308T070000
END:DAYLIGHT
BEGIN:STANDARD
TZOFFSETFROM:-0400
TZOFFSETTO:-0500
TZNAME:EST
DTSTART:20261101T060000
END:STANDARD
BEGIN:DAYLIGHT
TZOFFSETFROM:-0500
TZOFFSETTO:-0400
TZNAME:EDT
DTSTART:20270314T070000
END:DAYLIGHT
BEGIN:STANDARD
TZOFFSETFROM:-0400
TZOFFSETTO:-0500
TZNAME:EST
DTSTART:20271107T060000
END:STANDARD
END:VTIMEZONE
BEGIN:VEVENT
DTSTART;TZID=America/New_York:20260328T110000
DTEND;TZID=America/New_York:20260328T110000
DTSTAMP:20260425T121815
CREATED:20260309T154837Z
LAST-MODIFIED:20260309T154837Z
UID:93884-1774695600-1774695600@www.whattododigital.com
SUMMARY:Jacob Burns Film Center Jewish Film Festival: The Apprenticeship of Duddy Kravitz
DESCRIPTION:Jacob Burns Film Center Jewish Film Festival: The Apprenticeship of Duddy Kravitz \nThis film adaptation of his classic coming-of-age novel The Apprenticeship of Duddy Kravitz stars Richard Dreyfuss in his first–and one of his best–performances as the ambitious\, endlessly energetic\, and frequently obnoxious young hustler. Constantly looking for ways to make money\, he is a waiter\, taxi driver\, drug smuggler\, forger\, pinball-machine owner\, and even becomes a filmmaker. \nJacob Burns Film Center
URL:https://www.whattododigital.com/event/jacob-burns-film-center-jewish-film-festival-the-apprenticeship-of-duddy-kravitz/
LOCATION:Jacob Burns Film Center
CATEGORIES:Movies
ATTACH;FMTTYPE=image/jpeg:https://www.whattododigital.com/wp-content/uploads/2026/03/JBFC_Duddy-Kravitz.jpg
END:VEVENT
BEGIN:VEVENT
DTSTART;TZID=America/New_York:20260328T110000
DTEND;TZID=America/New_York:20260328T110000
DTSTAMP:20260425T121815
CREATED:20260309T160142Z
LAST-MODIFIED:20260309T160142Z
UID:93897-1774695600-1774695600@www.whattododigital.com
SUMMARY:Jacob Burns Film Festival: The Fleischer Brothers Betty Boop Cartoons
DESCRIPTION:Jacob Burns Film Festival: The Fleischer Brothers Betty Boop Cartoons \nMade in Manhattan\, the cartoons of Dave and Max Fleischer captured the distinct melting-pot flavor of the city streets. Filled with jazz music\, ethnic accents\, and unmistakable references to the Fleischers’ Jewish immigrant background\, their cartoons teemed with urban energy. Independent\, confident\, and sassy\, Betty Boop emerged as the Fleischers’ biggest star\, and one of the most enduring heroines in cartoon history. \nJacob Burns Film Festival
URL:https://www.whattododigital.com/event/jacob-burns-film-festival-the-fleischer-brothers-betty-boop-cartoons/
LOCATION:Jacob Burns Film Center
CATEGORIES:Movies
ATTACH;FMTTYPE=image/jpeg:https://www.whattododigital.com/wp-content/uploads/2026/03/JBFC_Betty-Boop.jpg
END:VEVENT
BEGIN:VEVENT
DTSTART;TZID=America/New_York:20260328T140000
DTEND;TZID=America/New_York:20260328T140000
DTSTAMP:20260425T121815
CREATED:20260120T165316Z
LAST-MODIFIED:20260120T165316Z
UID:93622-1774706400-1774706400@www.whattododigital.com
SUMMARY:Maritime Aquarium Norwalk: Seal Spotting & Birding Cruise
DESCRIPTION:Maritime Aquarium Norwalk: Seal Spotting & Birding Cruise \nThe two-hour cruises seek out animals spending the winter in Long Island Sound including harbor seals\, gray seals\, buffleheads\, mergansers\, long-tailed ducks\, and red-throated loons. Aquarium educators will identify these species for guests and discuss their natural histories. \nNorwalk Maritime Aquarium
URL:https://www.whattododigital.com/event/maritime-aquarium-norwalk-seal-spotting-birding-cruise-10/
LOCATION:Maritime Aquarium Norwalk\, 10 North Water Street\, Norwalk\, CT\, United States
CATEGORIES:Grown Ups,Kids,Outdoors
ATTACH;FMTTYPE=image/jpeg:https://www.whattododigital.com/wp-content/uploads/2026/01/Kids_seal-spotting_Aquarium-Norwalk-.jpeg
END:VEVENT
BEGIN:VEVENT
DTSTART;TZID=America/New_York:20260328T190000
DTEND;TZID=America/New_York:20260328T190000
DTSTAMP:20260425T121815
CREATED:20260309T155449Z
LAST-MODIFIED:20260309T155449Z
UID:93889-1774724400-1774724400@www.whattododigital.com
SUMMARY:Jacob Burns Film Center Jewish Film Festival: The Last Spy
DESCRIPTION:Jacob Burns Film Center Jewish Film Festival: The Last Spy \nPeter Sichel\, born in 1922 into a wealthy German Jewish wine family\, fled with them to the United States. Joining the army as soon as America enters the war\, he was assigned to the newly created Office of Strategic Services\, beginning an astonishing globe-trotting career as a master spy. At the age of 100\, he sat down to tell his amazing story\, taking us through the defeat of Germany\, rescues at Dachau\, the Cold War\, the attempted overthrow of Indonesian president Sukarno\, and incursions in Communist China. \nJacob Burns Film Center
URL:https://www.whattododigital.com/event/jacob-burns-film-center-jewish-film-festival-the-last-spy/
LOCATION:Jacob Burns Film Center
CATEGORIES:Movies
ATTACH;FMTTYPE=image/jpeg:https://www.whattododigital.com/wp-content/uploads/2026/03/JBFC_Last-Spy.jpg
END:VEVENT
BEGIN:VEVENT
DTSTART;TZID=America/New_York:20260328T200000
DTEND;TZID=America/New_York:20260328T200000
DTSTAMP:20260425T121815
CREATED:20260105T213336Z
LAST-MODIFIED:20260105T213336Z
UID:93186-1774728000-1774728000@www.whattododigital.com
SUMMARY:Paramount Hudson Valley: Joan Osborne Sings the Songs of Bob Dylan
DESCRIPTION:Paramount Hudson Valley: Joan Osborne Sings the Songs of Bob Dylan \nThroughout her three-decade\, multi-Grammy nominated career\, Joan Osborne has never been an artist confined to one space as she continues to seamlessly blend into any genre. Her incredible and distinctive voice always shines through her own songs\, while she has also become one of her generation’s finest interpreters. Dylanology Live is yet another testament to her artistic range. \nParamount Hudson Valley
URL:https://www.whattododigital.com/event/paramount-hudson-valley-joan-osborne-sings-the-songs-of-bob-dylan/
LOCATION:Paramount Hudson Valley
CATEGORIES:Music
ATTACH;FMTTYPE=image/jpeg:https://www.whattododigital.com/wp-content/uploads/2026/01/paramount_joanosborne-copy.jpg
END:VEVENT
BEGIN:VEVENT
DTSTART;TZID=America/New_York:20260328T200000
DTEND;TZID=America/New_York:20260328T200000
DTSTAMP:20260425T121815
CREATED:20260316T152002Z
LAST-MODIFIED:20260316T152002Z
UID:93946-1774728000-1774728000@www.whattododigital.com
SUMMARY:Arc Stages: A Little Night Music
DESCRIPTION:Arc Stages: A Little Night Music \nThe Community Stage presents Sondheim’s A Little Night Music! Set in 1900 Sweden\, A Little Night Music explores the tangled web of affairs centered around actress\, Desirée Armfeldt\, and the men who love her. In the perpetual twilight of the Nordic summer\, lovers waltz in and out of each other’s lives and arms during a weekend romp in the country filled with possibility\, second chances\, and endless surprises. \nArc Stages
URL:https://www.whattododigital.com/event/arc-stages-a-little-night-music-4/
CATEGORIES:Arts
ATTACH;FMTTYPE=image/jpeg:https://www.whattododigital.com/wp-content/uploads/2026/03/Arc_Night-Music.jpg
END:VEVENT
END:VCALENDAR