BEGIN:VCALENDAR
VERSION:2.0
PRODID:-//What To Do - ECPv6.15.20//NONSGML v1.0//EN
CALSCALE:GREGORIAN
METHOD:PUBLISH
X-WR-CALNAME:What To Do
X-ORIGINAL-URL:https://www.whattododigital.com
X-WR-CALDESC:Events for What To Do
REFRESH-INTERVAL;VALUE=DURATION:PT1H
X-Robots-Tag:noindex
X-PUBLISHED-TTL:PT1H
BEGIN:VTIMEZONE
TZID:America/New_York
BEGIN:DAYLIGHT
TZOFFSETFROM:-0500
TZOFFSETTO:-0400
TZNAME:EDT
DTSTART:20250309T070000
END:DAYLIGHT
BEGIN:STANDARD
TZOFFSETFROM:-0400
TZOFFSETTO:-0500
TZNAME:EST
DTSTART:20251102T060000
END:STANDARD
BEGIN:DAYLIGHT
TZOFFSETFROM:-0500
TZOFFSETTO:-0400
TZNAME:EDT
DTSTART:20260308T070000
END:DAYLIGHT
BEGIN:STANDARD
TZOFFSETFROM:-0400
TZOFFSETTO:-0500
TZNAME:EST
DTSTART:20261101T060000
END:STANDARD
BEGIN:DAYLIGHT
TZOFFSETFROM:-0500
TZOFFSETTO:-0400
TZNAME:EDT
DTSTART:20270314T070000
END:DAYLIGHT
BEGIN:STANDARD
TZOFFSETFROM:-0400
TZOFFSETTO:-0500
TZNAME:EST
DTSTART:20271107T060000
END:STANDARD
END:VTIMEZONE
BEGIN:VEVENT
DTSTART;TZID=America/New_York:20260329T130000
DTEND;TZID=America/New_York:20260329T130000
DTSTAMP:20260425T185155
CREATED:20260309T161401Z
LAST-MODIFIED:20260309T161401Z
UID:93903-1774789200-1774789200@www.whattododigital.com
SUMMARY:Jacob Burns Film Center Jewish Film Festival: A Thre Course Meal... Three Food Films
DESCRIPTION:Jacob Burns Film Center Jewish Film Festival: A Thre Course Meal… Three Food Films \nA cinematic feast about the joys and importance of food\, this program includes the film equivalent of an appetizer\, a beverage\, and an entree. Including Orna and Ella\, a documentary of a Tel Aviv restaurant; Double Happiness\, about the Jewish tradition of  eating at Chinese restaurants on Christmas; and Egg Cream\, a celebration of the enduring fountain treat–one of the few affordable pleasures available to tenement dwellers in the early 20th century. \nJacob Burns Film Center
URL:https://www.whattododigital.com/event/jacob-burns-film-center-jewish-film-festival-a-thre-course-meal-three-food-films/
LOCATION:Jacob Burns Film Center
CATEGORIES:Movies
ATTACH;FMTTYPE=image/jpeg:https://www.whattododigital.com/wp-content/uploads/2026/03/JBFC_3-Food-Films.jpg
END:VEVENT
BEGIN:VEVENT
DTSTART;TZID=America/New_York:20260329T140000
DTEND;TZID=America/New_York:20260329T140000
DTSTAMP:20260425T185155
CREATED:20260108T190902Z
LAST-MODIFIED:20260108T190902Z
UID:93470-1774792800-1774792800@www.whattododigital.com
SUMMARY:Tarrytown Music Hall: Lightwire Theater
DESCRIPTION:Tarrytown Music Hall: Lightwire Theater \nIn this visually stunning DINOSAUR adventure for all ages\, a friendly dinosaur discovers a glowing world and the true meaning of love. Lightwire Theater blends puppetry\, technology and dance to tell tender-hearted stories that spark childlike wonder and (literally) light up the darkness.\n“What you see looks like magic” —CBS Sunday Morning \n“absolutely incredible” —Rolling Stone \nSpotlight on Lightwire Theater: \n\nSemi-finalists on America’s Got Talent and winners of truTV’s Fake Off \nRecipient of the Jim Henson Foundation Grant for DINO-LIGHT \nEach puppet is hand-built from recycled materials like skateboards\, dryer ducts\, and fishing poles\nCharacters glow with electroluminescent (EL) wire\, taking 200+ hours to create\n\n\nTarrytown Music Hall
URL:https://www.whattododigital.com/event/tarrytown-music-hall-lightwire-theater/
LOCATION:Tarrytown Music Hall
CATEGORIES:Kids
ATTACH;FMTTYPE=image/jpeg:https://www.whattododigital.com/wp-content/uploads/2026/01/TMH_DinoLight26fb.jpeg
END:VEVENT
BEGIN:VEVENT
DTSTART;TZID=America/New_York:20260329T143000
DTEND;TZID=America/New_York:20260329T143000
DTSTAMP:20260425T185155
CREATED:20260120T165459Z
LAST-MODIFIED:20260120T165459Z
UID:93625-1774794600-1774794600@www.whattododigital.com
SUMMARY:Maritime Aquarium Norwalk: Seal Spotting & Birding Cruise
DESCRIPTION:Maritime Aquarium Norwalk: Seal Spotting & Birding Cruise \nThe two-hour cruises seek out animals spending the winter in Long Island Sound including harbor seals\, gray seals\, buffleheads\, mergansers\, long-tailed ducks\, and red-throated loons. Aquarium educators will identify these species for guests and discuss their natural histories. \nNorwalk Maritime Aquarium
URL:https://www.whattododigital.com/event/maritime-aquarium-norwalk-seal-spotting-birding-cruise-11/
LOCATION:Maritime Aquarium Norwalk\, 10 North Water Street\, Norwalk\, CT\, United States
CATEGORIES:Grown Ups,Kids,Outdoors
ATTACH;FMTTYPE=image/jpeg:https://www.whattododigital.com/wp-content/uploads/2026/01/Kids_seal-spotting_Aquarium-Norwalk-.jpeg
END:VEVENT
BEGIN:VEVENT
DTSTART;TZID=America/New_York:20260329T190000
DTEND;TZID=America/New_York:20260329T190000
DTSTAMP:20260425T185155
CREATED:20260309T162058Z
LAST-MODIFIED:20260309T162058Z
UID:93912-1774810800-1774810800@www.whattododigital.com
SUMMARY:Jacob Burns Film Center: When Caesar Was King
DESCRIPTION:Jacob Burns Film Center: When Caesar Was King \nIn the 1950s\, Sid Caesar was the most influential\, highly paid\, and wildly talented comedian in America. He was watched every week by more than twenty million people on Your Show of Shows\, a variety show filled with hilarious sketches and film spoofs. Mel Brooks\, Carl Reiner\, Neil Simon\, and Woody Allen were among the many comedians who worked with Caesar and were inspired by him. \nJacob Burns Film Center
URL:https://www.whattododigital.com/event/jacob-burns-film-center-when-caesar-was-king/
LOCATION:Jacob Burns Film Center
CATEGORIES:Movies
ATTACH;FMTTYPE=image/jpeg:https://www.whattododigital.com/wp-content/uploads/2026/03/JBFC_Sid-Caesar.jpg
END:VEVENT
END:VCALENDAR