BEGIN:VCALENDAR
VERSION:2.0
PRODID:-//What To Do - ECPv6.15.20//NONSGML v1.0//EN
CALSCALE:GREGORIAN
METHOD:PUBLISH
X-WR-CALNAME:What To Do
X-ORIGINAL-URL:https://www.whattododigital.com
X-WR-CALDESC:Events for What To Do
REFRESH-INTERVAL;VALUE=DURATION:PT1H
X-Robots-Tag:noindex
X-PUBLISHED-TTL:PT1H
BEGIN:VTIMEZONE
TZID:America/New_York
BEGIN:DAYLIGHT
TZOFFSETFROM:-0500
TZOFFSETTO:-0400
TZNAME:EDT
DTSTART:20250309T070000
END:DAYLIGHT
BEGIN:STANDARD
TZOFFSETFROM:-0400
TZOFFSETTO:-0500
TZNAME:EST
DTSTART:20251102T060000
END:STANDARD
BEGIN:DAYLIGHT
TZOFFSETFROM:-0500
TZOFFSETTO:-0400
TZNAME:EDT
DTSTART:20260308T070000
END:DAYLIGHT
BEGIN:STANDARD
TZOFFSETFROM:-0400
TZOFFSETTO:-0500
TZNAME:EST
DTSTART:20261101T060000
END:STANDARD
BEGIN:DAYLIGHT
TZOFFSETFROM:-0500
TZOFFSETTO:-0400
TZNAME:EDT
DTSTART:20270314T070000
END:DAYLIGHT
BEGIN:STANDARD
TZOFFSETFROM:-0400
TZOFFSETTO:-0500
TZNAME:EST
DTSTART:20271107T060000
END:STANDARD
END:VTIMEZONE
BEGIN:VEVENT
DTSTART;TZID=America/New_York:20260403T143000
DTEND;TZID=America/New_York:20260403T143000
DTSTAMP:20260423T132215
CREATED:20260309T152830Z
LAST-MODIFIED:20260309T152830Z
UID:93860-1775226600-1775226600@www.whattododigital.com
SUMMARY:Jacob Burns Film Center Jewish Film Festival: Sapiro v. Ford
DESCRIPTION:Jacob Burns Film Center Jewish Film Festival: Sapiro v. Ford: The Jew Who Sued Henry Ford \nIn 1927\, the young Jewish lawyer and labor organizer Aaron Sapiro sued Ford for defamation. The courageous David vs. Goliath court case is the subject of this riveting documentary\, which was originated by the late Michael Rose\, and completed by Gaylen Ross. \nJacob Burns Film Center
URL:https://www.whattododigital.com/event/jacob-burns-film-center-jewish-film-festival-sapiro-v-ford-2/
LOCATION:Jacob Burns Film Center
CATEGORIES:Movies
ATTACH;FMTTYPE=image/jpeg:https://www.whattododigital.com/wp-content/uploads/2026/03/JBFC_Jew-Sued-Ford.jpg
END:VEVENT
BEGIN:VEVENT
DTSTART;TZID=America/New_York:20260403T190000
DTEND;TZID=America/New_York:20260403T190000
DTSTAMP:20260423T132215
CREATED:20260309T163234Z
LAST-MODIFIED:20260309T163234Z
UID:93927-1775242800-1775242800@www.whattododigital.com
SUMMARY:Jacob Burns Film Center: Fantasy Life
DESCRIPTION:Jacob Burns Film Center: Fantasy Life \nElegantly made and sharply observant\, this distinctly New York comedy and family drama is buoyed by an ensemble of beloved actors Amanda Peet\, in her first starring role in over a decade; Judd Hirsch\, Andrea Martin\, and Bob Balaban. Winner of the SXSW Narrative Feature Audience Award. \nJacob Burns Film Center
URL:https://www.whattododigital.com/event/jacob-burns-film-center-fantasy-life-2/
LOCATION:Jacob Burns Film Center
CATEGORIES:Movies
ATTACH;FMTTYPE=image/jpeg:https://www.whattododigital.com/wp-content/uploads/2026/03/JBFC_Fantasy-Life.jpg
END:VEVENT
END:VCALENDAR