BEGIN:VCALENDAR
VERSION:2.0
PRODID:-//What To Do - ECPv6.15.20//NONSGML v1.0//EN
CALSCALE:GREGORIAN
METHOD:PUBLISH
X-WR-CALNAME:What To Do
X-ORIGINAL-URL:https://www.whattododigital.com
X-WR-CALDESC:Events for What To Do
REFRESH-INTERVAL;VALUE=DURATION:PT1H
X-Robots-Tag:noindex
X-PUBLISHED-TTL:PT1H
BEGIN:VTIMEZONE
TZID:America/New_York
BEGIN:DAYLIGHT
TZOFFSETFROM:-0500
TZOFFSETTO:-0400
TZNAME:EDT
DTSTART:20250309T070000
END:DAYLIGHT
BEGIN:STANDARD
TZOFFSETFROM:-0400
TZOFFSETTO:-0500
TZNAME:EST
DTSTART:20251102T060000
END:STANDARD
BEGIN:DAYLIGHT
TZOFFSETFROM:-0500
TZOFFSETTO:-0400
TZNAME:EDT
DTSTART:20260308T070000
END:DAYLIGHT
BEGIN:STANDARD
TZOFFSETFROM:-0400
TZOFFSETTO:-0500
TZNAME:EST
DTSTART:20261101T060000
END:STANDARD
BEGIN:DAYLIGHT
TZOFFSETFROM:-0500
TZOFFSETTO:-0400
TZNAME:EDT
DTSTART:20270314T070000
END:DAYLIGHT
BEGIN:STANDARD
TZOFFSETFROM:-0400
TZOFFSETTO:-0500
TZNAME:EST
DTSTART:20271107T060000
END:STANDARD
END:VTIMEZONE
BEGIN:VEVENT
DTSTART;VALUE=DATE:20260404
DTEND;VALUE=DATE:20260405
DTSTAMP:20260425T184441
CREATED:20260330T165618Z
LAST-MODIFIED:20260330T165618Z
UID:94124-1775260800-1775347199@www.whattododigital.com
SUMMARY:Bedford Playhouse: The Super Mario Galaxy
DESCRIPTION:Bedford Playhouse: The Super Mario Galaxy \nThe Super Mario Galaxy Movie is an animated film based on the world of Super Mario Bros.\, and follows The Super Mario Bros. Movie\, which was released in 2023 and earned more than $1.3 billion worldwide. Both the 2023 film and The Super Mario Galaxy Movie are produced by Chris Meledandri of Illumination and Shigeru Miyamoto of Nintendo. \nBedford Playhouse
URL:https://www.whattododigital.com/event/bedford-playhouse-the-super-mario-galaxy-7/
LOCATION:The Bedford Playhouse\, 633 Old Post Rd.\, Bedford Village\, NY\, 10506\, United States
CATEGORIES:Kids,Movies
ATTACH;FMTTYPE=image/jpeg:https://www.whattododigital.com/wp-content/uploads/2026/03/BPH_Super-Mario.jpeg
END:VEVENT
BEGIN:VEVENT
DTSTART;VALUE=DATE:20260404
DTEND;VALUE=DATE:20260405
DTSTAMP:20260425T184441
CREATED:20260330T195547Z
LAST-MODIFIED:20260330T195547Z
UID:94176-1775260800-1775347199@www.whattododigital.com
SUMMARY:New York Botanical Garden Cherry Blossoms
DESCRIPTION:New York Botanical Garden Cherry Blossoms \nApril is the best time to see the Cherry Blossoms at the New York Botanical Garden. \nMore than 200 flowering cherry trees are planted across the Garden’s historic landscape\, and their cheerful pink and white blossoms follow shortly after the magnolias in spring. \nNew York Botanical Garden
URL:https://www.whattododigital.com/event/new-york-botanical-garden-cherry-blossoms/
LOCATION:New York Botanical Garden\, 2900 Southern Blvd.\, Bronx\, NY\, 10458-5126\, United States
CATEGORIES:Outdoors
ATTACH;FMTTYPE=image/jpeg:https://www.whattododigital.com/wp-content/uploads/2022/04/NYBG_Cherry-Trees-e1650901046422.jpg
END:VEVENT
BEGIN:VEVENT
DTSTART;TZID=America/New_York:20260404T110000
DTEND;TZID=America/New_York:20260404T110000
DTSTAMP:20260425T184441
CREATED:20260309T161547Z
LAST-MODIFIED:20260309T161547Z
UID:93909-1775300400-1775300400@www.whattododigital.com
SUMMARY:Jacob Burns Film Center Jewish Film Festival: A Thre Course Meal... Three Food Films
DESCRIPTION:Jacob Burns Film Center Jewish Film Festival: A Thre Course Meal… Three Food Films \nA cinematic feast about the joys and importance of food\, this program includes the film equivalent of an appetizer\, a beverage\, and an entree. Including Orna and Ella\, a documentary of a Tel Aviv restaurant; Double Happiness\, about the Jewish tradition of  eating at Chinese restaurants on Christmas; and Egg Cream\, a celebration of the enduring fountain treat–one of the few affordable pleasures available to tenement dwellers in the early 20th century. \nJacob Burns Film Center
URL:https://www.whattododigital.com/event/jacob-burns-film-center-jewish-film-festival-a-thre-course-meal-three-food-films-2/
LOCATION:Jacob Burns Film Center
CATEGORIES:Movies
ATTACH;FMTTYPE=image/jpeg:https://www.whattododigital.com/wp-content/uploads/2026/03/JBFC_3-Food-Films.jpg
END:VEVENT
BEGIN:VEVENT
DTSTART;TZID=America/New_York:20260404T161500
DTEND;TZID=America/New_York:20260404T161500
DTSTAMP:20260425T184441
CREATED:20260309T155604Z
LAST-MODIFIED:20260309T155604Z
UID:93894-1775319300-1775319300@www.whattododigital.com
SUMMARY:Jacob Burns Film Center Jewish Film Festival: The Last Spy
DESCRIPTION:Jacob Burns Film Center Jewish Film Festival: The Last Spy \nPeter Sichel\, born in 1922 into a wealthy German Jewish wine family\, fled with them to the United States. Joining the army as soon as America enters the war\, he was assigned to the newly created Office of Strategic Services\, beginning an astonishing globe-trotting career as a master spy. At the age of 100\, he sat down to tell his amazing story\, taking us through the defeat of Germany\, rescues at Dachau\, the Cold War\, the attempted overthrow of Indonesian president Sukarno\, and incursions in Communist China. \nJacob Burns Film Center
URL:https://www.whattododigital.com/event/jacob-burns-film-center-jewish-film-festival-the-last-spy-2/
LOCATION:Jacob Burns Film Center
CATEGORIES:Movies
ATTACH;FMTTYPE=image/jpeg:https://www.whattododigital.com/wp-content/uploads/2026/03/JBFC_Last-Spy.jpg
END:VEVENT
BEGIN:VEVENT
DTSTART;TZID=America/New_York:20260404T190000
DTEND;TZID=America/New_York:20260404T190000
DTSTAMP:20260425T184441
CREATED:20260309T151922Z
LAST-MODIFIED:20260309T151922Z
UID:93852-1775329200-1775329200@www.whattododigital.com
SUMMARY:Jacob Burns Film Center Jewish Film Festival: My Underground Mother
DESCRIPTION:Jacob Burns Film Center Jewish Film Festival: My Underground Mother \nIn this documentary\, Marisa Fox uncovers the truth about her mother’s time in a Nazi-run forced labor camp for women. \nJacob Burns Film Center
URL:https://www.whattododigital.com/event/jacob-burns-film-center-jewish-film-festival-my-underground-mother-2/
LOCATION:Jacob Burns Film Center
CATEGORIES:Movies
ATTACH;FMTTYPE=image/jpeg:https://www.whattododigital.com/wp-content/uploads/2026/03/JBFC_Underground-Mom.jpg
END:VEVENT
BEGIN:VEVENT
DTSTART;TZID=America/New_York:20260404T200000
DTEND;TZID=America/New_York:20260404T200000
DTSTAMP:20260425T184442
CREATED:20260302T194938Z
LAST-MODIFIED:20260302T194938Z
UID:93788-1775332800-1775332800@www.whattododigital.com
SUMMARY:Capitol Theatre: Diana Krall
DESCRIPTION:Capitol Theatre: Diana Krall \nDiana Krall is the only jazz singer to have eight albums debut at the top of the Billboard Jazz Albums chart. To date\, her albums have garnered two Grammy® Awards\, ten Juno® Awards and have also earned nine gold\, three platinum and seven multi-platinum albums. \nThe Capitol Theatre
URL:https://www.whattododigital.com/event/capitol-theatre-diana-krall/
LOCATION:The Capitol Theatre\, 149 Westchester Avenue\, Port Chester\, NY\, 10573\, United States
CATEGORIES:Music
ATTACH;FMTTYPE=image/webp:https://www.whattododigital.com/wp-content/uploads/2026/03/Cap_dianaKrall.webp
END:VEVENT
BEGIN:VEVENT
DTSTART;TZID=America/New_York:20260404T200000
DTEND;TZID=America/New_York:20260404T200000
DTSTAMP:20260425T184442
CREATED:20260323T150204Z
LAST-MODIFIED:20260323T150318Z
UID:94028-1775332800-1775332800@www.whattododigital.com
SUMMARY:Tarrytown Music Hall: An Evening with Chris Thile
DESCRIPTION:Tarrytown Music Hall: An Evening with Chris Thile \nThile is a founding member of the highly influential string bands Punch Brothers and Nickel Creek\, and has collaborated with countless luminaries from Yo-Yo Ma to Fiona Apple to Brad Mehldau. \nTARRYTOWN MUSIC HALL
URL:https://www.whattododigital.com/event/tarrytown-music-hall-an-evening-with-chris-thile/
LOCATION:Tarrytown Music Hall
CATEGORIES:Music
ATTACH;FMTTYPE=image/jpeg:https://www.whattododigital.com/wp-content/uploads/2026/03/TMH_Chris-Thile.jpg
END:VEVENT
END:VCALENDAR