BEGIN:VCALENDAR
VERSION:2.0
PRODID:-//What To Do - ECPv6.15.20//NONSGML v1.0//EN
CALSCALE:GREGORIAN
METHOD:PUBLISH
X-ORIGINAL-URL:https://www.whattododigital.com
X-WR-CALDESC:Events for What To Do
REFRESH-INTERVAL;VALUE=DURATION:PT1H
X-Robots-Tag:noindex
X-PUBLISHED-TTL:PT1H
BEGIN:VTIMEZONE
TZID:America/New_York
BEGIN:DAYLIGHT
TZOFFSETFROM:-0500
TZOFFSETTO:-0400
TZNAME:EDT
DTSTART:20250309T070000
END:DAYLIGHT
BEGIN:STANDARD
TZOFFSETFROM:-0400
TZOFFSETTO:-0500
TZNAME:EST
DTSTART:20251102T060000
END:STANDARD
BEGIN:DAYLIGHT
TZOFFSETFROM:-0500
TZOFFSETTO:-0400
TZNAME:EDT
DTSTART:20260308T070000
END:DAYLIGHT
BEGIN:STANDARD
TZOFFSETFROM:-0400
TZOFFSETTO:-0500
TZNAME:EST
DTSTART:20261101T060000
END:STANDARD
BEGIN:DAYLIGHT
TZOFFSETFROM:-0500
TZOFFSETTO:-0400
TZNAME:EDT
DTSTART:20270314T070000
END:DAYLIGHT
BEGIN:STANDARD
TZOFFSETFROM:-0400
TZOFFSETTO:-0500
TZNAME:EST
DTSTART:20271107T060000
END:STANDARD
END:VTIMEZONE
BEGIN:VEVENT
DTSTART;VALUE=DATE:20260410
DTEND;VALUE=DATE:20260411
DTSTAMP:20260425T185305
CREATED:20260330T170049Z
LAST-MODIFIED:20260330T170049Z
UID:94133-1775779200-1775865599@www.whattododigital.com
SUMMARY:Bedford Playhouse: The Super Mario Galaxy
DESCRIPTION:Bedford Playhouse: The Super Mario Galaxy \nThe Super Mario Galaxy Movie is an animated film based on the world of Super Mario Bros.\, and follows The Super Mario Bros. Movie\, which was released in 2023 and earned more than $1.3 billion worldwide. Both the 2023 film and The Super Mario Galaxy Movie are produced by Chris Meledandri of Illumination and Shigeru Miyamoto of Nintendo. \nBedford Playhouse
URL:https://www.whattododigital.com/event/bedford-playhouse-the-super-mario-galaxy-10/
LOCATION:The Bedford Playhouse\, 633 Old Post Rd.\, Bedford Village\, NY\, 10506\, United States
CATEGORIES:Kids,Movies
ATTACH;FMTTYPE=image/jpeg:https://www.whattododigital.com/wp-content/uploads/2026/03/BPH_Super-Mario.jpeg
END:VEVENT
BEGIN:VEVENT
DTSTART;TZID=America/New_York:20260410T193000
DTEND;TZID=America/New_York:20260410T193000
DTSTAMP:20260425T185305
CREATED:20260112T173349Z
LAST-MODIFIED:20260112T173349Z
UID:93497-1775849400-1775849400@www.whattododigital.com
SUMMARY:White Plains Performing Arts Center: Catch Me If You Can
DESCRIPTION:White Plains Performing Arts Center: Catch Me If You Can \nBased on the hit film and the incredible true story…\nCatch Me If You Can is the high-flying musical comedy about chasing your dreams and not getting caught. Nominated for four Tony awards\, including Best Musical\, Catch Me If You Can was created by a Tony Award-winning “dream team\,” with a book by Terrence McNally (The Full Monty\, Ragtime) and a swinging score by Marc Shaiman and Scott Wittman (Hairspray). \nSeeking fame and fortune\, Frank Abagnale\, Jr.\, runs away from home to begin an unforgettable adventure. With nothing more than his boyish charm\, a big imagination and millions of dollars in forged checks\, Frank successfully poses as a pilot\, a doctor and a lawyer – living the high life and winning the girl of his dreams. When Frank’s lies catch the attention of FBI agent\, Carl Hanratty\, he pursues Frank across the country to make him pay for his crimes. \nOpens on April 10 and runs for 15 performances through May 3. \nWhite Plains Performing Arts Center
URL:https://www.whattododigital.com/event/white-plains-performing-arts-center-catch-me-if-you-can/
LOCATION:White Plains Performing Arts Center
CATEGORIES:Arts
ATTACH;FMTTYPE=image/jpeg:https://www.whattododigital.com/wp-content/uploads/2026/01/WPPAC_CMIYC-Showpage-min.jpeg
END:VEVENT
BEGIN:VEVENT
DTSTART;TZID=America/New_York:20260410T200000
DTEND;TZID=America/New_York:20260410T200000
DTSTAMP:20260425T185305
CREATED:20260105T213725Z
LAST-MODIFIED:20260105T213725Z
UID:93191-1775851200-1775851200@www.whattododigital.com
SUMMARY:Paramount Hudson Valley: David Sedaris
DESCRIPTION:Paramount Hudson Valley: David Sedaris \nA master of satire and observational wit\, Sedaris has made millions laugh and think with his razor-sharp essays\, endearing storytelling\, and self-deprecating humor. Known for transforming the ordinary into the extraordinary\, his live readings offer an intimate glimpse into the clever\, quirky world that has made him one of the most beloved literary voices of our time. \nParamount Hudson Valley
URL:https://www.whattododigital.com/event/paramount-hudson-valley-david-sedaris/
LOCATION:Paramount Hudson Valley
CATEGORIES:Arts
ATTACH;FMTTYPE=image/jpeg:https://www.whattododigital.com/wp-content/uploads/2026/01/Paramount_David-Sedaris-copy.jpg
END:VEVENT
BEGIN:VEVENT
DTSTART;TZID=America/New_York:20260410T200000
DTEND;TZID=America/New_York:20260410T200000
DTSTAMP:20260425T185305
CREATED:20260302T200638Z
LAST-MODIFIED:20260302T200638Z
UID:93800-1775851200-1775851200@www.whattododigital.com
SUMMARY:Capitol Theatre: Gillian Welch & David Rawlings play Grateful Dead Acoustic Reckoning
DESCRIPTION:Capitol Theatre: Gillian Welch & David Rawlings play Grateful Dead Acoustic Reckoning \nHailed by Pitchfork as “modern masters of American folk” and “protectors of the American folk song” by Rolling Stone and the New York Times\, Gillian Welch & David Rawlings perform The Grateful Dead’s live acoustic double-album Reckoning on April 9\, 10 & 11. \nCapitol Theatre Port Chester
URL:https://www.whattododigital.com/event/capitol-theatre-gillian-welch-david-rawlings-play-grateful-dead-acoustic-reckoning-2/
LOCATION:The Capitol Theatre\, 149 Westchester Avenue\, Port Chester\, NY\, 10573\, United States
ATTACH;FMTTYPE=image/jpeg:https://www.whattododigital.com/wp-content/uploads/2026/03/Cap_welchRawlings-copy.jpg
END:VEVENT
END:VCALENDAR