BEGIN:VCALENDAR
VERSION:2.0
PRODID:-//What To Do - ECPv6.15.20//NONSGML v1.0//EN
CALSCALE:GREGORIAN
METHOD:PUBLISH
X-WR-CALNAME:What To Do
X-ORIGINAL-URL:https://www.whattododigital.com
X-WR-CALDESC:Events for What To Do
REFRESH-INTERVAL;VALUE=DURATION:PT1H
X-Robots-Tag:noindex
X-PUBLISHED-TTL:PT1H
BEGIN:VTIMEZONE
TZID:America/New_York
BEGIN:DAYLIGHT
TZOFFSETFROM:-0500
TZOFFSETTO:-0400
TZNAME:EDT
DTSTART:20250309T070000
END:DAYLIGHT
BEGIN:STANDARD
TZOFFSETFROM:-0400
TZOFFSETTO:-0500
TZNAME:EST
DTSTART:20251102T060000
END:STANDARD
BEGIN:DAYLIGHT
TZOFFSETFROM:-0500
TZOFFSETTO:-0400
TZNAME:EDT
DTSTART:20260308T070000
END:DAYLIGHT
BEGIN:STANDARD
TZOFFSETFROM:-0400
TZOFFSETTO:-0500
TZNAME:EST
DTSTART:20261101T060000
END:STANDARD
BEGIN:DAYLIGHT
TZOFFSETFROM:-0500
TZOFFSETTO:-0400
TZNAME:EDT
DTSTART:20270314T070000
END:DAYLIGHT
BEGIN:STANDARD
TZOFFSETFROM:-0400
TZOFFSETTO:-0500
TZNAME:EST
DTSTART:20271107T060000
END:STANDARD
END:VTIMEZONE
BEGIN:VEVENT
DTSTART;TZID=America/New_York:20260423T140000
DTEND;TZID=America/New_York:20260423T140000
DTSTAMP:20260423T015444
CREATED:20260324T171237Z
LAST-MODIFIED:20260324T171237Z
UID:94054-1776952800-1776952800@www.whattododigital.com
SUMMARY:White Plains Performing Arts Center: Catch Me If You Can
DESCRIPTION:White Plains Performing Arts Center: Catch Me If You Can \nBased on the hit film and the incredible true story…\nCatch Me If You Can is the high-flying musical comedy about chasing your dreams and not getting caught. Nominated for four Tony awards\, including Best Musical\, Catch Me If You Can was created by a Tony Award-winning “dream team\,” with a book by Terrence McNally (The Full Monty\, Ragtime) and a swinging score by Marc Shaiman and Scott Wittman (Hairspray). \nSeeking fame and fortune\, Frank Abagnale\, Jr.\, runs away from home to begin an unforgettable adventure. With nothing more than his boyish charm\, a big imagination and millions of dollars in forged checks\, Frank successfully poses as a pilot\, a doctor and a lawyer – living the high life and winning the girl of his dreams. When Frank’s lies catch the attention of FBI agent\, Carl Hanratty\, he pursues Frank across the country to make him pay for his crimes. \nOpens on April 10 and runs for 15 performances through May 3. \nWhite Plains Performing Arts Center
URL:https://www.whattododigital.com/event/white-plains-performing-arts-center-catch-me-if-you-can-7/
LOCATION:White Plains Performing Arts Center
CATEGORIES:Arts
ATTACH;FMTTYPE=image/jpeg:https://www.whattododigital.com/wp-content/uploads/2026/01/WPPAC_CMIYC-Showpage-min.jpeg
END:VEVENT
BEGIN:VEVENT
DTSTART;TZID=America/New_York:20260423T160000
DTEND;TZID=America/New_York:20260423T160000
DTSTAMP:20260423T015444
CREATED:20260406T155521Z
LAST-MODIFIED:20260406T155521Z
UID:94285-1776960000-1776960000@www.whattododigital.com
SUMMARY:JBFC: Frederick Wiseman's America— Domestic Violence
DESCRIPTION:JBFC: Frederick Wiseman’s America— Domestic Violence \nDomestic Violence shows the police in Tampa\, Florida as they respond to domestic violence calls\, in addition to the work of The Spring\, the principal shelter in Tampa for women and children. Sequences with the police include police response\, intervention\, and attempted resolution of domestic violence calls. Sequences at the shelter include intake interviews\, individual counseling sessions\, anger management training\, group therapy\, conversations among clients and between clients and staff\, and staff meetings\, along with school activities\, therapy\, and counseling for children at the shelter. \nJacob Burns Film Center
URL:https://www.whattododigital.com/event/jbfc-frederick-wisemans-america-domestic-violence/
LOCATION:Jacob Burns Film Center
CATEGORIES:Movies
ATTACH;FMTTYPE=image/jpeg:https://www.whattododigital.com/wp-content/uploads/2026/04/JBFC_Wiseman_DomesticViolence.jpg
END:VEVENT
BEGIN:VEVENT
DTSTART;TZID=America/New_York:20260423T190000
DTEND;TZID=America/New_York:20260423T190000
DTSTAMP:20260423T015444
CREATED:20260330T184902Z
LAST-MODIFIED:20260330T184902Z
UID:94143-1776970800-1776970800@www.whattododigital.com
SUMMARY:Mount Kisco Child Care Center Spring Fling
DESCRIPTION:Mount Kisco Child Care Center Spring Fling \nJoin MKCCC for an evening of wine and hors d’oeuvres as we celebrate key supporters who have shaped MKCCC’s growth and lasting role in our community — and learn how your support helps provide scholarships for local working families. \nMount Kisco Child Care Center
URL:https://www.whattododigital.com/event/mount-kisco-child-care-center-spring-fling/
LOCATION:Mount Kisco Child Care Center\, 95 Radio Circle\, Mt. Kisco\, NY\, 10549\, United States
CATEGORIES:Benefits
ATTACH;FMTTYPE=image/jpeg:https://www.whattododigital.com/wp-content/uploads/2026/03/MKCCC_Spring-Fling.jpg
END:VEVENT
END:VCALENDAR