BEGIN:VCALENDAR
VERSION:2.0
PRODID:-//What To Do - ECPv6.15.20//NONSGML v1.0//EN
CALSCALE:GREGORIAN
METHOD:PUBLISH
X-WR-CALNAME:What To Do
X-ORIGINAL-URL:https://www.whattododigital.com
X-WR-CALDESC:Events for What To Do
REFRESH-INTERVAL;VALUE=DURATION:PT1H
X-Robots-Tag:noindex
X-PUBLISHED-TTL:PT1H
BEGIN:VTIMEZONE
TZID:America/New_York
BEGIN:DAYLIGHT
TZOFFSETFROM:-0500
TZOFFSETTO:-0400
TZNAME:EDT
DTSTART:20250309T070000
END:DAYLIGHT
BEGIN:STANDARD
TZOFFSETFROM:-0400
TZOFFSETTO:-0500
TZNAME:EST
DTSTART:20251102T060000
END:STANDARD
BEGIN:DAYLIGHT
TZOFFSETFROM:-0500
TZOFFSETTO:-0400
TZNAME:EDT
DTSTART:20260308T070000
END:DAYLIGHT
BEGIN:STANDARD
TZOFFSETFROM:-0400
TZOFFSETTO:-0500
TZNAME:EST
DTSTART:20261101T060000
END:STANDARD
BEGIN:DAYLIGHT
TZOFFSETFROM:-0500
TZOFFSETTO:-0400
TZNAME:EDT
DTSTART:20270314T070000
END:DAYLIGHT
BEGIN:STANDARD
TZOFFSETFROM:-0400
TZOFFSETTO:-0500
TZNAME:EST
DTSTART:20271107T060000
END:STANDARD
END:VTIMEZONE
BEGIN:VEVENT
DTSTART;TZID=America/New_York:20260505T193000
DTEND;TZID=America/New_York:20260505T193000
DTSTAMP:20260425T121816
CREATED:20260420T210214Z
LAST-MODIFIED:20260420T210214Z
UID:94521-1778009400-1778009400@www.whattododigital.com
SUMMARY:Ridgefield Playhouse: Madeleine Peyroux
DESCRIPTION:Ridgefield Playhouse: Madeleine Peyroux \nIn venues across Canada and the U.S\, Madeline Peyroux’s will reunite for her We Are America tour with the intimate trio of her 2016 Secular Hymns album: upright bassist Barak Mori\, guitarist Jon Herington\, and will deliver original tunes and covers by Judy Collins\, Billie Holiday\, Bob Dylan\, Nick Lowe and Allen Toussaint – writer of the iconic “We Are America/Yes We Can.” \nRidgefield Playhouse
URL:https://www.whattododigital.com/event/ridgefield-playhouse-madeleine-peyroux/
LOCATION:The Ridgefield Playhouse\, 80 East Ridge\, Ridfgefield\, CT\, 06877\, United States
CATEGORIES:Music
ATTACH;FMTTYPE=image/jpeg:https://www.whattododigital.com/wp-content/uploads/2026/04/RPH-MADELEINE-PEYROUX-550x800-2-copy.jpg
END:VEVENT
END:VCALENDAR