BEGIN:VCALENDAR
VERSION:2.0
PRODID:-//What To Do - ECPv6.15.20//NONSGML v1.0//EN
CALSCALE:GREGORIAN
METHOD:PUBLISH
X-WR-CALNAME:What To Do
X-ORIGINAL-URL:https://www.whattododigital.com
X-WR-CALDESC:Events for What To Do
REFRESH-INTERVAL;VALUE=DURATION:PT1H
X-Robots-Tag:noindex
X-PUBLISHED-TTL:PT1H
BEGIN:VTIMEZONE
TZID:America/New_York
BEGIN:DAYLIGHT
TZOFFSETFROM:-0500
TZOFFSETTO:-0400
TZNAME:EDT
DTSTART:20250309T070000
END:DAYLIGHT
BEGIN:STANDARD
TZOFFSETFROM:-0400
TZOFFSETTO:-0500
TZNAME:EST
DTSTART:20251102T060000
END:STANDARD
BEGIN:DAYLIGHT
TZOFFSETFROM:-0500
TZOFFSETTO:-0400
TZNAME:EDT
DTSTART:20260308T070000
END:DAYLIGHT
BEGIN:STANDARD
TZOFFSETFROM:-0400
TZOFFSETTO:-0500
TZNAME:EST
DTSTART:20261101T060000
END:STANDARD
BEGIN:DAYLIGHT
TZOFFSETFROM:-0500
TZOFFSETTO:-0400
TZNAME:EDT
DTSTART:20270314T070000
END:DAYLIGHT
BEGIN:STANDARD
TZOFFSETFROM:-0400
TZOFFSETTO:-0500
TZNAME:EST
DTSTART:20271107T060000
END:STANDARD
END:VTIMEZONE
BEGIN:VEVENT
DTSTART;TZID=America/New_York:20260509T110000
DTEND;TZID=America/New_York:20260509T110000
DTSTAMP:20260425T121810
CREATED:20260420T210801Z
LAST-MODIFIED:20260420T210801Z
UID:94527-1778324400-1778324400@www.whattododigital.com
SUMMARY:Ridgefield Playhouse: Don't Let The Pigeons Drive the Bus
DESCRIPTION:Ridgefield Playhouse: Don’t Let The Pigeons Drive the Bus \nTheaterWorksUSA presents Don’t Let the Pigeon Drive the Bus! The Musical! with a script written by Mo Willems\, the creator of the #1 New York Times best-selling\, Caldecott Honor award-winning “Pigeon” picture books\, and featuring music by Deborah Wicks La Puma (Elephant & Piggie’s We Are in a Play!). \nRidgefield Playhouse
URL:https://www.whattododigital.com/event/ridgefield-playhouse-dont-let-the-pigeons-drive-the-bus/
LOCATION:The Ridgefield Playhouse\, 80 East Ridge\, Ridfgefield\, CT\, 06877\, United States
CATEGORIES:Kids
ATTACH;FMTTYPE=image/jpeg:https://www.whattododigital.com/wp-content/uploads/2026/04/RPH-PIGEON-550x800-1.jpeg
END:VEVENT
BEGIN:VEVENT
DTSTART;TZID=America/New_York:20260509T130000
DTEND;TZID=America/New_York:20260509T130000
DTSTAMP:20260425T121810
CREATED:20260410T203922Z
LAST-MODIFIED:20260410T203922Z
UID:94351-1778331600-1778331600@www.whattododigital.com
SUMMARY:Palace Stamford: Shen Yun
DESCRIPTION:Palace Stamford: Shen Yun \nRevisit a time when scholars and artists sought harmony with the Tao\, and when divine beings walked the earth to inspire humanity. Shen Yun—the beauty of divine beings dancing—takes you on an extraordinary journey through China’s 5\,000 years of magnificent culture. \nPalace Stamford
URL:https://www.whattododigital.com/event/palace-stamford-shen-yun-3/
LOCATION:The Palace Stamford\, 61 Atlantic St.\, Stamford\, CT\, 06901\, United States
CATEGORIES:Arts
ATTACH;FMTTYPE=image/jpeg:https://www.whattododigital.com/wp-content/uploads/2026/04/Palace_shenyun26-copy.jpg
END:VEVENT
BEGIN:VEVENT
DTSTART;TZID=America/New_York:20260509T140000
DTEND;TZID=America/New_York:20260509T140000
DTSTAMP:20260425T121810
CREATED:20260420T210958Z
LAST-MODIFIED:20260420T210958Z
UID:94533-1778335200-1778335200@www.whattododigital.com
SUMMARY:Ridgefield Playhouse: Don't Let The Pigeons Drive the Bus
DESCRIPTION:Ridgefield Playhouse: Don’t Let The Pigeons Drive the Bus \nTheaterWorksUSA presents Don’t Let the Pigeon Drive the Bus! The Musical! with a script written by Mo Willems\, the creator of the #1 New York Times best-selling\, Caldecott Honor award-winning “Pigeon” picture books\, and featuring music by Deborah Wicks La Puma (Elephant & Piggie’s We Are in a Play!). \nRidgefield Playhouse
URL:https://www.whattododigital.com/event/ridgefield-playhouse-dont-let-the-pigeons-drive-the-bus-2/
LOCATION:The Ridgefield Playhouse\, 80 East Ridge\, Ridfgefield\, CT\, 06877\, United States
CATEGORIES:Kids
ATTACH;FMTTYPE=image/jpeg:https://www.whattododigital.com/wp-content/uploads/2026/04/RPH-PIGEON-550x800-1.jpeg
END:VEVENT
BEGIN:VEVENT
DTSTART;TZID=America/New_York:20260509T180000
DTEND;TZID=America/New_York:20260509T180000
DTSTAMP:20260425T121810
CREATED:20260410T204040Z
LAST-MODIFIED:20260410T204040Z
UID:94354-1778349600-1778349600@www.whattododigital.com
SUMMARY:Palace Stamford: Shen Yun
DESCRIPTION:Palace Stamford: Shen Yun \nRevisit a time when scholars and artists sought harmony with the Tao\, and when divine beings walked the earth to inspire humanity. Shen Yun—the beauty of divine beings dancing—takes you on an extraordinary journey through China’s 5\,000 years of magnificent culture. \nPalace Stamford
URL:https://www.whattododigital.com/event/palace-stamford-shen-yun-4/
LOCATION:The Palace Stamford\, 61 Atlantic St.\, Stamford\, CT\, 06901\, United States
CATEGORIES:Arts
ATTACH;FMTTYPE=image/jpeg:https://www.whattododigital.com/wp-content/uploads/2026/04/Palace_shenyun26-copy.jpg
END:VEVENT
BEGIN:VEVENT
DTSTART;TZID=America/New_York:20260509T200000
DTEND;TZID=America/New_York:20260509T200000
DTSTAMP:20260425T121810
CREATED:20260417T144918Z
LAST-MODIFIED:20260417T144918Z
UID:94414-1778356800-1778356800@www.whattododigital.com
SUMMARY:Paramount Hudson Valley: Ben Folds & A Piano
DESCRIPTION:Paramount Hudson Valley: Ben Folds & A Piano \nThe Emmy-nominated singer-songwriter-composer has created an enormous body of genre-bending music that includes pop albums with Ben Folds Five\, multiple solo albums\, and numerous collaborative records. \nParamount Hudson Valley
URL:https://www.whattododigital.com/event/paramount-hudson-valley-ben-folds-a-piano/
LOCATION:Paramount Hudson Valley
CATEGORIES:Music
ATTACH;FMTTYPE=image/jpeg:https://www.whattododigital.com/wp-content/uploads/2026/04/Paramount_Ben-Folds.jpeg
END:VEVENT
END:VCALENDAR