BEGIN:VCALENDAR
VERSION:2.0
PRODID:-//What To Do - ECPv6.15.20//NONSGML v1.0//EN
CALSCALE:GREGORIAN
METHOD:PUBLISH
X-ORIGINAL-URL:https://www.whattododigital.com
X-WR-CALDESC:Events for What To Do
REFRESH-INTERVAL;VALUE=DURATION:PT1H
X-Robots-Tag:noindex
X-PUBLISHED-TTL:PT1H
BEGIN:VTIMEZONE
TZID:America/New_York
BEGIN:DAYLIGHT
TZOFFSETFROM:-0500
TZOFFSETTO:-0400
TZNAME:EDT
DTSTART:20240310T070000
END:DAYLIGHT
BEGIN:STANDARD
TZOFFSETFROM:-0400
TZOFFSETTO:-0500
TZNAME:EST
DTSTART:20241103T060000
END:STANDARD
BEGIN:DAYLIGHT
TZOFFSETFROM:-0500
TZOFFSETTO:-0400
TZNAME:EDT
DTSTART:20250309T070000
END:DAYLIGHT
BEGIN:STANDARD
TZOFFSETFROM:-0400
TZOFFSETTO:-0500
TZNAME:EST
DTSTART:20251102T060000
END:STANDARD
BEGIN:DAYLIGHT
TZOFFSETFROM:-0500
TZOFFSETTO:-0400
TZNAME:EDT
DTSTART:20260308T070000
END:DAYLIGHT
BEGIN:STANDARD
TZOFFSETFROM:-0400
TZOFFSETTO:-0500
TZNAME:EST
DTSTART:20261101T060000
END:STANDARD
END:VTIMEZONE
BEGIN:VEVENT
DTSTART;TZID=America/New_York:20250918T190000
DTEND;TZID=America/New_York:20250918T190000
DTSTAMP:20260423T225748
CREATED:20250328T210852Z
LAST-MODIFIED:20250328T210852Z
UID:85735-1758222000-1758222000@www.whattododigital.com
SUMMARY:Palace Stamford: The Great Gatsby Ballet
DESCRIPTION:Palace Stamford: The Great Gatsby Ballet  \nStep into the jazzy world of the Roaring Twenties with this new Broadway-style ballet by the World Ballet Company. \nSee the glitz\, glamor\, and tragic romance of F. Scott Fitzgerald’s timeless novel LIVE on stage\, featuring a multinational cast of 40 professional ballet dancers\, an all-star creative team\, original jazz-inspired score\, multimedia effects\, acrobatics\, dazzling costumes\, and lavish sets. \nPalace Stamford
URL:https://www.whattododigital.com/event/palace-stamford-the-great-gatsby-ballet/
LOCATION:The Palace Stamford\, 61 Atlantic St.\, Stamford\, CT\, 06901\, United States
CATEGORIES:Arts
ATTACH;FMTTYPE=image/jpeg:https://www.whattododigital.com/wp-content/uploads/2025/03/Palace__Gatsby-Ballet-.jpeg
END:VEVENT
BEGIN:VEVENT
DTSTART;TZID=America/New_York:20250918T200000
DTEND;TZID=America/New_York:20250918T200000
DTSTAMP:20260423T225748
CREATED:20250807T143956Z
LAST-MODIFIED:20250807T143956Z
UID:88092-1758225600-1758225600@www.whattododigital.com
SUMMARY:Tarrytown Music Hall: Garrison Keillor Tonight
DESCRIPTION:Tarrytown Music Hall: Garrison Keillor Tonight \nGarrison Keillor Tonight is an evening of stand-up\, storytelling\, audience song\, and poetry. One man\, one microphone. There are sung sonnets\, limericks and musical jokes\, and the thread that runs through it is the beauty of growing old. \nTarrytown Music Hall
URL:https://www.whattododigital.com/event/tarrytown-music-hall-garrison-keillor-tonight/
LOCATION:Tarrytown Music Hall
CATEGORIES:Arts
ATTACH;FMTTYPE=image/jpeg:https://www.whattododigital.com/wp-content/uploads/2025/04/RPH-GARRISON-KEILLOR-550x800-1-copy.jpg
END:VEVENT
BEGIN:VEVENT
DTSTART;TZID=America/New_York:20250920T200000
DTEND;TZID=America/New_York:20250920T200000
DTSTAMP:20260423T225748
CREATED:20250814T115839Z
LAST-MODIFIED:20250814T120250Z
UID:88220-1758398400-1758398400@www.whattododigital.com
SUMMARY:Tarrytown Music Hall: Limón Dance Company
DESCRIPTION:Tarrytown Music Hall: Limón Dance Company \nFounded in 1946 by José Limón and Doris Humphrey\, the Limón Dance Company has been at the vanguard of American Modern dance since its inception and is considered one of the world’s greatest dance companies. \nHere they perform a reimagining of the Orpheus and Eurydice myth\, a work inspired by Bach’s intricate compositions\, and a composition that distills Othello’s tragic tale into elegant Renaissance-inspired dances set to Purcell’s music. \nTarrytown Music Hall
URL:https://www.whattododigital.com/event/tarrytown-music-hall-limon-dance-company/
LOCATION:CT
CATEGORIES:Arts
ATTACH;FMTTYPE=image/jpeg:https://www.whattododigital.com/wp-content/uploads/2025/08/TMH_Limon-Dance.jpeg
END:VEVENT
BEGIN:VEVENT
DTSTART;TZID=America/New_York:20250921T193000
DTEND;TZID=America/New_York:20250921T193000
DTSTAMP:20260423T225748
CREATED:20250814T143904Z
LAST-MODIFIED:20250814T144025Z
UID:88266-1758483000-1758483000@www.whattododigital.com
SUMMARY:Ridgefield Playhouse: Samantha Bee: How to Survive Menopause
DESCRIPTION:Ridgefield Playhouse: Samantha Bee: How to Survive Menopause \nThe longest running “correspondent” on Comedy Central\, in 2016\, Bee received global recognition from the success of her very own weekly late-night comedy series\, Full Frontal with Samantha Bee\, which premiered in 2016 and ran for seven seasons on TBS. \nRidgefield Playhouse
URL:https://www.whattododigital.com/event/ridgefield-playhouse-samantha-bee-how-to-survive-menopause/
LOCATION:The Ridgefield Playhouse\, 80 East Ridge\, Ridfgefield\, CT\, 06877\, United States
CATEGORIES:Arts
ATTACH;FMTTYPE=image/jpeg:https://www.whattododigital.com/wp-content/uploads/2025/08/RPH-SAMANTHA-BEE-550x800-1.jpg
END:VEVENT
BEGIN:VEVENT
DTSTART;TZID=America/New_York:20250924T193000
DTEND;TZID=America/New_York:20250924T193000
DTSTAMP:20260423T225748
CREATED:20250807T150156Z
LAST-MODIFIED:20250814T114649Z
UID:88108-1758742200-1758742200@www.whattododigital.com
SUMMARY:Tarrytown Music Hall: Kevin James: Owls Don't Walk
DESCRIPTION:Tarrytown Music Hall: Kevin James: Owls Don’t Walk \nKevin (King of Queens\, Paul Blart: Mall Cop\, Zookeeper) James brings his new stand up show\, Owls Don’t Walk to the Tarrytown Music Hall. \nJames can currently be seen in his one hour stand-up comedy special Kevin James: Irregardless on Prime Video\, which was nominated for 2024’s Best Comedy Special by the Critics Choice Awards. James will also be starring in the upcoming feature film Playdate\, alongside Alan Ritchson. \nTarrytown Music Hall
URL:https://www.whattododigital.com/event/tarrytown-music-hall-kevin-james-owls-dont-walk/
LOCATION:Tarrytown Music Hall
CATEGORIES:Arts
ATTACH;FMTTYPE=image/jpeg:https://www.whattododigital.com/wp-content/uploads/2025/08/TMH_KevinJames-2.jpeg
END:VEVENT
BEGIN:VEVENT
DTSTART;TZID=America/New_York:20250924T200000
DTEND;TZID=America/New_York:20250924T200000
DTSTAMP:20260423T225748
CREATED:20250814T144914Z
LAST-MODIFIED:20250814T144914Z
UID:88277-1758744000-1758744000@www.whattododigital.com
SUMMARY:Ridgefield Playhouse: Asi Wind—More Than Magic
DESCRIPTION:Ridgefield Playhouse: Asi Wind—More Than Magic \nAsi Wind has been praised by the New York Times as “one of the great magicians of our time” and awarded Magician of the Year by Hollywood’s Magic Castle. His sold-out off-Broadway run\, Asi Wind’s Inner Circle\, garnered rave reviews from New York audiences. Asi then ran for 6 months to sold out audiences on the West End in his hit show Incredibly Human. \nRidgefield Playhouse
URL:https://www.whattododigital.com/event/ridgefield-playhouse-asi-wind-more-than-magic/
LOCATION:The Ridgefield Playhouse\, 80 East Ridge\, Ridfgefield\, CT\, 06877\, United States
CATEGORIES:Arts
ATTACH;FMTTYPE=image/jpeg:https://www.whattododigital.com/wp-content/uploads/2025/08/RPH-ASI-WIND-550x800-1.jpg
END:VEVENT
BEGIN:VEVENT
DTSTART;TZID=America/New_York:20250925T190000
DTEND;TZID=America/New_York:20250925T190000
DTSTAMP:20260423T225748
CREATED:20250804T210708Z
LAST-MODIFIED:20250804T210708Z
UID:88010-1758826800-1758826800@www.whattododigital.com
SUMMARY:Bedford Playhouse: Somm plus wine tasting
DESCRIPTION:Bedford Playhouse: Somm plus wine tasting \nA special film/epicurean event. \nFirst\, Sommelier Sean Sperazza will present a flight of 3-5 wines for tasting inspired by classic Somm testing. \nThen\, a screening of the documentary Somm\, winner of the best documentary feature at the 2013 San Luis Obispo Film Festival. \nBedford Playhouse
URL:https://www.whattododigital.com/event/bedford-playhouse-somm-plus-wine-tasting/
LOCATION:Bedford Playhouse
CATEGORIES:Arts,Food,Movies
ATTACH;FMTTYPE=image/jpeg:https://www.whattododigital.com/wp-content/uploads/2025/08/BPH_Somm.jpeg
END:VEVENT
BEGIN:VEVENT
DTSTART;TZID=America/New_York:20250925T190000
DTEND;TZID=America/New_York:20250925T190000
DTSTAMP:20260423T225748
CREATED:20250814T120959Z
LAST-MODIFIED:20250814T124933Z
UID:88228-1758826800-1758826800@www.whattododigital.com
SUMMARY:Tarrytown Music Hall: Justin Willman: One for the Ages Tour
DESCRIPTION:Tarrytown Music Hall: Justin Willman: One for the Ages Tour \nWillman is best known as the star and creator of Netflix’s Magic for Humans and Magic Prank Show\, where his signature mix of mind-blowing magic and relatable humor has made him a streaming favorite\, a viral hit (1 billion views and counting)\, and a fan favorite for families\, comedy lovers\, and skeptics alike. \nTarrytown Music Hall
URL:https://www.whattododigital.com/event/tarrytown-music-hall-justin-willman-one-for-the-ages-tour/
LOCATION:Tarrytown Music Hall
CATEGORIES:Arts
ATTACH;FMTTYPE=image/jpeg:https://www.whattododigital.com/wp-content/uploads/2025/08/TMH_JustinWillman25fb2.jpeg
END:VEVENT
BEGIN:VEVENT
DTSTART;TZID=America/New_York:20250925T200000
DTEND;TZID=America/New_York:20250925T200000
DTSTAMP:20260423T225748
CREATED:20250814T144520Z
LAST-MODIFIED:20250814T144520Z
UID:88271-1758830400-1758830400@www.whattododigital.com
SUMMARY:Ridgefield Playhouse: Randy Rainbow: National Freakin' Treasure
DESCRIPTION:Ridgefield Playhouse: Randy Rainbow: National Freakin’ Treasure \nRandy Rainbow is a highly acclaimed American comedian\, producer\, actor\, singer\, writer\, satirist\, and host\, recognized for his popular web series\, The Randy Rainbow Show. \nHis musical parodies and political spoofs have earned him global recognition\, as well as four consecutive EMMY® nominations for Outstanding Short-Form Variety Series. \nRidgefield Playhouse
URL:https://www.whattododigital.com/event/ridgefield-playhouse-randy-rainbow-national-freakin-treasure/
LOCATION:The Ridgefield Playhsoue
CATEGORIES:Arts
ATTACH;FMTTYPE=image/jpeg:https://www.whattododigital.com/wp-content/uploads/2025/08/RPH-RANDY-RAINBOW-550x800-3.jpg
END:VEVENT
BEGIN:VEVENT
DTSTART;TZID=America/New_York:20250926T200000
DTEND;TZID=America/New_York:20250926T200000
DTSTAMP:20260423T225748
CREATED:20250812T214859Z
LAST-MODIFIED:20250812T214859Z
UID:88211-1758916800-1758916800@www.whattododigital.com
SUMMARY:Armonk Players: The Haunted Word–The Tales of Edgar Allen Poe
DESCRIPTION:Armonk Players: The Haunted Word–The Tales of Edgar Allen Poe \nStep into the eerie\, intoxicating world of Edgar Allan Poe\, the master of the macabre\, in an evening of dramatic staged readings that bring his most iconic works—and darkest obsessions—to life. \nPerformed by a cast of six actors and a wry\, knowing narrator\, this theatrical event offers a spine-tingling journey through Poe’s twisted tales and haunting poems\, including The Tell-Tale Heart\, The Raven\, Annabel Lee\, The Cask of Amontillado\, The Oval Portrait\, and A Dream Within a Dream. \nArmonk Players
URL:https://www.whattododigital.com/event/armonk-players-the-haunted-word-the-tales-of-edgar-allen-poe/
LOCATION:Whippoorwil Hall
CATEGORIES:Arts
ATTACH;FMTTYPE=image/jpeg:https://www.whattododigital.com/wp-content/uploads/2025/08/Armonk-Players_The_Haunted_Word.jpeg
END:VEVENT
BEGIN:VEVENT
DTSTART;TZID=America/New_York:20250925T200000
DTEND;TZID=America/New_York:20250925T200000
DTSTAMP:20260423T225748
CREATED:20250814T144520Z
LAST-MODIFIED:20250814T144520Z
UID:88271-1758830400-1758830400@www.whattododigital.com
SUMMARY:Ridgefield Playhouse: Randy Rainbow: National Freakin' Treasure
DESCRIPTION:Ridgefield Playhouse: Randy Rainbow: National Freakin’ Treasure \nRandy Rainbow is a highly acclaimed American comedian\, producer\, actor\, singer\, writer\, satirist\, and host\, recognized for his popular web series\, The Randy Rainbow Show. \nHis musical parodies and political spoofs have earned him global recognition\, as well as four consecutive EMMY® nominations for Outstanding Short-Form Variety Series. \nRidgefield Playhouse
URL:https://www.whattododigital.com/event/ridgefield-playhouse-randy-rainbow-national-freakin-treasure/
LOCATION:The Ridgefield Playhsoue
CATEGORIES:Arts
ATTACH;FMTTYPE=image/jpeg:https://www.whattododigital.com/wp-content/uploads/2025/08/RPH-RANDY-RAINBOW-550x800-3.jpg
END:VEVENT
BEGIN:VEVENT
DTSTART;VALUE=DATE:20250927
DTEND;VALUE=DATE:20250928
DTSTAMP:20260423T225748
CREATED:20250821T184925Z
LAST-MODIFIED:20250821T192553Z
UID:88583-1758931200-1759017599@www.whattododigital.com
SUMMARY:Armonk Outdoor Art Show 2025
DESCRIPTION:Armonk Outdoor Art Show 2025\nThe Armonk Outdoor Art Show (AOAS) returns to 205 Business Park Drive in Armonk on Saturday and Sunday\, September\, 27 and 28 in 2025. In its 63rd year\, the Armonk art show will present works from 143 juried artists in Fine Crafts\, Mixed Media\, Painting\, Printmaking/Drawing/Pastels\, Sculpture\, Photography/Digital Art\, and Wearable Art. This flagship Armonk event consistently ranks among the top fine art and design shows in the country and benefits the Friends of the North Castle Public Library.  Proceeds from the two day show help fund the maintenance of North Castle libraries as well as their educational and entertainment programs including the Armonk Players. \nYou can get familiar with the exhibitor’s work on the OAOS website\, and link to individual artist’s sites or even contact them if you want to browse or shop ahead of the show. Or check out highlights from the show carefully selected by What To Do’s discerning arts and entertainment critics\, below: \nPainting\nAlways one of the highlights of the show\, AOAS will feature 47 artists presenting figurative\, abstract\, landscape and still-life paintings in acrylics\, oils\, and watercolors. Including works from the vibrant colors in the abstract acrylics and oils of former AOAS prize winner Ummarid Eitharong and the figurative mid-century modern paintings of Beach House life by Michelle Mardis to David Oleskis’ Atmospheric Studies and fragmented still lifes. Another one of our favorites\, muscle car enthusiast Jill Binser will return with her acrylic closeups of logos\, headlamps and tail fins form Porsches\, Cadillacs and Mustangs. \n\n\n  \nMixed Media\nMixed Media is where you can always find some of the best abstract art and certainly some of the most fun\, as well. This year’s group of 33 mixed media artists carry on that AOAS tradition. Such as Bruce Reinfeld’s Lenticular Mixed Media (pictured here.) And from the fun side\, Jenny Henley’s hyper-realistic mixed media reel to reel tape recorders\, phone booths and vintage Apple computers; Jennifer Lash Brooks paint chip art of pixilated Big Macs\, Marilyn Monroe’s and LEGo people; and Derek Christiansen’s License Plate portraits of Katie Ledecky\, Babe Ruth and Johnny Cash. \n  \nPhotography/Digital Art\n  \nWe know Photography is one of the most popular categories in the show because it attracts the most repeat exhibitors. Including our fave rave head and tail light photog Dan Oleski who snaps iconic close ups of classic cars from Porsches and Cadillacs to a VW Microbus. Dan Callister’s series of Penguins (who he calls the best antidote for despair) and Sharks is awesomeness in black and white. Likewise the photographs in Zilli Zhang’s Streets collection will put you in a peaceful place. As always\, Caroline Christie deliver the equine photography for the BRLA crowd. And mirth reigns supreme in the Digital Art category through the escapist visions of Marina White. \n  \nSculpture\nTwenty sculptors will exhibit at this year’s art show in a variety of media from glass\, stone and steel to old wood frames\, scraps and cardboard to copper wire. Eugene Perry’s large scale abstract stainless steel sculptures are always a favorite out ours. Also catching our eye this year for your outdoor sculpture garden are the carved stone abstracts of Christopher Buonomo. And for the modern home the glass wall installation from Laguna Beach’s Christopher Jeffries. We especially like this one from his Intersections series. \n  \n  \nOther Show Standouts\nSome of the standouts in the show’s niche categories (Print making\, Fibre Art\, Wearable Art\, and Fine Crafts) include: Michael Earley’s woven wood vases; David Melnick’s Scribble bracelets; Ngamije Javier’s sisal baskets; and Jeffrey Pender’s prints (pictured here). \n 
URL:https://www.whattododigital.com/event/armonk-outdoor-art-show-2025/
LOCATION:Armonk Outdoor Art Show\, 205 Business Park Dr.\, Armonk\, NY\, 10504\, United States
CATEGORIES:Arts,Fairs and Festivals,Outdoors
ATTACH;FMTTYPE=image/jpeg:https://www.whattododigital.com/wp-content/uploads/2018/08/Armonk-Outdoor-Art-Show-2.jpg
END:VEVENT
BEGIN:VEVENT
DTSTART;VALUE=DATE:20250927
DTEND;VALUE=DATE:20250928
DTSTAMP:20260423T225748
CREATED:20250821T184925Z
LAST-MODIFIED:20250821T192553Z
UID:88583-1758931200-1759017599@www.whattododigital.com
SUMMARY:Armonk Outdoor Art Show 2025
DESCRIPTION:Armonk Outdoor Art Show 2025\nThe Armonk Outdoor Art Show (AOAS) returns to 205 Business Park Drive in Armonk on Saturday and Sunday\, September\, 27 and 28 in 2025. In its 63rd year\, the Armonk art show will present works from 143 juried artists in Fine Crafts\, Mixed Media\, Painting\, Printmaking/Drawing/Pastels\, Sculpture\, Photography/Digital Art\, and Wearable Art. This flagship Armonk event consistently ranks among the top fine art and design shows in the country and benefits the Friends of the North Castle Public Library.  Proceeds from the two day show help fund the maintenance of North Castle libraries as well as their educational and entertainment programs including the Armonk Players. \nYou can get familiar with the exhibitor’s work on the OAOS website\, and link to individual artist’s sites or even contact them if you want to browse or shop ahead of the show. Or check out highlights from the show carefully selected by What To Do’s discerning arts and entertainment critics\, below: \nPainting\nAlways one of the highlights of the show\, AOAS will feature 47 artists presenting figurative\, abstract\, landscape and still-life paintings in acrylics\, oils\, and watercolors. Including works from the vibrant colors in the abstract acrylics and oils of former AOAS prize winner Ummarid Eitharong and the figurative mid-century modern paintings of Beach House life by Michelle Mardis to David Oleskis’ Atmospheric Studies and fragmented still lifes. Another one of our favorites\, muscle car enthusiast Jill Binser will return with her acrylic closeups of logos\, headlamps and tail fins form Porsches\, Cadillacs and Mustangs. \n\n\n  \nMixed Media\nMixed Media is where you can always find some of the best abstract art and certainly some of the most fun\, as well. This year’s group of 33 mixed media artists carry on that AOAS tradition. Such as Bruce Reinfeld’s Lenticular Mixed Media (pictured here.) And from the fun side\, Jenny Henley’s hyper-realistic mixed media reel to reel tape recorders\, phone booths and vintage Apple computers; Jennifer Lash Brooks paint chip art of pixilated Big Macs\, Marilyn Monroe’s and LEGo people; and Derek Christiansen’s License Plate portraits of Katie Ledecky\, Babe Ruth and Johnny Cash. \n  \nPhotography/Digital Art\n  \nWe know Photography is one of the most popular categories in the show because it attracts the most repeat exhibitors. Including our fave rave head and tail light photog Dan Oleski who snaps iconic close ups of classic cars from Porsches and Cadillacs to a VW Microbus. Dan Callister’s series of Penguins (who he calls the best antidote for despair) and Sharks is awesomeness in black and white. Likewise the photographs in Zilli Zhang’s Streets collection will put you in a peaceful place. As always\, Caroline Christie deliver the equine photography for the BRLA crowd. And mirth reigns supreme in the Digital Art category through the escapist visions of Marina White. \n  \nSculpture\nTwenty sculptors will exhibit at this year’s art show in a variety of media from glass\, stone and steel to old wood frames\, scraps and cardboard to copper wire. Eugene Perry’s large scale abstract stainless steel sculptures are always a favorite out ours. Also catching our eye this year for your outdoor sculpture garden are the carved stone abstracts of Christopher Buonomo. And for the modern home the glass wall installation from Laguna Beach’s Christopher Jeffries. We especially like this one from his Intersections series. \n  \n  \nOther Show Standouts\nSome of the standouts in the show’s niche categories (Print making\, Fibre Art\, Wearable Art\, and Fine Crafts) include: Michael Earley’s woven wood vases; David Melnick’s Scribble bracelets; Ngamije Javier’s sisal baskets; and Jeffrey Pender’s prints (pictured here). \n 
URL:https://www.whattododigital.com/event/armonk-outdoor-art-show-2025/
LOCATION:Armonk Outdoor Art Show\, 205 Business Park Dr.\, Armonk\, NY\, 10504\, United States
CATEGORIES:Arts,Fairs and Festivals,Outdoors
ATTACH;FMTTYPE=image/jpeg:https://www.whattododigital.com/wp-content/uploads/2018/08/Armonk-Outdoor-Art-Show-2.jpg
END:VEVENT
BEGIN:VEVENT
DTSTART;TZID=America/New_York:20250926T200000
DTEND;TZID=America/New_York:20250926T200000
DTSTAMP:20260423T225748
CREATED:20250812T214859Z
LAST-MODIFIED:20250812T214859Z
UID:88211-1758916800-1758916800@www.whattododigital.com
SUMMARY:Armonk Players: The Haunted Word–The Tales of Edgar Allen Poe
DESCRIPTION:Armonk Players: The Haunted Word–The Tales of Edgar Allen Poe \nStep into the eerie\, intoxicating world of Edgar Allan Poe\, the master of the macabre\, in an evening of dramatic staged readings that bring his most iconic works—and darkest obsessions—to life. \nPerformed by a cast of six actors and a wry\, knowing narrator\, this theatrical event offers a spine-tingling journey through Poe’s twisted tales and haunting poems\, including The Tell-Tale Heart\, The Raven\, Annabel Lee\, The Cask of Amontillado\, The Oval Portrait\, and A Dream Within a Dream. \nArmonk Players
URL:https://www.whattododigital.com/event/armonk-players-the-haunted-word-the-tales-of-edgar-allen-poe/
LOCATION:Whippoorwil Hall
CATEGORIES:Arts
ATTACH;FMTTYPE=image/jpeg:https://www.whattododigital.com/wp-content/uploads/2025/08/Armonk-Players_The_Haunted_Word.jpeg
END:VEVENT
END:VCALENDAR