BEGIN:VCALENDAR
VERSION:2.0
PRODID:-//What To Do - ECPv6.15.20//NONSGML v1.0//EN
CALSCALE:GREGORIAN
METHOD:PUBLISH
X-ORIGINAL-URL:https://www.whattododigital.com
X-WR-CALDESC:Events for What To Do
REFRESH-INTERVAL;VALUE=DURATION:PT1H
X-Robots-Tag:noindex
X-PUBLISHED-TTL:PT1H
BEGIN:VTIMEZONE
TZID:America/New_York
BEGIN:DAYLIGHT
TZOFFSETFROM:-0500
TZOFFSETTO:-0400
TZNAME:EDT
DTSTART:20250309T070000
END:DAYLIGHT
BEGIN:STANDARD
TZOFFSETFROM:-0400
TZOFFSETTO:-0500
TZNAME:EST
DTSTART:20251102T060000
END:STANDARD
BEGIN:DAYLIGHT
TZOFFSETFROM:-0500
TZOFFSETTO:-0400
TZNAME:EDT
DTSTART:20260308T070000
END:DAYLIGHT
BEGIN:STANDARD
TZOFFSETFROM:-0400
TZOFFSETTO:-0500
TZNAME:EST
DTSTART:20261101T060000
END:STANDARD
BEGIN:DAYLIGHT
TZOFFSETFROM:-0500
TZOFFSETTO:-0400
TZNAME:EDT
DTSTART:20270314T070000
END:DAYLIGHT
BEGIN:STANDARD
TZOFFSETFROM:-0400
TZOFFSETTO:-0500
TZNAME:EST
DTSTART:20271107T060000
END:STANDARD
END:VTIMEZONE
BEGIN:VEVENT
DTSTART;TZID=America/New_York:20260306T183000
DTEND;TZID=America/New_York:20260306T183000
DTSTAMP:20260422T211124
CREATED:20260120T150451Z
LAST-MODIFIED:20260120T150451Z
UID:93573-1772821800-1772821800@www.whattododigital.com
SUMMARY:Stamford Museum & Nature Center: Bevs & Bites Mansion & Gallery Tour
DESCRIPTION:Stamford Museum & Nature Center: Bevs & Bites Mansion & Gallery Tour \nSMNC’s signature “feast on foot” is a lively evening sampling and savoring the very best local gourmet fare\, first-rate wines\, craft beers from local breweries\, and superb spirits from local distilleries in the Bendel Mansion. \nStamford Museum & Nature Center
URL:https://www.whattododigital.com/event/stamford-museum-nature-center-bevs-bites-mansion-gallery-tour/
LOCATION:Stamford Museum & Nature Center\, 39 Scofieldtown Road\, Stamford\, CT\, 06903\, United States
CATEGORIES:Arts,Food,Grown Ups
ATTACH;FMTTYPE=image/jpeg:https://www.whattododigital.com/wp-content/uploads/2026/01/SMNC_Bendel-museum.jpeg
END:VEVENT
BEGIN:VEVENT
DTSTART;TZID=America/New_York:20260307T200000
DTEND;TZID=America/New_York:20260307T200000
DTSTAMP:20260422T211124
CREATED:20260105T221758Z
LAST-MODIFIED:20260105T221758Z
UID:93219-1772913600-1772913600@www.whattododigital.com
SUMMARY:Ridgefield Playhouse 2026 Fundraiser with Seth Meyers
DESCRIPTION:Ridgefield Playhouse: Seth Meyers \nSeth Meyers is an Emmy Award-winning writer\, New York Times bestselling author and host of NBC’s “Late Night with Seth Meyers” since 2014.   \nMeyers began his TV career with “Saturday Night Live” in 2001 where he was a cast member for 13 seasons \nRidgefield Playhouse
URL:https://www.whattododigital.com/event/ridgefield-playhouse-2026-fundraiser-with-seth-meyers/
LOCATION:The Ridgefield Playhouse\, 80 East Ridge\, Ridfgefield\, CT\, 06877\, United States
CATEGORIES:Arts
ATTACH;FMTTYPE=image/jpeg:https://www.whattododigital.com/wp-content/uploads/2026/01/RPH-SETH-MEYERS-550x800-1-copy.jpg
END:VEVENT
BEGIN:VEVENT
DTSTART;TZID=America/New_York:20260308T170000
DTEND;TZID=America/New_York:20260308T170000
DTSTAMP:20260422T211124
CREATED:20260105T210330Z
LAST-MODIFIED:20260105T210330Z
UID:93156-1772989200-1772989200@www.whattododigital.com
SUMMARY:Paramount Hudson Valley" Dancing With the Celts
DESCRIPTION:Paramount Hudson Valley” Dancing With the Celts \nDancing with the Celts features the thrilling choreography and energy of some of the most brilliant Irish dancers in the world combined with live fiery music provided by The Celts. \nParamount Hudson Valley
URL:https://www.whattododigital.com/event/paramount-hudson-valley-dancing-with-the-celts/
LOCATION:Paramount Hudson Valley
CATEGORIES:Arts
ATTACH;FMTTYPE=image/jpeg:https://www.whattododigital.com/wp-content/uploads/2026/01/Paramount_Dancing-with-The-Celts.jpeg
END:VEVENT
BEGIN:VEVENT
DTSTART;TZID=America/New_York:20260314T193000
DTEND;TZID=America/New_York:20260314T193000
DTSTAMP:20260422T211124
CREATED:20260102T180036Z
LAST-MODIFIED:20260102T180036Z
UID:92955-1773516600-1773516600@www.whattododigital.com
SUMMARY:Performing Arts Center Purchase: Martha Graham Dance Company
DESCRIPTION:Performing Arts Center Purchase: Martha Graham Dance Company \nThe legendary Martha Graham Dance Company continues its three-year GRAHAM100 tour with a celebratory mixed repertory stop titled The Masterpieces at The Purchase PAC. \nFeaturing the 1947 work Night Journey that retells the Oedipus myth with Queen Jocasta who as the protagonist. \nThe 2025 Cortege that focuses on Charon\, the ferryman from Greek mythology who shepherds souls to the underworld. \nAnd Chronicle from 1936 that was a response to the rising menace of fascism in Europe. \nPerforming Arts Center Purchase
URL:https://www.whattododigital.com/event/performing-arts-center-purchase-martha-graham-dance-company/
LOCATION:The Performing Arts Center Purchase College\, 735 Anderson Hill Rd.\, Purchase\, Purchase\, NY\, 10577\, United States
CATEGORIES:Arts
ATTACH;FMTTYPE=image/jpeg:https://www.whattododigital.com/wp-content/uploads/2026/01/PAC_MGDC_Chronicle-1.jpg
END:VEVENT
BEGIN:VEVENT
DTSTART;TZID=America/New_York:20260314T193000
DTEND;TZID=America/New_York:20260314T193000
DTSTAMP:20260422T211124
CREATED:20260112T172817Z
LAST-MODIFIED:20260112T172817Z
UID:93492-1773516600-1773516600@www.whattododigital.com
SUMMARY:White Plains Performing Arts Center: Seth's Broadway: Jennifer Simard
DESCRIPTION:White Plains Performing Arts Center: Seth’s Broadway: Jennifer Simard \nJoin Seth Rudetsky and 3 Time Tony Award® nominee Jennifer Simard (Death Becomes Her\, Company\, Disaster!) for a one-night-only special-event concert that will be filled with intimate\, funny\, behind-the-scenes stories mixed with incredible performances of the songs Simard has performed on Broadway and beyond. \nWhite Plains Performing Arts Center
URL:https://www.whattododigital.com/event/white-plains-performing-arts-center-seths-broadway-jennifer-simard/
LOCATION:White Plains Performing Arts Center
CATEGORIES:Arts
ATTACH;FMTTYPE=image/jpeg:https://www.whattododigital.com/wp-content/uploads/2026/01/WPPAC_Seth-Jennifer-Simard.jpg
END:VEVENT
BEGIN:VEVENT
DTSTART;TZID=America/New_York:20260315T193000
DTEND;TZID=America/New_York:20260315T193000
DTSTAMP:20260422T211124
CREATED:20260105T222255Z
LAST-MODIFIED:20260105T222255Z
UID:93224-1773603000-1773603000@www.whattododigital.com
SUMMARY:Ridgefield Playhouse: Patti LuPone: Matters of the Heart
DESCRIPTION:Ridgefield Playhouse: Patti LuPone: Matters of the Heart \nThree-time Tony Award winner Patti LuPone celebrates the 25th Anniversary of the Broadway engagement of her acclaimed theatrical concert Matters of the Heart\, which she also performed on London’s West End\, as well as national and international tour dates. \nIn Matters of the Heart\, Ms. LuPone takes the audience on an exploration of the crimes\, affairs and the mysteries of the heart\, with electrifying performances of over two dozen love songs ranging from Broadway favorites to works by today’s top contemporary songwriters. \nRidgefield Playhouse
URL:https://www.whattododigital.com/event/ridgefield-playhouse-patti-lupone-matters-of-the-heart/
LOCATION:The Ridgefield Playhouse\, 80 East Ridge\, Ridfgefield\, CT\, 06877\, United States
CATEGORIES:Arts,Music
ATTACH;FMTTYPE=image/jpeg:https://www.whattododigital.com/wp-content/uploads/2026/01/RPH-PATTI-LUPONE-550x800-1-copy.jpg
END:VEVENT
BEGIN:VEVENT
DTSTART;TZID=America/New_York:20260319T190000
DTEND;TZID=America/New_York:20260319T190000
DTSTAMP:20260422T211124
CREATED:20260316T164249Z
LAST-MODIFIED:20260316T164249Z
UID:93955-1773946800-1773946800@www.whattododigital.com
SUMMARY:New Castle Historical Society Book Party: Steve Walsh Concrete Leprechaun
DESCRIPTION:New Castle Historical Society Book Party: Steve Walsh Concrete Leprechaun \nJoin the New Castle Historical Society for this special book event with local author Steve Walsh. Enjoy light refreshments and hear Steve read excerpts from his debut novel\, Concrete Leprechaun about growing up in “the Bronx” in the seventies. \nNew Castle Historical Society
URL:https://www.whattododigital.com/event/new-castle-historical-society-book-party-steve-walsh-concrete-leprechaun/
LOCATION:Horace Greeley House\, 100 King St.\, Chappaqua\, NY\, 10514\, United States
CATEGORIES:Arts
ATTACH;FMTTYPE=image/jpeg:https://www.whattododigital.com/wp-content/uploads/2026/03/NCHS_Concrete-Leprechaun.jpg
END:VEVENT
BEGIN:VEVENT
DTSTART;TZID=America/New_York:20260320T200000
DTEND;TZID=America/New_York:20260320T200000
DTSTAMP:20260422T211124
CREATED:20260316T151222Z
LAST-MODIFIED:20260316T151222Z
UID:93933-1774036800-1774036800@www.whattododigital.com
SUMMARY:Arc Stages: A Little Night Music
DESCRIPTION:Arc Stages: A Little Night Music \nThe Community Stage presents Sondheim’s A Little Night Music! Set in 1900 Sweden\, A Little Night Music explores the tangled web of affairs centered around actress\, Desirée Armfeldt\, and the men who love her. In the perpetual twilight of the Nordic summer\, lovers waltz in and out of each other’s lives and arms during a weekend romp in the country filled with possibility\, second chances\, and endless surprises. \nArc Stages
URL:https://www.whattododigital.com/event/arc-stages-a-little-night-music/
LOCATION:Arc Stages\, 147 WHEELER AVENUE\, Pleasantville\, NY\, United States
CATEGORIES:Arts
ATTACH;FMTTYPE=image/jpeg:https://www.whattododigital.com/wp-content/uploads/2026/03/Arc_Night-Music.jpg
END:VEVENT
BEGIN:VEVENT
DTSTART;TZID=America/New_York:20260321T200000
DTEND;TZID=America/New_York:20260321T200000
DTSTAMP:20260422T211124
CREATED:20260105T200021Z
LAST-MODIFIED:20260105T200021Z
UID:93126-1774123200-1774123200@www.whattododigital.com
SUMMARY:Emelin Theatre: Mark Clearview
DESCRIPTION:Emelin Theatre: Mark Clearview  \nA fixture of New York’s nightlife\, Mark Clearview has been the resident magician at The Edition Hotel’s Paradise Club\, the chosen magician for the Met Gala after-party\, and a crowd favorite at Caroline’s on Broadway. \nClearview has appeared on television around the world — performing live in Las Vegas for Penn & Teller: Fool Us and earning Howie Mandel’s Golden Buzzer on Canada’s Got Talent\, where he placed fourth. \nEmelin Theatre
URL:https://www.whattododigital.com/event/emelin-theatre-mark-clearview/
LOCATION:Emelin Theatre
CATEGORIES:Arts
ATTACH;FMTTYPE=image/jpeg:https://www.whattododigital.com/wp-content/uploads/2026/01/Emelin_Mark_Clearview.jpeg
END:VEVENT
BEGIN:VEVENT
DTSTART;TZID=America/New_York:20260321T200000
DTEND;TZID=America/New_York:20260321T200000
DTSTAMP:20260422T211124
CREATED:20260316T151445Z
LAST-MODIFIED:20260316T151445Z
UID:93938-1774123200-1774123200@www.whattododigital.com
SUMMARY:Arc Stages: A Little Night Music
DESCRIPTION:Arc Stages: A Little Night Music \nThe Community Stage presents Sondheim’s A Little Night Music! Set in 1900 Sweden\, A Little Night Music explores the tangled web of affairs centered around actress\, Desirée Armfeldt\, and the men who love her. In the perpetual twilight of the Nordic summer\, lovers waltz in and out of each other’s lives and arms during a weekend romp in the country filled with possibility\, second chances\, and endless surprises. \nArc Stages
URL:https://www.whattododigital.com/event/arc-stages-a-little-night-music-2/
LOCATION:Arc Stages\, 147 WHEELER AVENUE\, Pleasantville\, NY\, United States
CATEGORIES:Arts
ATTACH;FMTTYPE=image/jpeg:https://www.whattododigital.com/wp-content/uploads/2026/03/Arc_Night-Music.jpg
END:VEVENT
BEGIN:VEVENT
DTSTART;TZID=America/New_York:20260321T200000
DTEND;TZID=America/New_York:20260321T200000
DTSTAMP:20260422T211124
CREATED:20260316T153754Z
LAST-MODIFIED:20260316T153754Z
UID:93949-1774123200-1774123200@www.whattododigital.com
SUMMARY:Bedford Hills Community House: Hard Headed Comedy Night
DESCRIPTION:Bedford Hills Community House: Hard Headed Comedy Night \nNew York Comedy Club mainstay\, Anne Stesney\, and Ladies of Laughter 2014 Natoinal Grand Champion (Newcomer) are joined by Broadway Comedy Club and Apollo vet Dave Lester and Comedy Central’s Patty Rosborough for a night of community comedy. \nBedford Hills Community House
URL:https://www.whattododigital.com/event/bedford-hills-community-house-hard-headed-comedy-night/
LOCATION:Bedford Hills Community House\, 74 Main St.\, Bedford Hills\, NY\, United States
CATEGORIES:Arts
ATTACH;FMTTYPE=image/jpeg:https://www.whattododigital.com/wp-content/uploads/2026/03/BHCH_Hardheaded-Comedy.jpg
END:VEVENT
BEGIN:VEVENT
DTSTART;TZID=America/New_York:20260322T110000
DTEND;TZID=America/New_York:20260322T140000
DTSTAMP:20260422T211124
CREATED:20260120T143240Z
LAST-MODIFIED:20260120T143240Z
UID:93546-1774177200-1774188000@www.whattododigital.com
SUMMARY:Muscoot Farm Mansion Tour
DESCRIPTION:Muscoot Farm Mansion Tour \nJoin Muscoot’s education staff on a historical tour of the mansion. Appropriate for ages 13+. \nMuscoot Farm
URL:https://www.whattododigital.com/event/muscoot-farm-mansion-tour-2/
LOCATION:Muscoot Farm
CATEGORIES:Arts,Grown Ups,Kids
ATTACH;FMTTYPE=image/jpeg:https://www.whattododigital.com/wp-content/uploads/2026/01/Muscoot-Mansion-copy.jpg
END:VEVENT
BEGIN:VEVENT
DTSTART;TZID=America/New_York:20260322T150000
DTEND;TZID=America/New_York:20260322T150000
DTSTAMP:20260422T211124
CREATED:20260105T200453Z
LAST-MODIFIED:20260105T200453Z
UID:93131-1774191600-1774191600@www.whattododigital.com
SUMMARY:Emelin Theatre: Melissa Errico: Sondheim in the City
DESCRIPTION:Emelin Theatre: Melissa Errico: Sondheim in the City \nTony Award nominee Melissa Errico—hailed by The New Yorker as “the finest interpreter of Sondheim working in America today”—celebrates the music\, legacy\, and 95th birthday of Stephen Sondheim in her stunning new concert\, Sondheim in the City. \nEmelin Theatre
URL:https://www.whattododigital.com/event/emelin-theatre-melissa-errico-sondheim-in-the-cityemelin-theatre-melissa-errico-sondheim-in-the-city/
LOCATION:Emelin Theatre
CATEGORIES:Arts,Music
ATTACH;FMTTYPE=image/jpeg:https://www.whattododigital.com/wp-content/uploads/2026/01/Emelin_Melissa-Errico.jpeg
END:VEVENT
BEGIN:VEVENT
DTSTART;TZID=America/New_York:20260322T160000
DTEND;TZID=America/New_York:20260322T160000
DTSTAMP:20260422T211124
CREATED:20260105T223307Z
LAST-MODIFIED:20260105T223307Z
UID:93229-1774195200-1774195200@www.whattododigital.com
SUMMARY:Ridgefield Playhouse: The Peking Acrobats
DESCRIPTION:Ridgefield Playhouse: The Peking Acrobats \nDaring maneuvers atop a precarious pagoda of chair…powerful precision tumbling\, somersaulting\, and gymnastics…amazing displays of contortion\, flexibility and control…astonishing foot juggling dexterity…incredible balancing feats– all with the excitement and festive pageantry of a Chinese Carnival!! \nRidgefield Playhouse
URL:https://www.whattododigital.com/event/ridgefield-playhouse-the-peking-acrobats/
LOCATION:The Ridgefield Playhouse\, 80 East Ridge\, Ridfgefield\, CT\, 06877\, United States
CATEGORIES:Arts
ATTACH;FMTTYPE=image/jpeg:https://www.whattododigital.com/wp-content/uploads/2026/01/RPH-PEKING-ACROBATS-550x800-1-copy.jpg
END:VEVENT
BEGIN:VEVENT
DTSTART;TZID=America/New_York:20260327T200000
DTEND;TZID=America/New_York:20260327T200000
DTSTAMP:20260422T211124
CREATED:20260316T151643Z
LAST-MODIFIED:20260316T151817Z
UID:93941-1774641600-1774641600@www.whattododigital.com
SUMMARY:Arc Stages: A Little Night Music
DESCRIPTION:Arc Stages: A Little Night Music \nThe Community Stage presents Sondheim’s A Little Night Music! Set in 1900 Sweden\, A Little Night Music explores the tangled web of affairs centered around actress\, Desirée Armfeldt\, and the men who love her. In the perpetual twilight of the Nordic summer\, lovers waltz in and out of each other’s lives and arms during a weekend romp in the country filled with possibility\, second chances\, and endless surprises. \nArc Stages
URL:https://www.whattododigital.com/event/arc-stages-a-little-night-music-3/
LOCATION:CT
CATEGORIES:Arts
ATTACH;FMTTYPE=image/jpeg:https://www.whattododigital.com/wp-content/uploads/2026/03/Arc_Night-Music.jpg
END:VEVENT
BEGIN:VEVENT
DTSTART;TZID=America/New_York:20260328T200000
DTEND;TZID=America/New_York:20260328T200000
DTSTAMP:20260422T211124
CREATED:20260316T152002Z
LAST-MODIFIED:20260316T152002Z
UID:93946-1774728000-1774728000@www.whattododigital.com
SUMMARY:Arc Stages: A Little Night Music
DESCRIPTION:Arc Stages: A Little Night Music \nThe Community Stage presents Sondheim’s A Little Night Music! Set in 1900 Sweden\, A Little Night Music explores the tangled web of affairs centered around actress\, Desirée Armfeldt\, and the men who love her. In the perpetual twilight of the Nordic summer\, lovers waltz in and out of each other’s lives and arms during a weekend romp in the country filled with possibility\, second chances\, and endless surprises. \nArc Stages
URL:https://www.whattododigital.com/event/arc-stages-a-little-night-music-4/
LOCATION:CT
CATEGORIES:Arts
ATTACH;FMTTYPE=image/jpeg:https://www.whattododigital.com/wp-content/uploads/2026/03/Arc_Night-Music.jpg
END:VEVENT
END:VCALENDAR