BEGIN:VCALENDAR
VERSION:2.0
PRODID:-//What To Do - ECPv6.15.20//NONSGML v1.0//EN
CALSCALE:GREGORIAN
METHOD:PUBLISH
X-ORIGINAL-URL:https://www.whattododigital.com
X-WR-CALDESC:Events for What To Do
REFRESH-INTERVAL;VALUE=DURATION:PT1H
X-Robots-Tag:noindex
X-PUBLISHED-TTL:PT1H
BEGIN:VTIMEZONE
TZID:America/New_York
BEGIN:DAYLIGHT
TZOFFSETFROM:-0500
TZOFFSETTO:-0400
TZNAME:EDT
DTSTART:20240310T070000
END:DAYLIGHT
BEGIN:STANDARD
TZOFFSETFROM:-0400
TZOFFSETTO:-0500
TZNAME:EST
DTSTART:20241103T060000
END:STANDARD
BEGIN:DAYLIGHT
TZOFFSETFROM:-0500
TZOFFSETTO:-0400
TZNAME:EDT
DTSTART:20250309T070000
END:DAYLIGHT
BEGIN:STANDARD
TZOFFSETFROM:-0400
TZOFFSETTO:-0500
TZNAME:EST
DTSTART:20251102T060000
END:STANDARD
BEGIN:DAYLIGHT
TZOFFSETFROM:-0500
TZOFFSETTO:-0400
TZNAME:EDT
DTSTART:20260308T070000
END:DAYLIGHT
BEGIN:STANDARD
TZOFFSETFROM:-0400
TZOFFSETTO:-0500
TZNAME:EST
DTSTART:20261101T060000
END:STANDARD
END:VTIMEZONE
BEGIN:VEVENT
DTSTART;TZID=America/New_York:20250925T190000
DTEND;TZID=America/New_York:20250925T190000
DTSTAMP:20260424T025805
CREATED:20250804T210708Z
LAST-MODIFIED:20250804T210708Z
UID:88010-1758826800-1758826800@www.whattododigital.com
SUMMARY:Bedford Playhouse: Somm plus wine tasting
DESCRIPTION:Bedford Playhouse: Somm plus wine tasting \nA special film/epicurean event. \nFirst\, Sommelier Sean Sperazza will present a flight of 3-5 wines for tasting inspired by classic Somm testing. \nThen\, a screening of the documentary Somm\, winner of the best documentary feature at the 2013 San Luis Obispo Film Festival. \nBedford Playhouse
URL:https://www.whattododigital.com/event/bedford-playhouse-somm-plus-wine-tasting/
LOCATION:Bedford Playhouse
CATEGORIES:Arts,Food,Movies
ATTACH;FMTTYPE=image/jpeg:https://www.whattododigital.com/wp-content/uploads/2025/08/BPH_Somm.jpeg
END:VEVENT
BEGIN:VEVENT
DTSTART;TZID=America/New_York:20250925T190000
DTEND;TZID=America/New_York:20250925T190000
DTSTAMP:20260424T025805
CREATED:20250814T120959Z
LAST-MODIFIED:20250814T124933Z
UID:88228-1758826800-1758826800@www.whattododigital.com
SUMMARY:Tarrytown Music Hall: Justin Willman: One for the Ages Tour
DESCRIPTION:Tarrytown Music Hall: Justin Willman: One for the Ages Tour \nWillman is best known as the star and creator of Netflix’s Magic for Humans and Magic Prank Show\, where his signature mix of mind-blowing magic and relatable humor has made him a streaming favorite\, a viral hit (1 billion views and counting)\, and a fan favorite for families\, comedy lovers\, and skeptics alike. \nTarrytown Music Hall
URL:https://www.whattododigital.com/event/tarrytown-music-hall-justin-willman-one-for-the-ages-tour/
LOCATION:Tarrytown Music Hall
CATEGORIES:Arts
ATTACH;FMTTYPE=image/jpeg:https://www.whattododigital.com/wp-content/uploads/2025/08/TMH_JustinWillman25fb2.jpeg
END:VEVENT
BEGIN:VEVENT
DTSTART;TZID=America/New_York:20250925T200000
DTEND;TZID=America/New_York:20250925T200000
DTSTAMP:20260424T025805
CREATED:20250814T144520Z
LAST-MODIFIED:20250814T144520Z
UID:88271-1758830400-1758830400@www.whattododigital.com
SUMMARY:Ridgefield Playhouse: Randy Rainbow: National Freakin' Treasure
DESCRIPTION:Ridgefield Playhouse: Randy Rainbow: National Freakin’ Treasure \nRandy Rainbow is a highly acclaimed American comedian\, producer\, actor\, singer\, writer\, satirist\, and host\, recognized for his popular web series\, The Randy Rainbow Show. \nHis musical parodies and political spoofs have earned him global recognition\, as well as four consecutive EMMY® nominations for Outstanding Short-Form Variety Series. \nRidgefield Playhouse
URL:https://www.whattododigital.com/event/ridgefield-playhouse-randy-rainbow-national-freakin-treasure/
LOCATION:The Ridgefield Playhsoue
CATEGORIES:Arts
ATTACH;FMTTYPE=image/jpeg:https://www.whattododigital.com/wp-content/uploads/2025/08/RPH-RANDY-RAINBOW-550x800-3.jpg
END:VEVENT
END:VCALENDAR