BEGIN:VCALENDAR
VERSION:2.0
PRODID:-//What To Do - ECPv6.15.20//NONSGML v1.0//EN
CALSCALE:GREGORIAN
METHOD:PUBLISH
X-WR-CALNAME:What To Do
X-ORIGINAL-URL:https://www.whattododigital.com
X-WR-CALDESC:Events for What To Do
REFRESH-INTERVAL;VALUE=DURATION:PT1H
X-Robots-Tag:noindex
X-PUBLISHED-TTL:PT1H
BEGIN:VTIMEZONE
TZID:America/New_York
BEGIN:DAYLIGHT
TZOFFSETFROM:-0500
TZOFFSETTO:-0400
TZNAME:EDT
DTSTART:20240310T070000
END:DAYLIGHT
BEGIN:STANDARD
TZOFFSETFROM:-0400
TZOFFSETTO:-0500
TZNAME:EST
DTSTART:20241103T060000
END:STANDARD
BEGIN:DAYLIGHT
TZOFFSETFROM:-0500
TZOFFSETTO:-0400
TZNAME:EDT
DTSTART:20250309T070000
END:DAYLIGHT
BEGIN:STANDARD
TZOFFSETFROM:-0400
TZOFFSETTO:-0500
TZNAME:EST
DTSTART:20251102T060000
END:STANDARD
BEGIN:DAYLIGHT
TZOFFSETFROM:-0500
TZOFFSETTO:-0400
TZNAME:EDT
DTSTART:20260308T070000
END:DAYLIGHT
BEGIN:STANDARD
TZOFFSETFROM:-0400
TZOFFSETTO:-0500
TZNAME:EST
DTSTART:20261101T060000
END:STANDARD
END:VTIMEZONE
BEGIN:VEVENT
DTSTART;TZID=America/New_York:20251003T154500
DTEND;TZID=America/New_York:20251003T154500
DTSTAMP:20260424T092649
CREATED:20250929T211011Z
LAST-MODIFIED:20250929T211011Z
UID:91321-1759506300-1759506300@www.whattododigital.com
SUMMARY:JBFC: Taylor Swift The Official Release Party of a Showgirl
DESCRIPTION:JBFC: Taylor Swift The Official Release Party of a Showgirl \nSee the exclusive world premiere of the music video\, “The Fate of Ophelia”\, along with behind-the-scenes footage from the music video shoot\, brand new lyric videos\, and Taylor’s never-before-seen personal reflections on songs from her 12th studio album\, The Life of a Showgirl.b \nJacob Burns Film Center
URL:https://www.whattododigital.com/event/jbfc-taylor-swift-the-official-release-party-of-a-showgirl/
LOCATION:Jacob Burns Film Center
CATEGORIES:Arts,Kids,Music
ATTACH;FMTTYPE=image/jpeg:https://www.whattododigital.com/wp-content/uploads/2025/09/JBFC_Taylor-Swift.jpeg
END:VEVENT
BEGIN:VEVENT
DTSTART;TZID=America/New_York:20251005T140000
DTEND;TZID=America/New_York:20251005T140000
DTSTAMP:20260424T092649
CREATED:20250804T212617Z
LAST-MODIFIED:20250804T212617Z
UID:88023-1759672800-1759672800@www.whattododigital.com
SUMMARY:Bedford Playhouse: The General Live with piano by Ben Model
DESCRIPTION:Bedford Playhouse: The General Live with piano by Ben Model \nBedford Playhouse welcomes back musician and historian Ben Model providing live piano accompaniment to the classic silent comedy The General\, Buster Keaton’s acknowledged masterpiece. This feature-length film contains some of the most iconic scenes in silent film comedy history\, all done without the aid of visual effects. Recommended for ages 3 to 93. \nBedford Playhouse
URL:https://www.whattododigital.com/event/bedford-playhouse-the-general-live-with-piano-by-ben-model/
LOCATION:Bedford Playhouse
CATEGORIES:Arts,Grown Ups,Kids,Movies
ATTACH;FMTTYPE=image/jpeg:https://www.whattododigital.com/wp-content/uploads/2025/08/BPH_Buster_Keaton_general2.jpeg
END:VEVENT
BEGIN:VEVENT
DTSTART;TZID=America/New_York:20251003T193000
DTEND;TZID=America/New_York:20251003T193000
DTSTAMP:20260424T092649
CREATED:20250818T204439Z
LAST-MODIFIED:20250818T210306Z
UID:88360-1759519800-1759519800@www.whattododigital.com
SUMMARY:White Plains Performing Arts Center: Jagged Little Pill
DESCRIPTION:White Plains Performing Arts Center: Jagged Little Pill \nThe Tony & Grammy Award Winning Musical\nJagged Little Pill\, the musical inspired by the Alanis Morissette’s album of the same name \,was nominated for 13 Tony Awards and won not only multiple Tony Awards but also the Grammy Award and two Drama Desk Awards. It was even a NY Times Critic Pick! \nWhite Plains Performing Arts Center
URL:https://www.whattododigital.com/event/white-plains-performing-arts-center-jagged-little-pill/
LOCATION:White Plains Performing Arts Center
CATEGORIES:Arts
ATTACH;FMTTYPE=image/jpeg:https://www.whattododigital.com/wp-content/uploads/2025/08/WPPAC_Jagged-Little-Pill-.jpeg
END:VEVENT
BEGIN:VEVENT
DTSTART;TZID=America/New_York:20251005T190000
DTEND;TZID=America/New_York:20251005T190000
DTSTAMP:20260424T092649
CREATED:20250814T130925Z
LAST-MODIFIED:20250814T130925Z
UID:88241-1759690800-1759690800@www.whattododigital.com
SUMMARY:Paramount Hudson Valley: Serial Killers with Dr. Scott Bonn
DESCRIPTION:Paramount Hudson Valley: Serial Killers with Dr. Scott Bonn \nIn this 90-minute show\, Dr. Bonn reveals the insatiable\, psychological hungers that drive the likes of Ted Bundy and Jeffrey Dahmer to kill repeatedly with impunity and no remorse. He explains why the majority of serial killers are either psychopaths or sociopaths\, how the two differ\, and he reveals that every serial killer is compelled to murder by a unique fantasy need. He also explains how/why serial killers are able to successfully avoid apprehension\, blend into a crowd and become invisible. \nParamount Hudson Valley
URL:https://www.whattododigital.com/event/paramount-hudson-valley-serial-killers-with-dr-scott-bonn/
LOCATION:Paramount Hudson Valley
CATEGORIES:Arts
ATTACH;FMTTYPE=image/jpeg:https://www.whattododigital.com/wp-content/uploads/2025/08/Paramount_Serial-Killers-copy.jpg
END:VEVENT
BEGIN:VEVENT
DTSTART;TZID=America/New_York:20251003T154500
DTEND;TZID=America/New_York:20251003T154500
DTSTAMP:20260424T092649
CREATED:20250929T211011Z
LAST-MODIFIED:20250929T211011Z
UID:91321-1759506300-1759506300@www.whattododigital.com
SUMMARY:JBFC: Taylor Swift The Official Release Party of a Showgirl
DESCRIPTION:JBFC: Taylor Swift The Official Release Party of a Showgirl \nSee the exclusive world premiere of the music video\, “The Fate of Ophelia”\, along with behind-the-scenes footage from the music video shoot\, brand new lyric videos\, and Taylor’s never-before-seen personal reflections on songs from her 12th studio album\, The Life of a Showgirl.b \nJacob Burns Film Center
URL:https://www.whattododigital.com/event/jbfc-taylor-swift-the-official-release-party-of-a-showgirl/
LOCATION:Jacob Burns Film Center
CATEGORIES:Arts,Kids,Music
ATTACH;FMTTYPE=image/jpeg:https://www.whattododigital.com/wp-content/uploads/2025/09/JBFC_Taylor-Swift.jpeg
END:VEVENT
END:VCALENDAR