BEGIN:VCALENDAR
VERSION:2.0
PRODID:-//What To Do - ECPv6.15.20//NONSGML v1.0//EN
CALSCALE:GREGORIAN
METHOD:PUBLISH
X-ORIGINAL-URL:https://www.whattododigital.com
X-WR-CALDESC:Events for What To Do
REFRESH-INTERVAL;VALUE=DURATION:PT1H
X-Robots-Tag:noindex
X-PUBLISHED-TTL:PT1H
BEGIN:VTIMEZONE
TZID:America/New_York
BEGIN:DAYLIGHT
TZOFFSETFROM:-0500
TZOFFSETTO:-0400
TZNAME:EDT
DTSTART:20240310T070000
END:DAYLIGHT
BEGIN:STANDARD
TZOFFSETFROM:-0400
TZOFFSETTO:-0500
TZNAME:EST
DTSTART:20241103T060000
END:STANDARD
BEGIN:DAYLIGHT
TZOFFSETFROM:-0500
TZOFFSETTO:-0400
TZNAME:EDT
DTSTART:20250309T070000
END:DAYLIGHT
BEGIN:STANDARD
TZOFFSETFROM:-0400
TZOFFSETTO:-0500
TZNAME:EST
DTSTART:20251102T060000
END:STANDARD
BEGIN:DAYLIGHT
TZOFFSETFROM:-0500
TZOFFSETTO:-0400
TZNAME:EDT
DTSTART:20260308T070000
END:DAYLIGHT
BEGIN:STANDARD
TZOFFSETFROM:-0400
TZOFFSETTO:-0500
TZNAME:EST
DTSTART:20261101T060000
END:STANDARD
END:VTIMEZONE
BEGIN:VEVENT
DTSTART;TZID=America/New_York:20251014T190000
DTEND;TZID=America/New_York:20251014T190000
DTSTAMP:20260423T212005
CREATED:20250826T214747Z
LAST-MODIFIED:20250826T214747Z
UID:88828-1760468400-1760468400@www.whattododigital.com
SUMMARY:Katonah Classic Stage: Miss Julie/Venus in Fur
DESCRIPTION:Katonah Classic Stage: Miss Julie/Venus in Fur \nKatonah Classic Stage present a bold pairing of Strindberg’s searing classic Miss Julie and Ives’ seductive dark comedy Venus in Fur — two riveting explorations of power\, desire\, and control\, in repertory in October. The plays will be performed by the same cast and on the same stage but on alternate nights beginning Tuesday\, October 14 through Sunday\, November 2. \nKatonah Classic Stage
URL:https://www.whattododigital.com/event/katonah-classic-stage-miss-julie-venus-in-fur/
LOCATION:Whippoorwill Theater
CATEGORIES:Arts
ATTACH;FMTTYPE=image/png:https://www.whattododigital.com/wp-content/uploads/2025/08/KCS_Miss-Julie.png
END:VEVENT
BEGIN:VEVENT
DTSTART;TZID=America/New_York:20251014T190000
DTEND;TZID=America/New_York:20251014T190000
DTSTAMP:20260423T212005
CREATED:20250826T214747Z
LAST-MODIFIED:20250826T214747Z
UID:88828-1760468400-1760468400@www.whattododigital.com
SUMMARY:Katonah Classic Stage: Miss Julie/Venus in Fur
DESCRIPTION:Katonah Classic Stage: Miss Julie/Venus in Fur \nKatonah Classic Stage present a bold pairing of Strindberg’s searing classic Miss Julie and Ives’ seductive dark comedy Venus in Fur — two riveting explorations of power\, desire\, and control\, in repertory in October. The plays will be performed by the same cast and on the same stage but on alternate nights beginning Tuesday\, October 14 through Sunday\, November 2. \nKatonah Classic Stage
URL:https://www.whattododigital.com/event/katonah-classic-stage-miss-julie-venus-in-fur/
LOCATION:Whippoorwill Theater
CATEGORIES:Arts
ATTACH;FMTTYPE=image/png:https://www.whattododigital.com/wp-content/uploads/2025/08/KCS_Miss-Julie.png
END:VEVENT
BEGIN:VEVENT
DTSTART;TZID=America/New_York:20251101T193000
DTEND;TZID=America/New_York:20251101T193000
DTSTAMP:20260423T212005
CREATED:20250630T194026Z
LAST-MODIFIED:20250630T194026Z
UID:87510-1762025400-1762025400@www.whattododigital.com
SUMMARY:The Purchase PAC: Complexions Contemporary Ballet
DESCRIPTION:The Purchase PAC: Complexions Contemporary Ballet \nLed by dance icons Dwight Rhoden and Desmond Richardson\, this is ballet like you’ve never seen it before. \nThe program begins with a selection of mixed repertory; after intermission\, you’ll experience For Crying Out Loud. Set to 10 songs from U2’s acoustic album Songs of Surrender. \nThe Purchase PAC
URL:https://www.whattododigital.com/event/the-purchase-pac-complexions-contemporary-ballet/
LOCATION:The Performing Arts Center Purchase College\, 735 Anderson Hill Rd.\, Purchase\, Purchase\, NY\, 10577\, United States
CATEGORIES:Arts
ATTACH;FMTTYPE=image/jpeg:https://www.whattododigital.com/wp-content/uploads/2025/06/PAC_Complexions_.jpg
END:VEVENT
BEGIN:VEVENT
DTSTART;TZID=America/New_York:20251101T200000
DTEND;TZID=America/New_York:20251101T200000
DTSTAMP:20260423T212005
CREATED:20250825T211419Z
LAST-MODIFIED:20250825T211419Z
UID:88797-1762027200-1762027200@www.whattododigital.com
SUMMARY:The Palace Stamford: Sinatra Meets The Sopranos
DESCRIPTION:The Palace Stamford: Sinatra Meets The Sopranos \nJoin Sopranos stars Federico Castelluccio\, Vincent Curatola & Jason Carbone along with Sinatra tribute artist Michael Martocci and his 22-piece The Ol’ Blue Eyes Orchestra as they come together for a unique tribute to the iconic Sopranos TV series and music icon Francis Albert Sinatra. \nThe Palace Stamford
URL:https://www.whattododigital.com/event/the-palace-stamford-sinatra-meets-the-sopranos/
LOCATION:The Palace Stamford\, 61 Atlantic St.\, Stamford\, CT\, 06901\, United States
CATEGORIES:Arts,Music
ATTACH;FMTTYPE=image/jpeg:https://www.whattododigital.com/wp-content/uploads/2025/08/Palace_Sopranos-Sinatra-copy.jpg
END:VEVENT
END:VCALENDAR