BEGIN:VCALENDAR
VERSION:2.0
PRODID:-//What To Do - ECPv6.15.20//NONSGML v1.0//EN
CALSCALE:GREGORIAN
METHOD:PUBLISH
X-ORIGINAL-URL:https://www.whattododigital.com
X-WR-CALDESC:Events for What To Do
REFRESH-INTERVAL;VALUE=DURATION:PT1H
X-Robots-Tag:noindex
X-PUBLISHED-TTL:PT1H
BEGIN:VTIMEZONE
TZID:America/New_York
BEGIN:DAYLIGHT
TZOFFSETFROM:-0500
TZOFFSETTO:-0400
TZNAME:EDT
DTSTART:20240310T070000
END:DAYLIGHT
BEGIN:STANDARD
TZOFFSETFROM:-0400
TZOFFSETTO:-0500
TZNAME:EST
DTSTART:20241103T060000
END:STANDARD
BEGIN:DAYLIGHT
TZOFFSETFROM:-0500
TZOFFSETTO:-0400
TZNAME:EDT
DTSTART:20250309T070000
END:DAYLIGHT
BEGIN:STANDARD
TZOFFSETFROM:-0400
TZOFFSETTO:-0500
TZNAME:EST
DTSTART:20251102T060000
END:STANDARD
BEGIN:DAYLIGHT
TZOFFSETFROM:-0500
TZOFFSETTO:-0400
TZNAME:EDT
DTSTART:20260308T070000
END:DAYLIGHT
BEGIN:STANDARD
TZOFFSETFROM:-0400
TZOFFSETTO:-0500
TZNAME:EST
DTSTART:20261101T060000
END:STANDARD
END:VTIMEZONE
BEGIN:VEVENT
DTSTART;TZID=America/New_York:20251105T190000
DTEND;TZID=America/New_York:20251105T190000
DTSTAMP:20260423T212003
CREATED:20251009T221435Z
LAST-MODIFIED:20251009T221435Z
UID:91403-1762369200-1762369200@www.whattododigital.com
SUMMARY:Westchester County Center: Megyn Kelly Live
DESCRIPTION:Westchester County Center: Megyn Kelly Live \nwith Special Guest Tucker Carlson \nMegyn Kelly is hitting the road with her first ever nationwide tour\, “Megyn Kelly LIVE\,” bringing her highly successful show to live audiences. At each stop\, Kelly will be joined by influential speakers to react to the latest in news\, culture and more. \nWestchester County Center
URL:https://www.whattododigital.com/event/westchester-county-center-megyn-kelly-live/
LOCATION:Westchester County Center\, 198 Central Ave\, White Plains\, NY\, 10606\, United States
CATEGORIES:Arts
ATTACH;FMTTYPE=image/jpeg:https://www.whattododigital.com/wp-content/uploads/2025/10/WCC__MegynKelly.jpg
END:VEVENT
END:VCALENDAR