BEGIN:VCALENDAR
VERSION:2.0
PRODID:-//What To Do - ECPv6.15.20//NONSGML v1.0//EN
CALSCALE:GREGORIAN
METHOD:PUBLISH
X-WR-CALNAME:What To Do
X-ORIGINAL-URL:https://www.whattododigital.com
X-WR-CALDESC:Events for What To Do
REFRESH-INTERVAL;VALUE=DURATION:PT1H
X-Robots-Tag:noindex
X-PUBLISHED-TTL:PT1H
BEGIN:VTIMEZONE
TZID:America/New_York
BEGIN:DAYLIGHT
TZOFFSETFROM:-0500
TZOFFSETTO:-0400
TZNAME:EDT
DTSTART:20240310T070000
END:DAYLIGHT
BEGIN:STANDARD
TZOFFSETFROM:-0400
TZOFFSETTO:-0500
TZNAME:EST
DTSTART:20241103T060000
END:STANDARD
BEGIN:DAYLIGHT
TZOFFSETFROM:-0500
TZOFFSETTO:-0400
TZNAME:EDT
DTSTART:20250309T070000
END:DAYLIGHT
BEGIN:STANDARD
TZOFFSETFROM:-0400
TZOFFSETTO:-0500
TZNAME:EST
DTSTART:20251102T060000
END:STANDARD
BEGIN:DAYLIGHT
TZOFFSETFROM:-0500
TZOFFSETTO:-0400
TZNAME:EDT
DTSTART:20260308T070000
END:DAYLIGHT
BEGIN:STANDARD
TZOFFSETFROM:-0400
TZOFFSETTO:-0500
TZNAME:EST
DTSTART:20261101T060000
END:STANDARD
END:VTIMEZONE
BEGIN:VEVENT
DTSTART;TZID=America/New_York:20251106T200000
DTEND;TZID=America/New_York:20251106T200000
DTSTAMP:20260423T211658
CREATED:20251015T211648Z
LAST-MODIFIED:20251015T211648Z
UID:91457-1762459200-1762459200@www.whattododigital.com
SUMMARY:Bedford Playhouse Live: Hard Headed Comedy
DESCRIPTION:Bedford Playhouse Live: Hard Headed Comedy \nBedford Playhouse Live: Hard Headed Comedy presents a sharp\, exclusive lineup to the Playhouse stage. Featuring Regina Decicco\, Ophira Eisenberg\, and Luz Michelle\, with Joe Larson as host. A night of smart\, original stand-up you won’t want to miss. \nBedford Playhouse
URL:https://www.whattododigital.com/event/bedford-playhouse-live-hard-headed-comedy/
LOCATION:Bedford Playhouse\, 633 Old Post Road\, Bedford\, NY\, 10506\, United States
CATEGORIES:Arts
ATTACH;FMTTYPE=image/jpeg:https://www.whattododigital.com/wp-content/uploads/2025/10/BPH_Hard-Headed-Comedy.jpg
END:VEVENT
BEGIN:VEVENT
DTSTART;TZID=America/New_York:20251106T200000
DTEND;TZID=America/New_York:20251106T200000
DTSTAMP:20260423T211658
CREATED:20251027T200827Z
LAST-MODIFIED:20251027T200827Z
UID:91806-1762459200-1762459200@www.whattododigital.com
SUMMARY:Paramount Hudson Valley: Matt Fraser: America's Top Medium
DESCRIPTION:Paramount Hudson Valley: Matt Fraser: America’s Top Medium \nMatt Fraser is America’s Top Psychic Medium and star of the hit television series on E! Entertainment. Here he presents Undeniable Proof of Life After Death. \nParamount Hudson Valley
URL:https://www.whattododigital.com/event/paramount-hudson-valley-matt-fraser-americas-top-medium/
LOCATION:Paramount Hudson Valley
CATEGORIES:Arts
ATTACH;FMTTYPE=image/jpeg:https://www.whattododigital.com/wp-content/uploads/2025/10/Paramount_MattFraser2-copy.jpg
END:VEVENT
END:VCALENDAR