BEGIN:VCALENDAR
VERSION:2.0
PRODID:-//What To Do - ECPv6.15.20//NONSGML v1.0//EN
CALSCALE:GREGORIAN
METHOD:PUBLISH
X-WR-CALNAME:What To Do
X-ORIGINAL-URL:https://www.whattododigital.com
X-WR-CALDESC:Events for What To Do
REFRESH-INTERVAL;VALUE=DURATION:PT1H
X-Robots-Tag:noindex
X-PUBLISHED-TTL:PT1H
BEGIN:VTIMEZONE
TZID:America/New_York
BEGIN:DAYLIGHT
TZOFFSETFROM:-0500
TZOFFSETTO:-0400
TZNAME:EDT
DTSTART:20240310T070000
END:DAYLIGHT
BEGIN:STANDARD
TZOFFSETFROM:-0400
TZOFFSETTO:-0500
TZNAME:EST
DTSTART:20241103T060000
END:STANDARD
BEGIN:DAYLIGHT
TZOFFSETFROM:-0500
TZOFFSETTO:-0400
TZNAME:EDT
DTSTART:20250309T070000
END:DAYLIGHT
BEGIN:STANDARD
TZOFFSETFROM:-0400
TZOFFSETTO:-0500
TZNAME:EST
DTSTART:20251102T060000
END:STANDARD
BEGIN:DAYLIGHT
TZOFFSETFROM:-0500
TZOFFSETTO:-0400
TZNAME:EDT
DTSTART:20260308T070000
END:DAYLIGHT
BEGIN:STANDARD
TZOFFSETFROM:-0400
TZOFFSETTO:-0500
TZNAME:EST
DTSTART:20261101T060000
END:STANDARD
END:VTIMEZONE
BEGIN:VEVENT
DTSTART;TZID=America/New_York:20251108T193000
DTEND;TZID=America/New_York:20251108T193000
DTSTAMP:20260423T211659
CREATED:20251027T201924Z
LAST-MODIFIED:20251027T202458Z
UID:91816-1762630200-1762630200@www.whattododigital.com
SUMMARY:Paramount Hudson Valley: Ancient Aliens Live
DESCRIPTION:Paramount Hudson Valley: Ancient Aliens Live \nThe ninety-minute live experience celebrates the long-running program Ancient Aliens on The HISTORY Channel and features leading Ancient Astronaut theorist Giorgio A. Tsoukalos\, investigative mythologist William Henry\, UK government UFO investigator Nick Pope\, and ancient civilizations expert\, Jason Martell. \nParamount Hudson Valley
URL:https://www.whattododigital.com/event/paramount-hudson-valley-ancient-aliens-live/
LOCATION:CT
CATEGORIES:Arts
ATTACH;FMTTYPE=image/jpeg:https://www.whattododigital.com/wp-content/uploads/2025/10/Paramount_ANCIENT-ALIENS-LIVE.jpeg
END:VEVENT
BEGIN:VEVENT
DTSTART;TZID=America/New_York:20251108T200000
DTEND;TZID=America/New_York:20251108T200000
DTSTAMP:20260423T211659
CREATED:20250811T151340Z
LAST-MODIFIED:20250811T151340Z
UID:88157-1762632000-1762632000@www.whattododigital.com
SUMMARY:Emelin Theatre: Devonte Magic
DESCRIPTION:Emelin Theatre: Devonte Magic \nMind Games\, Magic\, and Mental Feats You Won’t Believe \nExperience the electrifying world of Devonte Rosero\, the internationally acclaimed mentalist and magician who has captivated audiences across the globe. With over 10\,000 performances in 25 cities spanning 4 continents\, Devonte brings a dynamic blend of magic\, mentalism\, and showmanship to the stage . \nDevonte’s talent propelled him to win first place at the world-famous Showtime at the Apollo at just 16 . Since then\, he has performed for high-profile clients including Martin Scorsese\, Robert De Niro\, and Mark Cuban. \nEmelin Theatre
URL:https://www.whattododigital.com/event/emelin-theatre-devonte-magic/
LOCATION:Emelin Theatre
CATEGORIES:Arts
ATTACH;FMTTYPE=image/jpeg:https://www.whattododigital.com/wp-content/uploads/2025/08/Emelin_devonte_magic_banner.jpeg
END:VEVENT
END:VCALENDAR