BEGIN:VCALENDAR
VERSION:2.0
PRODID:-//What To Do - ECPv6.15.20//NONSGML v1.0//EN
CALSCALE:GREGORIAN
METHOD:PUBLISH
X-ORIGINAL-URL:https://www.whattododigital.com
X-WR-CALDESC:Events for What To Do
REFRESH-INTERVAL;VALUE=DURATION:PT1H
X-Robots-Tag:noindex
X-PUBLISHED-TTL:PT1H
BEGIN:VTIMEZONE
TZID:America/New_York
BEGIN:DAYLIGHT
TZOFFSETFROM:-0500
TZOFFSETTO:-0400
TZNAME:EDT
DTSTART:20240310T070000
END:DAYLIGHT
BEGIN:STANDARD
TZOFFSETFROM:-0400
TZOFFSETTO:-0500
TZNAME:EST
DTSTART:20241103T060000
END:STANDARD
BEGIN:DAYLIGHT
TZOFFSETFROM:-0500
TZOFFSETTO:-0400
TZNAME:EDT
DTSTART:20250309T070000
END:DAYLIGHT
BEGIN:STANDARD
TZOFFSETFROM:-0400
TZOFFSETTO:-0500
TZNAME:EST
DTSTART:20251102T060000
END:STANDARD
BEGIN:DAYLIGHT
TZOFFSETFROM:-0500
TZOFFSETTO:-0400
TZNAME:EDT
DTSTART:20260308T070000
END:DAYLIGHT
BEGIN:STANDARD
TZOFFSETFROM:-0400
TZOFFSETTO:-0500
TZNAME:EST
DTSTART:20261101T060000
END:STANDARD
END:VTIMEZONE
BEGIN:VEVENT
DTSTART;TZID=America/New_York:20251128T190000
DTEND;TZID=America/New_York:20251128T190000
DTSTAMP:20260423T212002
CREATED:20251121T205549Z
LAST-MODIFIED:20251121T205549Z
UID:92414-1764356400-1764356400@www.whattododigital.com
SUMMARY:Lyndhurst Fall Theatre: Travels with My Aunt
DESCRIPTION:Lyndhurst Fall Theatre: Travels with My Aunt \nM&M Performing Arts presents Travels with My Aunt\, a comedy about espionage\, art smuggling\, mistaken identity and shady dealings\, by Giles Havergal adapted from the Graham Greene novel. Travels with My Aunt scored major award wins on both sides of the “big pond\,” winning the Olivier Award for Best Entertainment in London and the Lucille Lortell and Outer Critics’ Awards during its highly successful Off-Broadway run. \nLyndhurst Mansion
URL:https://www.whattododigital.com/event/lyndhurst-fall-theatre-travels-with-my-aunt-2/
LOCATION:Lyndhurst Mansion
CATEGORIES:Arts
ATTACH;FMTTYPE=image/jpeg:https://www.whattododigital.com/wp-content/uploads/2025/09/Lyndhurst_Fall-Theatre.jpeg
END:VEVENT
END:VCALENDAR