BEGIN:VCALENDAR
VERSION:2.0
PRODID:-//What To Do - ECPv6.15.20//NONSGML v1.0//EN
CALSCALE:GREGORIAN
METHOD:PUBLISH
X-ORIGINAL-URL:https://www.whattododigital.com
X-WR-CALDESC:Events for What To Do
REFRESH-INTERVAL;VALUE=DURATION:PT1H
X-Robots-Tag:noindex
X-PUBLISHED-TTL:PT1H
BEGIN:VTIMEZONE
TZID:America/New_York
BEGIN:DAYLIGHT
TZOFFSETFROM:-0500
TZOFFSETTO:-0400
TZNAME:EDT
DTSTART:20240310T070000
END:DAYLIGHT
BEGIN:STANDARD
TZOFFSETFROM:-0400
TZOFFSETTO:-0500
TZNAME:EST
DTSTART:20241103T060000
END:STANDARD
BEGIN:DAYLIGHT
TZOFFSETFROM:-0500
TZOFFSETTO:-0400
TZNAME:EDT
DTSTART:20250309T070000
END:DAYLIGHT
BEGIN:STANDARD
TZOFFSETFROM:-0400
TZOFFSETTO:-0500
TZNAME:EST
DTSTART:20251102T060000
END:STANDARD
BEGIN:DAYLIGHT
TZOFFSETFROM:-0500
TZOFFSETTO:-0400
TZNAME:EDT
DTSTART:20260308T070000
END:DAYLIGHT
BEGIN:STANDARD
TZOFFSETFROM:-0400
TZOFFSETTO:-0500
TZNAME:EST
DTSTART:20261101T060000
END:STANDARD
END:VTIMEZONE
BEGIN:VEVENT
DTSTART;TZID=America/New_York:20251206T150000
DTEND;TZID=America/New_York:20251206T150000
DTSTAMP:20260423T182251
CREATED:20251121T214328Z
LAST-MODIFIED:20251121T214328Z
UID:92457-1765033200-1765033200@www.whattododigital.com
SUMMARY:Schoolhouse Theater: Jeeves and Wooster in Perfect Nonsense
DESCRIPTION:Schoolhouse Theater: Jeeves and Wooster in Perfect Nonsense \nJeeves and Wooster in “Perfect Nonsense” brings P.G. Wodehouse’s beloved duo to the stage in a gloriously theatrical farce packed with lightning-fast costume changes\, madcap characters\, and impeccable comic timing. \nWinner of the Olivier Award for Best New Comedy\, this gleeful romp is equal parts charm and chaos—a loving send-up of British high society and the magic of live theatre itself. \nSchoolhouse Theater
URL:https://www.whattododigital.com/event/schoolhouse-theater-jeeves-and-wooster-in-perfect-nonsense-2/
LOCATION:The Schoolhouse Theater
CATEGORIES:Arts
END:VEVENT
BEGIN:VEVENT
DTSTART;TZID=America/New_York:20251206T190000
DTEND;TZID=America/New_York:20251206T190000
DTSTAMP:20260423T182251
CREATED:20251121T214454Z
LAST-MODIFIED:20251121T214454Z
UID:92460-1765047600-1765047600@www.whattododigital.com
SUMMARY:Schoolhouse Theater: Jeeves and Wooster in Perfect Nonsense
DESCRIPTION:Schoolhouse Theater: Jeeves and Wooster in Perfect Nonsense \nJeeves and Wooster in “Perfect Nonsense” brings P.G. Wodehouse’s beloved duo to the stage in a gloriously theatrical farce packed with lightning-fast costume changes\, madcap characters\, and impeccable comic timing. \nWinner of the Olivier Award for Best New Comedy\, this gleeful romp is equal parts charm and chaos—a loving send-up of British high society and the magic of live theatre itself. \nSchoolhouse Theater
URL:https://www.whattododigital.com/event/schoolhouse-theater-jeeves-and-wooster-in-perfect-nonsense-3/
LOCATION:The Schoolhouse Theater
CATEGORIES:Arts
ATTACH;FMTTYPE=image/jpeg:https://www.whattododigital.com/wp-content/uploads/2025/08/schoolhouse_jeeves-copy-1.jpg
END:VEVENT
END:VCALENDAR