BEGIN:VCALENDAR
VERSION:2.0
PRODID:-//What To Do - ECPv6.15.20//NONSGML v1.0//EN
CALSCALE:GREGORIAN
METHOD:PUBLISH
X-WR-CALNAME:What To Do
X-ORIGINAL-URL:https://www.whattododigital.com
X-WR-CALDESC:Events for What To Do
REFRESH-INTERVAL;VALUE=DURATION:PT1H
X-Robots-Tag:noindex
X-PUBLISHED-TTL:PT1H
BEGIN:VTIMEZONE
TZID:America/New_York
BEGIN:DAYLIGHT
TZOFFSETFROM:-0500
TZOFFSETTO:-0400
TZNAME:EDT
DTSTART:20250309T070000
END:DAYLIGHT
BEGIN:STANDARD
TZOFFSETFROM:-0400
TZOFFSETTO:-0500
TZNAME:EST
DTSTART:20251102T060000
END:STANDARD
BEGIN:DAYLIGHT
TZOFFSETFROM:-0500
TZOFFSETTO:-0400
TZNAME:EDT
DTSTART:20260308T070000
END:DAYLIGHT
BEGIN:STANDARD
TZOFFSETFROM:-0400
TZOFFSETTO:-0500
TZNAME:EST
DTSTART:20261101T060000
END:STANDARD
BEGIN:DAYLIGHT
TZOFFSETFROM:-0500
TZOFFSETTO:-0400
TZNAME:EDT
DTSTART:20270314T070000
END:DAYLIGHT
BEGIN:STANDARD
TZOFFSETFROM:-0400
TZOFFSETTO:-0500
TZNAME:EST
DTSTART:20271107T060000
END:STANDARD
END:VTIMEZONE
BEGIN:VEVENT
DTSTART;TZID=America/New_York:20260116T200000
DTEND;TZID=America/New_York:20260116T200000
DTSTAMP:20260423T065715
CREATED:20260102T205650Z
LAST-MODIFIED:20260102T205806Z
UID:93020-1768593600-1768593600@www.whattododigital.com
SUMMARY:The Palace Stamford: Who's Bad
DESCRIPTION:The Palace Stamford: Who’s Bad \nAs the longest-running Michael Jackson tribute band\, and the only one to predate his untimely passing\, Who’s Bad has awed even the skeptics\, selling out nearly 50 venues in the United Kingdom and beyond. \nThe Palace Stamford
URL:https://www.whattododigital.com/event/the-palace-stamford-whos-bad/
LOCATION:The Palace Stamford\, 61 Atlantic St.\, Stamford\, CT\, 06901\, United States
CATEGORIES:Arts,Music
ATTACH;FMTTYPE=image/jpeg:https://www.whattododigital.com/wp-content/uploads/2026/01/Palace_WhosBad.jpeg
END:VEVENT
BEGIN:VEVENT
DTSTART;TZID=America/New_York:20260116T200000
DTEND;TZID=America/New_York:20260116T200000
DTSTAMP:20260423T065715
CREATED:20260105T215028Z
LAST-MODIFIED:20260105T215028Z
UID:93201-1768593600-1768593600@www.whattododigital.com
SUMMARY:Ridgefield Playhouse: Fran Lebowitz
DESCRIPTION:Ridgefield Playhouse: Fran Lebowitz \nhe New York Times Book Review calls Lebowitz an “important humorist in the classic tradition.” Purveyor of urban cool\, Lebowitz is a cultural satirist whom many call the heir to Dorothy Parker. \nRidgefield Playhouse
URL:https://www.whattododigital.com/event/ridgefield-playhouse-fran-lebowitz/
LOCATION:The Ridgefield Playhouse\, 80 East Ridge\, Ridfgefield\, CT\, 06877\, United States
CATEGORIES:Arts
ATTACH;FMTTYPE=image/jpeg:https://www.whattododigital.com/wp-content/uploads/2026/01/RPH-FRAN-LEBOWITZ-550x800-1-copy.jpg
END:VEVENT
END:VCALENDAR