BEGIN:VCALENDAR
VERSION:2.0
PRODID:-//What To Do - ECPv6.15.20//NONSGML v1.0//EN
CALSCALE:GREGORIAN
METHOD:PUBLISH
X-ORIGINAL-URL:https://www.whattododigital.com
X-WR-CALDESC:Events for What To Do
REFRESH-INTERVAL;VALUE=DURATION:PT1H
X-Robots-Tag:noindex
X-PUBLISHED-TTL:PT1H
BEGIN:VTIMEZONE
TZID:America/New_York
BEGIN:DAYLIGHT
TZOFFSETFROM:-0500
TZOFFSETTO:-0400
TZNAME:EDT
DTSTART:20250309T070000
END:DAYLIGHT
BEGIN:STANDARD
TZOFFSETFROM:-0400
TZOFFSETTO:-0500
TZNAME:EST
DTSTART:20251102T060000
END:STANDARD
BEGIN:DAYLIGHT
TZOFFSETFROM:-0500
TZOFFSETTO:-0400
TZNAME:EDT
DTSTART:20260308T070000
END:DAYLIGHT
BEGIN:STANDARD
TZOFFSETFROM:-0400
TZOFFSETTO:-0500
TZNAME:EST
DTSTART:20261101T060000
END:STANDARD
BEGIN:DAYLIGHT
TZOFFSETFROM:-0500
TZOFFSETTO:-0400
TZNAME:EDT
DTSTART:20270314T070000
END:DAYLIGHT
BEGIN:STANDARD
TZOFFSETFROM:-0400
TZOFFSETTO:-0500
TZNAME:EST
DTSTART:20271107T060000
END:STANDARD
END:VTIMEZONE
BEGIN:VEVENT
DTSTART;TZID=America/New_York:20260212T200000
DTEND;TZID=America/New_York:20260212T200000
DTSTAMP:20260423T035158
CREATED:20260102T210401Z
LAST-MODIFIED:20260102T210401Z
UID:93025-1770926400-1770926400@www.whattododigital.com
SUMMARY:The Palace Stamford: Trevor Noah
DESCRIPTION:The Palace Stamford: Trevor Noah \nTrevor Noah\, the host of the Emmy® Award-winning “The Daily Show” on Comedy Central for seven years and The Grammy Awards for five\, brings his stand-up routines to The Palace Stamford. \nThe Palace Stamford
URL:https://www.whattododigital.com/event/the-palace-stamford-trevor-noah/
LOCATION:The Palace Stamford\, 61 Atlantic St.\, Stamford\, CT\, 06901\, United States
CATEGORIES:Arts
ATTACH;FMTTYPE=image/jpeg:https://www.whattododigital.com/wp-content/uploads/2026/01/Palace3_trevornoah.jpeg
END:VEVENT
END:VCALENDAR