BEGIN:VCALENDAR
VERSION:2.0
PRODID:-//What To Do - ECPv6.15.20//NONSGML v1.0//EN
CALSCALE:GREGORIAN
METHOD:PUBLISH
X-WR-CALNAME:What To Do
X-ORIGINAL-URL:https://www.whattododigital.com
X-WR-CALDESC:Events for What To Do
REFRESH-INTERVAL;VALUE=DURATION:PT1H
X-Robots-Tag:noindex
X-PUBLISHED-TTL:PT1H
BEGIN:VTIMEZONE
TZID:America/New_York
BEGIN:DAYLIGHT
TZOFFSETFROM:-0500
TZOFFSETTO:-0400
TZNAME:EDT
DTSTART:20250309T070000
END:DAYLIGHT
BEGIN:STANDARD
TZOFFSETFROM:-0400
TZOFFSETTO:-0500
TZNAME:EST
DTSTART:20251102T060000
END:STANDARD
BEGIN:DAYLIGHT
TZOFFSETFROM:-0500
TZOFFSETTO:-0400
TZNAME:EDT
DTSTART:20260308T070000
END:DAYLIGHT
BEGIN:STANDARD
TZOFFSETFROM:-0400
TZOFFSETTO:-0500
TZNAME:EST
DTSTART:20261101T060000
END:STANDARD
BEGIN:DAYLIGHT
TZOFFSETFROM:-0500
TZOFFSETTO:-0400
TZNAME:EDT
DTSTART:20270314T070000
END:DAYLIGHT
BEGIN:STANDARD
TZOFFSETFROM:-0400
TZOFFSETTO:-0500
TZNAME:EST
DTSTART:20271107T060000
END:STANDARD
END:VTIMEZONE
BEGIN:VEVENT
DTSTART;VALUE=DATE:20260213
DTEND;VALUE=DATE:20260214
DTSTAMP:20260423T003517
CREATED:20260106T162631Z
LAST-MODIFIED:20260106T162631Z
UID:93307-1770940800-1771027199@www.whattododigital.com
SUMMARY:Lyndhurst Theatre: Othello
DESCRIPTION:Lyndhurst Theatre: Othello \nM&M Performing Arts presents Othello by William Shakespeare February and March 2026 in the accessible first floor parlor of Lyndhurst Mansion. \nAri Mack stars as Othello\, the noble Moor of Venice and commanding warrior-general with Michael Muldoon as Iago\, the ambitious lieutenant and masterful manipulator. \nCheck for further dates and times. \nLyndhurst Theatre
URL:https://www.whattododigital.com/event/lyndhurst-theatre-othello-7/
LOCATION:Lyndhurst Mansion
CATEGORIES:Arts
ATTACH;FMTTYPE=image/jpeg:https://www.whattododigital.com/wp-content/uploads/2026/01/Lyndhurst_Othello.jpg
END:VEVENT
BEGIN:VEVENT
DTSTART;TZID=America/New_York:20260213T200000
DTEND;TZID=America/New_York:20260213T200000
DTSTAMP:20260423T003517
CREATED:20260105T193942Z
LAST-MODIFIED:20260105T193942Z
UID:93106-1771012800-1771012800@www.whattododigital.com
SUMMARY:Emelin Theatre: Joe Matarese
DESCRIPTION:Emelin Theatre: Joe Matarese \nYou may have seen him bring the house down on America’s Got Talent\, The Late Show with David Letterman\, or Comedy Central Presents (his very own 1/2 hour special).  Joe’s 4 comedy specials—Medicated\, The Poster’s Wrong\, Mullets and Mixtapes\, and Almost Sold Out—have made him a favorite among fans who appreciate humor with heart\, edge\, and a touch of nostalgia. \nEmelin Theatre
URL:https://www.whattododigital.com/event/emelin-theatre-joe-matarese/
LOCATION:Emelin Theatre
CATEGORIES:Arts
ATTACH;FMTTYPE=image/jpeg:https://www.whattododigital.com/wp-content/uploads/2026/01/Emelin_JoeMatarese.jpeg
END:VEVENT
END:VCALENDAR