BEGIN:VCALENDAR
VERSION:2.0
PRODID:-//What To Do - ECPv6.15.20//NONSGML v1.0//EN
CALSCALE:GREGORIAN
METHOD:PUBLISH
X-WR-CALNAME:What To Do
X-ORIGINAL-URL:https://www.whattododigital.com
X-WR-CALDESC:Events for What To Do
REFRESH-INTERVAL;VALUE=DURATION:PT1H
X-Robots-Tag:noindex
X-PUBLISHED-TTL:PT1H
BEGIN:VTIMEZONE
TZID:America/New_York
BEGIN:DAYLIGHT
TZOFFSETFROM:-0500
TZOFFSETTO:-0400
TZNAME:EDT
DTSTART:20250309T070000
END:DAYLIGHT
BEGIN:STANDARD
TZOFFSETFROM:-0400
TZOFFSETTO:-0500
TZNAME:EST
DTSTART:20251102T060000
END:STANDARD
BEGIN:DAYLIGHT
TZOFFSETFROM:-0500
TZOFFSETTO:-0400
TZNAME:EDT
DTSTART:20260308T070000
END:DAYLIGHT
BEGIN:STANDARD
TZOFFSETFROM:-0400
TZOFFSETTO:-0500
TZNAME:EST
DTSTART:20261101T060000
END:STANDARD
BEGIN:DAYLIGHT
TZOFFSETFROM:-0500
TZOFFSETTO:-0400
TZNAME:EDT
DTSTART:20270314T070000
END:DAYLIGHT
BEGIN:STANDARD
TZOFFSETFROM:-0400
TZOFFSETTO:-0500
TZNAME:EST
DTSTART:20271107T060000
END:STANDARD
END:VTIMEZONE
BEGIN:VEVENT
DTSTART;VALUE=DATE:20260215
DTEND;VALUE=DATE:20260216
DTSTAMP:20260423T065841
CREATED:20260106T162821Z
LAST-MODIFIED:20260106T162821Z
UID:93313-1771113600-1771199999@www.whattododigital.com
SUMMARY:Lyndhurst Theatre: Othello
DESCRIPTION:Lyndhurst Theatre: Othello \nM&M Performing Arts presents Othello by William Shakespeare February and March 2026 in the accessible first floor parlor of Lyndhurst Mansion. \nAri Mack stars as Othello\, the noble Moor of Venice and commanding warrior-general with Michael Muldoon as Iago\, the ambitious lieutenant and masterful manipulator. \nCheck for further dates and times. \nLyndhurst Theatre
URL:https://www.whattododigital.com/event/lyndhurst-theatre-othello-9/
LOCATION:Lyndhurst Mansion
CATEGORIES:Arts
ATTACH;FMTTYPE=image/jpeg:https://www.whattododigital.com/wp-content/uploads/2026/01/Lyndhurst_Othello.jpg
END:VEVENT
BEGIN:VEVENT
DTSTART;TZID=America/New_York:20260215T150000
DTEND;TZID=America/New_York:20260215T150000
DTSTAMP:20260423T065841
CREATED:20260106T200104Z
LAST-MODIFIED:20260106T200104Z
UID:93381-1771167600-1771167600@www.whattododigital.com
SUMMARY:CT Ballet: Be My Valentine
DESCRIPTION:CT Ballet: Be My Valentine \nArtistic Director Brett Raphael curates this showcase of duets and company works performed by the company’s awe-inspiring soloists. Program includes duets by Brett Raphael\, Alexander Tressor\, a world premiere by Rodney Rivera to old-time Cuban danzon music and more! \nConnecticut Ballet
URL:https://www.whattododigital.com/event/ct-ballet-be-my-valentine/
LOCATION:Unitarian Universalist Church\, 20 Forest Street\, Stamford\, CT\, United States
CATEGORIES:Arts
ATTACH;FMTTYPE=image/jpeg:https://www.whattododigital.com/wp-content/uploads/2026/01/CT-ballet_Valentine-copy.jpg
END:VEVENT
END:VCALENDAR