BEGIN:VCALENDAR
VERSION:2.0
PRODID:-//What To Do - ECPv6.15.20//NONSGML v1.0//EN
CALSCALE:GREGORIAN
METHOD:PUBLISH
X-WR-CALNAME:What To Do
X-ORIGINAL-URL:https://www.whattododigital.com
X-WR-CALDESC:Events for What To Do
REFRESH-INTERVAL;VALUE=DURATION:PT1H
X-Robots-Tag:noindex
X-PUBLISHED-TTL:PT1H
BEGIN:VTIMEZONE
TZID:America/New_York
BEGIN:DAYLIGHT
TZOFFSETFROM:-0500
TZOFFSETTO:-0400
TZNAME:EDT
DTSTART:20250309T070000
END:DAYLIGHT
BEGIN:STANDARD
TZOFFSETFROM:-0400
TZOFFSETTO:-0500
TZNAME:EST
DTSTART:20251102T060000
END:STANDARD
BEGIN:DAYLIGHT
TZOFFSETFROM:-0500
TZOFFSETTO:-0400
TZNAME:EDT
DTSTART:20260308T070000
END:DAYLIGHT
BEGIN:STANDARD
TZOFFSETFROM:-0400
TZOFFSETTO:-0500
TZNAME:EST
DTSTART:20261101T060000
END:STANDARD
BEGIN:DAYLIGHT
TZOFFSETFROM:-0500
TZOFFSETTO:-0400
TZNAME:EDT
DTSTART:20270314T070000
END:DAYLIGHT
BEGIN:STANDARD
TZOFFSETFROM:-0400
TZOFFSETTO:-0500
TZNAME:EST
DTSTART:20271107T060000
END:STANDARD
END:VTIMEZONE
BEGIN:VEVENT
DTSTART;VALUE=DATE:20260228
DTEND;VALUE=DATE:20260301
DTSTAMP:20260423T002902
CREATED:20260106T162056Z
LAST-MODIFIED:20260106T162056Z
UID:93292-1772236800-1772323199@www.whattododigital.com
SUMMARY:Lyndhurst Theatre: Othello
DESCRIPTION:Lyndhurst Theatre: Othello \nM&M Performing Arts presents Othello by William Shakespeare February and March 2026 in the accessible first floor parlor of Lyndhurst Mansion. \nAri Mack stars as Othello\, the noble Moor of Venice and commanding warrior-general with Michael Muldoon as Iago\, the ambitious lieutenant and masterful manipulator. \nCheck for further dates and times. \nLyndhurst Theatre
URL:https://www.whattododigital.com/event/lyndhurst-theatre-othello-2/
LOCATION:Lyndhurst Mansion
CATEGORIES:Arts
ATTACH;FMTTYPE=image/jpeg:https://www.whattododigital.com/wp-content/uploads/2026/01/Lyndhurst_Othello.jpg
END:VEVENT
BEGIN:VEVENT
DTSTART;TZID=America/New_York:20260228T190000
DTEND;TZID=America/New_York:20260228T190000
DTSTAMP:20260423T002902
CREATED:20260112T200039Z
LAST-MODIFIED:20260112T200039Z
UID:93505-1772305200-1772305200@www.whattododigital.com
SUMMARY:Tarrytown Music Hall: Kathy Griffin: New Face New Tour
DESCRIPTION:Tarrytown Music Hall: Kathy Griffin: New Face New Tour \nKathy Griffin monetizes her latest face lift. \nTarrytown Music Hall
URL:https://www.whattododigital.com/event/tarrytown-music-hall-kathy-griffin-new-face-new-tour/
LOCATION:Tarrytown Music Hall
CATEGORIES:Arts
ATTACH;FMTTYPE=image/jpeg:https://www.whattododigital.com/wp-content/uploads/2026/01/TMH_KathyGriffin26fb-e1768248323704.jpeg
END:VEVENT
BEGIN:VEVENT
DTSTART;TZID=America/New_York:20260228T193000
DTEND;TZID=America/New_York:20260228T193000
DTSTAMP:20260423T002902
CREATED:20260102T173203Z
LAST-MODIFIED:20260102T173235Z
UID:92939-1772307000-1772307000@www.whattododigital.com
SUMMARY:Performing Arts Center Purchase: Ephrat Asherie Dance + Arturo O'Farrill
DESCRIPTION:Performing Arts Center Purchase: Ephrat Asherie Dance + Arturo O’Farrill \nChoreographer Ephrat Asherie draws on a unique remix of street and club dances including breaking\, hip hop\, house\, and waacking in the comppany’s new work Shadow Cities set to the live music of  Grammy Award-winning jazz pianist Arturo O’Farrill. \nPerforming Arts Center Purchase
URL:https://www.whattododigital.com/event/performing-arts-center-purchase-ephrat-asherie-dance-arturo-ofarrill/
LOCATION:CT
CATEGORIES:Arts
ATTACH;FMTTYPE=image/jpeg:https://www.whattododigital.com/wp-content/uploads/2026/01/PAC_OAC_EphratAsherie.jpeg
END:VEVENT
END:VCALENDAR