BEGIN:VCALENDAR
VERSION:2.0
PRODID:-//What To Do - ECPv6.15.20//NONSGML v1.0//EN
CALSCALE:GREGORIAN
METHOD:PUBLISH
X-ORIGINAL-URL:https://www.whattododigital.com
X-WR-CALDESC:Events for What To Do
REFRESH-INTERVAL;VALUE=DURATION:PT1H
X-Robots-Tag:noindex
X-PUBLISHED-TTL:PT1H
BEGIN:VTIMEZONE
TZID:America/New_York
BEGIN:DAYLIGHT
TZOFFSETFROM:-0500
TZOFFSETTO:-0400
TZNAME:EDT
DTSTART:20250309T070000
END:DAYLIGHT
BEGIN:STANDARD
TZOFFSETFROM:-0400
TZOFFSETTO:-0500
TZNAME:EST
DTSTART:20251102T060000
END:STANDARD
BEGIN:DAYLIGHT
TZOFFSETFROM:-0500
TZOFFSETTO:-0400
TZNAME:EDT
DTSTART:20260308T070000
END:DAYLIGHT
BEGIN:STANDARD
TZOFFSETFROM:-0400
TZOFFSETTO:-0500
TZNAME:EST
DTSTART:20261101T060000
END:STANDARD
BEGIN:DAYLIGHT
TZOFFSETFROM:-0500
TZOFFSETTO:-0400
TZNAME:EDT
DTSTART:20270314T070000
END:DAYLIGHT
BEGIN:STANDARD
TZOFFSETFROM:-0400
TZOFFSETTO:-0500
TZNAME:EST
DTSTART:20271107T060000
END:STANDARD
END:VTIMEZONE
BEGIN:VEVENT
DTSTART;TZID=America/New_York:20260614T190000
DTEND;TZID=America/New_York:20260614T190000
DTSTAMP:20260423T033534
CREATED:20260417T163611Z
LAST-MODIFIED:20260417T163611Z
UID:94472-1781463600-1781463600@www.whattododigital.com
SUMMARY:Capitol Theatre: Theresa Caputo
DESCRIPTION:Capitol Theatre: Theresa Caputo \nFor over a decade\, Theresa Caputo\, known worldwide as the Long Island Medium\, and star of the new Lifetime Series Raising Spirits\, has shared her messages of comfort and healing with more than a million and a half audience members worldwide. Recognized as one of the most renowned mediums for over 30 years\, Theresa Caputo Live: The Experience is the awe-inspiring event you won’t want to miss. \nCapitol Theatre
URL:https://www.whattododigital.com/event/capitol-theatre-theresa-caputo/
LOCATION:The Capitol Theatre\, 149 Westchester Avenue\, Port Chester\, NY\, 10573\, United States
CATEGORIES:Arts
ATTACH;FMTTYPE=image/jpeg:https://www.whattododigital.com/wp-content/uploads/2026/04/cap_theresaCaputo-copy.jpg
END:VEVENT
END:VCALENDAR