BEGIN:VCALENDAR
VERSION:2.0
PRODID:-//What To Do - ECPv6.15.20//NONSGML v1.0//EN
CALSCALE:GREGORIAN
METHOD:PUBLISH
X-ORIGINAL-URL:https://www.whattododigital.com
X-WR-CALDESC:Events for What To Do
REFRESH-INTERVAL;VALUE=DURATION:PT1H
X-Robots-Tag:noindex
X-PUBLISHED-TTL:PT1H
BEGIN:VTIMEZONE
TZID:America/New_York
BEGIN:DAYLIGHT
TZOFFSETFROM:-0500
TZOFFSETTO:-0400
TZNAME:EDT
DTSTART:20250309T070000
END:DAYLIGHT
BEGIN:STANDARD
TZOFFSETFROM:-0400
TZOFFSETTO:-0500
TZNAME:EST
DTSTART:20251102T060000
END:STANDARD
BEGIN:DAYLIGHT
TZOFFSETFROM:-0500
TZOFFSETTO:-0400
TZNAME:EDT
DTSTART:20260308T070000
END:DAYLIGHT
BEGIN:STANDARD
TZOFFSETFROM:-0400
TZOFFSETTO:-0500
TZNAME:EST
DTSTART:20261101T060000
END:STANDARD
BEGIN:DAYLIGHT
TZOFFSETFROM:-0500
TZOFFSETTO:-0400
TZNAME:EDT
DTSTART:20270314T070000
END:DAYLIGHT
BEGIN:STANDARD
TZOFFSETFROM:-0400
TZOFFSETTO:-0500
TZNAME:EST
DTSTART:20271107T060000
END:STANDARD
END:VTIMEZONE
BEGIN:VEVENT
DTSTART;VALUE=DATE:20260222
DTEND;VALUE=DATE:20260223
DTSTAMP:20260423T035113
CREATED:20260106T163304Z
LAST-MODIFIED:20260106T163304Z
UID:93325-1771718400-1771804799@www.whattododigital.com
SUMMARY:Lyndhurst Theatre: Othello
DESCRIPTION:Lyndhurst Theatre: Othello \nM&M Performing Arts presents Othello by William Shakespeare February and March 2026 in the accessible first floor parlor of Lyndhurst Mansion. \nAri Mack stars as Othello\, the noble Moor of Venice and commanding warrior-general with Michael Muldoon as Iago\, the ambitious lieutenant and masterful manipulator. \nCheck for further dates and times. \nLyndhurst Theatre
URL:https://www.whattododigital.com/event/lyndhurst-theatre-othello-13/
LOCATION:Lyndhurst Mansion
CATEGORIES:Arts
ATTACH;FMTTYPE=image/jpeg:https://www.whattododigital.com/wp-content/uploads/2026/01/Lyndhurst_Othello.jpg
END:VEVENT
BEGIN:VEVENT
DTSTART;VALUE=DATE:20260221
DTEND;VALUE=DATE:20260222
DTSTAMP:20260423T035113
CREATED:20260106T163159Z
LAST-MODIFIED:20260106T163159Z
UID:93322-1771632000-1771718399@www.whattododigital.com
SUMMARY:Lyndhurst Theatre: Othello
DESCRIPTION:Lyndhurst Theatre: Othello \nM&M Performing Arts presents Othello by William Shakespeare February and March 2026 in the accessible first floor parlor of Lyndhurst Mansion. \nAri Mack stars as Othello\, the noble Moor of Venice and commanding warrior-general with Michael Muldoon as Iago\, the ambitious lieutenant and masterful manipulator. \nCheck for further dates and times. \nLyndhurst Theatre
URL:https://www.whattododigital.com/event/lyndhurst-theatre-othello-12/
LOCATION:Lyndhurst Mansion
CATEGORIES:Arts
ATTACH;FMTTYPE=image/jpeg:https://www.whattododigital.com/wp-content/uploads/2026/01/Lyndhurst_Othello.jpg
END:VEVENT
BEGIN:VEVENT
DTSTART;VALUE=DATE:20260221
DTEND;VALUE=DATE:20260222
DTSTAMP:20260423T035113
CREATED:20260106T163049Z
LAST-MODIFIED:20260106T163049Z
UID:93319-1771632000-1771718399@www.whattododigital.com
SUMMARY:Lyndhurst Theatre: Othello
DESCRIPTION:Lyndhurst Theatre: Othello \nM&M Performing Arts presents Othello by William Shakespeare February and March 2026 in the accessible first floor parlor of Lyndhurst Mansion. \nAri Mack stars as Othello\, the noble Moor of Venice and commanding warrior-general with Michael Muldoon as Iago\, the ambitious lieutenant and masterful manipulator. \nCheck for further dates and times. \nLyndhurst Theatre
URL:https://www.whattododigital.com/event/lyndhurst-theatre-othello-11/
LOCATION:Lyndhurst Mansion
CATEGORIES:Arts
ATTACH;FMTTYPE=image/jpeg:https://www.whattododigital.com/wp-content/uploads/2026/01/Lyndhurst_Othello.jpg
END:VEVENT
BEGIN:VEVENT
DTSTART;TZID=America/New_York:20260220T200000
DTEND;TZID=America/New_York:20260220T200000
DTSTAMP:20260423T035113
CREATED:20260108T164101Z
LAST-MODIFIED:20260108T164101Z
UID:93441-1771617600-1771617600@www.whattododigital.com
SUMMARY:Tarrytown Music Hall: Colin Quinn
DESCRIPTION:Tarrytown Music Hall: Colin Quinn \nComedian\, Actor\, and Author Colin Quinn continues with his comedic take on the roller coaster ride of American politics and culture. \nTarrytown Music Hall
URL:https://www.whattododigital.com/event/tarrytown-music-hall-colin-quinn/
LOCATION:Tarrytown Music Hall
CATEGORIES:Arts
ATTACH;FMTTYPE=image/jpeg:https://www.whattododigital.com/wp-content/uploads/2026/01/TMH_ColinQuinn26fb.jpeg
END:VEVENT
BEGIN:VEVENT
DTSTART;TZID=America/New_York:20260217T190000
DTEND;TZID=America/New_York:20260217T190000
DTSTAMP:20260423T035113
CREATED:20260102T211107Z
LAST-MODIFIED:20260102T211107Z
UID:93030-1771354800-1771354800@www.whattododigital.com
SUMMARY:The Palace Stamford: The Sleeping Beauty
DESCRIPTION:The Palace Stamford: The Sleeping Beauty \nExperience Tchaikovsky’s unforgettable The Sleeping Beauty\, a timeless fairytale set performed by international ballet stars and set to a magical stage design. \nThe Palace Stamford
URL:https://www.whattododigital.com/event/the-palace-stamford-the-sleeping-beauty/
LOCATION:The Palace Stamford\, 61 Atlantic St.\, Stamford\, CT\, 06901\, United States
CATEGORIES:Arts
ATTACH;FMTTYPE=image/jpeg:https://www.whattododigital.com/wp-content/uploads/2026/01/Palace_sleepingbeauty.jpeg
END:VEVENT
BEGIN:VEVENT
DTSTART;TZID=America/New_York:20260215T150000
DTEND;TZID=America/New_York:20260215T150000
DTSTAMP:20260423T035113
CREATED:20260106T200104Z
LAST-MODIFIED:20260106T200104Z
UID:93381-1771167600-1771167600@www.whattododigital.com
SUMMARY:CT Ballet: Be My Valentine
DESCRIPTION:CT Ballet: Be My Valentine \nArtistic Director Brett Raphael curates this showcase of duets and company works performed by the company’s awe-inspiring soloists. Program includes duets by Brett Raphael\, Alexander Tressor\, a world premiere by Rodney Rivera to old-time Cuban danzon music and more! \nConnecticut Ballet
URL:https://www.whattododigital.com/event/ct-ballet-be-my-valentine/
LOCATION:Unitarian Universalist Church\, 20 Forest Street\, Stamford\, CT\, United States
CATEGORIES:Arts
ATTACH;FMTTYPE=image/jpeg:https://www.whattododigital.com/wp-content/uploads/2026/01/CT-ballet_Valentine-copy.jpg
END:VEVENT
BEGIN:VEVENT
DTSTART;VALUE=DATE:20260215
DTEND;VALUE=DATE:20260216
DTSTAMP:20260423T035114
CREATED:20260106T162821Z
LAST-MODIFIED:20260106T162821Z
UID:93313-1771113600-1771199999@www.whattododigital.com
SUMMARY:Lyndhurst Theatre: Othello
DESCRIPTION:Lyndhurst Theatre: Othello \nM&M Performing Arts presents Othello by William Shakespeare February and March 2026 in the accessible first floor parlor of Lyndhurst Mansion. \nAri Mack stars as Othello\, the noble Moor of Venice and commanding warrior-general with Michael Muldoon as Iago\, the ambitious lieutenant and masterful manipulator. \nCheck for further dates and times. \nLyndhurst Theatre
URL:https://www.whattododigital.com/event/lyndhurst-theatre-othello-9/
LOCATION:Lyndhurst Mansion
CATEGORIES:Arts
ATTACH;FMTTYPE=image/jpeg:https://www.whattododigital.com/wp-content/uploads/2026/01/Lyndhurst_Othello.jpg
END:VEVENT
BEGIN:VEVENT
DTSTART;TZID=America/New_York:20260214T200000
DTEND;TZID=America/New_York:20260214T200000
DTSTAMP:20260423T035114
CREATED:20260105T220612Z
LAST-MODIFIED:20260105T220612Z
UID:93209-1771099200-1771099200@www.whattododigital.com
SUMMARY:Ridgefield Playhouse: Jon Lovitz
DESCRIPTION:Ridgefield Playhouse: Jon Lovitz \nJon Lovitz was nominated for an Emmy his first two years on “Saturday Night Live”. While on SNL\, he became known for his characters “Tommy Flanagan of the Pathological Liars Anonymous\,” “Master Thespian\,” “Hanukkah Harry\,” and “the Devil.” \nHe has appeared in over 40 films\, including “Big\,” “A League of Their Own\,” “The Wedding Singer\,” “High School High\,” “Small Time Crooks\,” “Rat Race\,” “The Producers\,” “Eight Crazy Nights\,” “The Benchwarmers\,” “Grown Ups 2\,” “The Ridiculous 6\,” among many others. \nRidgefield Playhouse: \n 
URL:https://www.whattododigital.com/event/ridgefield-playhouse-jon-lovitz/
LOCATION:The Ridgefield Playhouse\, 80 East Ridge\, Ridfgefield\, CT\, 06877\, United States
CATEGORIES:Arts
ATTACH;FMTTYPE=image/jpeg:https://www.whattododigital.com/wp-content/uploads/2026/01/RPH-JON-LOVITZ-550x800-3-1-copy.jpg
END:VEVENT
BEGIN:VEVENT
DTSTART;VALUE=DATE:20260214
DTEND;VALUE=DATE:20260215
DTSTAMP:20260423T035114
CREATED:20260106T162724Z
LAST-MODIFIED:20260106T162724Z
UID:93310-1771027200-1771113599@www.whattododigital.com
SUMMARY:Lyndhurst Theatre: Othello
DESCRIPTION:Lyndhurst Theatre: Othello \nM&M Performing Arts presents Othello by William Shakespeare February and March 2026 in the accessible first floor parlor of Lyndhurst Mansion. \nAri Mack stars as Othello\, the noble Moor of Venice and commanding warrior-general with Michael Muldoon as Iago\, the ambitious lieutenant and masterful manipulator. \nCheck for further dates and times. \nLyndhurst Theatre
URL:https://www.whattododigital.com/event/lyndhurst-theatre-othello-8/
LOCATION:Lyndhurst Mansion
CATEGORIES:Arts
ATTACH;FMTTYPE=image/jpeg:https://www.whattododigital.com/wp-content/uploads/2026/01/Lyndhurst_Othello.jpg
END:VEVENT
BEGIN:VEVENT
DTSTART;TZID=America/New_York:20260213T200000
DTEND;TZID=America/New_York:20260213T200000
DTSTAMP:20260423T035114
CREATED:20260105T193942Z
LAST-MODIFIED:20260105T193942Z
UID:93106-1771012800-1771012800@www.whattododigital.com
SUMMARY:Emelin Theatre: Joe Matarese
DESCRIPTION:Emelin Theatre: Joe Matarese \nYou may have seen him bring the house down on America’s Got Talent\, The Late Show with David Letterman\, or Comedy Central Presents (his very own 1/2 hour special).  Joe’s 4 comedy specials—Medicated\, The Poster’s Wrong\, Mullets and Mixtapes\, and Almost Sold Out—have made him a favorite among fans who appreciate humor with heart\, edge\, and a touch of nostalgia. \nEmelin Theatre
URL:https://www.whattododigital.com/event/emelin-theatre-joe-matarese/
LOCATION:Emelin Theatre
CATEGORIES:Arts
ATTACH;FMTTYPE=image/jpeg:https://www.whattododigital.com/wp-content/uploads/2026/01/Emelin_JoeMatarese.jpeg
END:VEVENT
BEGIN:VEVENT
DTSTART;VALUE=DATE:20260213
DTEND;VALUE=DATE:20260214
DTSTAMP:20260423T035114
CREATED:20260106T162631Z
LAST-MODIFIED:20260106T162631Z
UID:93307-1770940800-1771027199@www.whattododigital.com
SUMMARY:Lyndhurst Theatre: Othello
DESCRIPTION:Lyndhurst Theatre: Othello \nM&M Performing Arts presents Othello by William Shakespeare February and March 2026 in the accessible first floor parlor of Lyndhurst Mansion. \nAri Mack stars as Othello\, the noble Moor of Venice and commanding warrior-general with Michael Muldoon as Iago\, the ambitious lieutenant and masterful manipulator. \nCheck for further dates and times. \nLyndhurst Theatre
URL:https://www.whattododigital.com/event/lyndhurst-theatre-othello-7/
LOCATION:Lyndhurst Mansion
CATEGORIES:Arts
ATTACH;FMTTYPE=image/jpeg:https://www.whattododigital.com/wp-content/uploads/2026/01/Lyndhurst_Othello.jpg
END:VEVENT
BEGIN:VEVENT
DTSTART;TZID=America/New_York:20260212T200000
DTEND;TZID=America/New_York:20260212T200000
DTSTAMP:20260423T035114
CREATED:20260102T210401Z
LAST-MODIFIED:20260102T210401Z
UID:93025-1770926400-1770926400@www.whattododigital.com
SUMMARY:The Palace Stamford: Trevor Noah
DESCRIPTION:The Palace Stamford: Trevor Noah \nTrevor Noah\, the host of the Emmy® Award-winning “The Daily Show” on Comedy Central for seven years and The Grammy Awards for five\, brings his stand-up routines to The Palace Stamford. \nThe Palace Stamford
URL:https://www.whattododigital.com/event/the-palace-stamford-trevor-noah/
LOCATION:The Palace Stamford\, 61 Atlantic St.\, Stamford\, CT\, 06901\, United States
CATEGORIES:Arts
ATTACH;FMTTYPE=image/jpeg:https://www.whattododigital.com/wp-content/uploads/2026/01/Palace3_trevornoah.jpeg
END:VEVENT
BEGIN:VEVENT
DTSTART;TZID=America/New_York:20260210T193000
DTEND;TZID=America/New_York:20260210T193000
DTSTAMP:20260423T035114
CREATED:20260102T201553Z
LAST-MODIFIED:20260102T201611Z
UID:93006-1770751800-1770751800@www.whattododigital.com
SUMMARY:Westchester County Center: Dancing with the Stars
DESCRIPTION:Westchester County Center: Dancing with the Stars \nSee the glitz\, glam and breathtaking performances of America’s favorite dance show with this ALL-NEW SHOW starring your favorite pros Alan Bersten\, Brandon Armstrong\, Britt Stewart\, Daniella Karagach\, Emma Slater\, Ezra Sosa\, Jenna Johnson\, Pasha Pashkov\, Val Chmerkovskiy\, Hailey Bills and special guest co-host Danielle Fishel! \nWestchester County Center
URL:https://www.whattododigital.com/event/westchester-county-center-dancing-with-the-stars/
LOCATION:Westchester County Center\, 198 Central Ave\, White Plains\, NY\, 10606\, United States
CATEGORIES:Arts
ATTACH;FMTTYPE=image/jpeg:https://www.whattododigital.com/wp-content/uploads/2026/01/WCC_DWS_winter25.jpg
END:VEVENT
BEGIN:VEVENT
DTSTART;TZID=America/New_York:20260208T140000
DTEND;TZID=America/New_York:20260208T140000
DTSTAMP:20260423T035114
CREATED:20260106T151715Z
LAST-MODIFIED:20260106T151715Z
UID:93260-1770559200-1770559200@www.whattododigital.com
SUMMARY:ARC Stages: First Lady Suite
DESCRIPTION:ARC Stages: First Lady Suite \nFirst Lady Suite looks at the lives of four often-overlooked historical figures: Jacqueline Bouvier Kennedy\, Mamie Eisenhower\, Bess Truman\, and Eleanor Roosevelt. A musical fantasy that explores their personal struggles and relationships\, offering a unique\, theatrical lens into the lives of these first ladies. \nARC Stages
URL:https://www.whattododigital.com/event/arc-stages-first-lady-suite-6/
LOCATION:Arc Stages\, 147 WHEELER AVENUE\, Pleasantville\, NY\, United States
CATEGORIES:Arts
ATTACH;FMTTYPE=image/jpeg:https://www.whattododigital.com/wp-content/uploads/2026/01/Arc_Stages_First_Lady_Suite_Poster-copy.jpg
END:VEVENT
BEGIN:VEVENT
DTSTART;TZID=America/New_York:20260207T200000
DTEND;TZID=America/New_York:20260207T200000
DTSTAMP:20260423T035114
CREATED:20260106T151605Z
LAST-MODIFIED:20260106T151605Z
UID:93257-1770494400-1770494400@www.whattododigital.com
SUMMARY:ARC Stages: First Lady Suite
DESCRIPTION:ARC Stages: First Lady Suite \nFirst Lady Suite looks at the lives of four often-overlooked historical figures: Jacqueline Bouvier Kennedy\, Mamie Eisenhower\, Bess Truman\, and Eleanor Roosevelt. A musical fantasy that explores their personal struggles and relationships\, offering a unique\, theatrical lens into the lives of these first ladies. \nARC Stages
URL:https://www.whattododigital.com/event/arc-stages-first-lady-suite-5/
LOCATION:NY
CATEGORIES:Arts
ATTACH;FMTTYPE=image/jpeg:https://www.whattododigital.com/wp-content/uploads/2026/01/Arc_Stages_First_Lady_Suite_Poster-copy.jpg
END:VEVENT
BEGIN:VEVENT
DTSTART;TZID=America/New_York:20260207T080000
DTEND;TZID=America/New_York:20260207T170000
DTSTAMP:20260423T035114
CREATED:20260106T200950Z
LAST-MODIFIED:20260106T200950Z
UID:93387-1770451200-1770483600@www.whattododigital.com
SUMMARY:New York Botanical Garden Orchid Show
DESCRIPTION:New York Botanical Garden Orchid Show: Mr Flower Fantastic’s Concrete Jungle \nAt The Orchid Show: Mr. Flower Fantastic’s Concrete Jungle\, orchids collide with concrete in a dazzling reimagining of the Big Apple\, from stoops and slice shops to the subway itself. Step into a breathtaking fusion of nature and cityscape artistry in the Enid A. Haupt Conservatory\, and experience the flair and style of New York transformed by thousands of flowers. \nOpens on Saturday February 7 and runs through Sunday April 26. \nThe Garden is open 10 a.m.–6 p.m.\, Tuesday–Sunday\, and Monday federal holidays. \nNew York Botanical Garden
URL:https://www.whattododigital.com/event/new-york-botanical-garden-orchid-show/
LOCATION:New York Botanical Garden\, 2900 Southern Blvd.\, Bronx\, NY\, 10458-5126\, United States
CATEGORIES:Arts
ATTACH;FMTTYPE=image/jpeg:https://www.whattododigital.com/wp-content/uploads/2026/01/NYBG_Orchid.jpeg
END:VEVENT
BEGIN:VEVENT
DTSTART;TZID=America/New_York:20260207T080000
DTEND;TZID=America/New_York:20260207T170000
DTSTAMP:20260423T035114
CREATED:20260106T162407Z
LAST-MODIFIED:20260106T162407Z
UID:93301-1770451200-1770483600@www.whattododigital.com
SUMMARY:Lyndhurst Theatre: Othello
DESCRIPTION:Lyndhurst Theatre: Othello \nM&M Performing Arts presents Othello by William Shakespeare February and March 2026 in the accessible first floor parlor of Lyndhurst Mansion. \nAri Mack stars as Othello\, the noble Moor of Venice and commanding warrior-general with Michael Muldoon as Iago\, the ambitious lieutenant and masterful manipulator. \nCheck for further dates and times. \nLyndhurst Theatre
URL:https://www.whattododigital.com/event/lyndhurst-theatre-othello-5/
LOCATION:Lyndhurst Mansion
CATEGORIES:Arts
ATTACH;FMTTYPE=image/jpeg:https://www.whattododigital.com/wp-content/uploads/2026/01/Lyndhurst_Othello.jpg
END:VEVENT
BEGIN:VEVENT
DTSTART;VALUE=DATE:20260206
DTEND;VALUE=DATE:20260207
DTSTAMP:20260423T035114
CREATED:20260106T162305Z
LAST-MODIFIED:20260106T162305Z
UID:93298-1770336000-1770422399@www.whattododigital.com
SUMMARY:Lyndhurst Theatre: Othello
DESCRIPTION:Lyndhurst Theatre: Othello \nM&M Performing Arts presents Othello by William Shakespeare February and March 2026 in the accessible first floor parlor of Lyndhurst Mansion. \nAri Mack stars as Othello\, the noble Moor of Venice and commanding warrior-general with Michael Muldoon as Iago\, the ambitious lieutenant and masterful manipulator. \nCheck for further dates and times. \nLyndhurst Theatre
URL:https://www.whattododigital.com/event/lyndhurst-theatre-othello-4/
LOCATION:Lyndhurst Mansion
CATEGORIES:Arts
ATTACH;FMTTYPE=image/jpeg:https://www.whattododigital.com/wp-content/uploads/2026/01/Lyndhurst_Othello.jpg
END:VEVENT
BEGIN:VEVENT
DTSTART;TZID=America/New_York:20260201T150000
DTEND;TZID=America/New_York:20260201T150000
DTSTAMP:20260423T035114
CREATED:20260108T162911Z
LAST-MODIFIED:20260108T162911Z
UID:93431-1769958000-1769958000@www.whattododigital.com
SUMMARY:Tarrytown Music Hall: Broadway Rocks
DESCRIPTION:Tarrytown Music Hall: Broadway Rocks \nSome of Broadway’s biggest stars perform your favorite show tunes and rock n’ roll hits while telling hilarious stories from their exciting careers on Broadway and beyond! \nTarrytown Music Hall
URL:https://www.whattododigital.com/event/tarrytown-music-hall-broadway-rocks/
LOCATION:Tarrytown Music Hall
CATEGORIES:Arts,Music
ATTACH;FMTTYPE=image/jpeg:https://www.whattododigital.com/wp-content/uploads/2026/01/TMH_BwayRocks.jpeg
END:VEVENT
BEGIN:VEVENT
DTSTART;TZID=America/New_York:20260201T110000
DTEND;TZID=America/New_York:20260201T170000
DTSTAMP:20260423T035114
CREATED:20260102T201027Z
LAST-MODIFIED:20260102T201027Z
UID:93003-1769943600-1769965200@www.whattododigital.com
SUMMARY:Art Show Bedford
DESCRIPTION:Art Show Bedford  \nForty-four local artists present works in painting\, photography\, mixed media\, digital art\, clay and wearable art to support local charities at this 53rd Annual Art Show Bedford at St\, Matthews Church in Bedford. \nArt Show Bedford
URL:https://www.whattododigital.com/event/art-show-bedford-5/
LOCATION:St. Matthew’s Episcopal Church\, 382 Cantitoe\, Bedford Village\, NY\, 10506\, United States
CATEGORIES:Arts
ATTACH;FMTTYPE=image/jpeg:https://www.whattododigital.com/wp-content/uploads/2026/01/Art-Show-Bedford.jpg
END:VEVENT
BEGIN:VEVENT
DTSTART;TZID=America/New_York:20260131T200000
DTEND;TZID=America/New_York:20260131T200000
DTSTAMP:20260423T035114
CREATED:20260106T151402Z
LAST-MODIFIED:20260106T151402Z
UID:93251-1769889600-1769889600@www.whattododigital.com
SUMMARY:ARC Stages: First Lady Suite
DESCRIPTION:ARC Stages: First Lady Suite \nFirst Lady Suite looks at the lives of four often-overlooked historical figures: Jacqueline Bouvier Kennedy\, Mamie Eisenhower\, Bess Truman\, and Eleanor Roosevelt. A musical fantasy that explores their personal struggles and relationships\, offering a unique\, theatrical lens into the lives of these first ladies. \nARC Stages
URL:https://www.whattododigital.com/event/arc-stages-first-lady-suite-3/
LOCATION:Arc Stages\, 147 WHEELER AVENUE\, Pleasantville\, NY\, United States
CATEGORIES:Arts
ATTACH;FMTTYPE=image/jpeg:https://www.whattododigital.com/wp-content/uploads/2026/01/Arc_Stages_First_Lady_Suite_Poster-copy.jpg
END:VEVENT
BEGIN:VEVENT
DTSTART;TZID=America/New_York:20260131T200000
DTEND;TZID=America/New_York:20260131T200000
DTSTAMP:20260423T035114
CREATED:20260105T192202Z
LAST-MODIFIED:20260105T192202Z
UID:93091-1769889600-1769889600@www.whattododigital.com
SUMMARY:Emelin Theatre: Kerry Butler: Breaking Broadway
DESCRIPTION:Emelin Theatre: Kerry Butler: Breaking Broadway \nKnown for her show-stopping performances in Hairspray\, Xanadu\, Mean Girls\, and Beetlejuice\, Tony-nominated Broadway star Kerry Butler brings her acclaimed solo show Breaking Broadway to the stage for an evening of stories and songs from her extraordinary career on and off the Great White Way. \nEmelin Theatre
URL:https://www.whattododigital.com/event/emelin-theatre-kerry-butler-breaking-broadway/
LOCATION:Emelin Theatre
CATEGORIES:Arts,Music
ATTACH;FMTTYPE=image/jpeg:https://www.whattododigital.com/wp-content/uploads/2026/01/Emelin_Kerry-Butler-Breaking-Broadway-Banner-1.jpeg
END:VEVENT
BEGIN:VEVENT
DTSTART;TZID=America/New_York:20260131T193000
DTEND;TZID=America/New_York:20260131T193000
DTSTAMP:20260423T035114
CREATED:20260112T171737Z
LAST-MODIFIED:20260112T171737Z
UID:93482-1769887800-1769887800@www.whattododigital.com
SUMMARY:White Plains Performing Arts Center: John Lloyd Young: Broadway's Jersey Boy
DESCRIPTION:White Plains Performing Arts Center: John Lloyd Young: Broadway’s Jersey Boy \nTony and Grammy Award winner John Lloyd Young originated the role of Frankie Valli in Broadway’s Tony Award-winning Best Musical and international hit\, JERSEY BOYS. For his performance as Valli\, Mr. Young won the Lead Actor Tony\, Drama Desk\, Outer Critics Circle\, and Theatre World Awards\, becoming the only American actor in history to win all four leading actor awards for a Broadway debut. \nHere he performs a full repertoire of nostalgic pop and R&B to jazz\, Broadway\, and beyond. \nWhite Plains Performing Arts Center
URL:https://www.whattododigital.com/event/white-plains-performing-arts-center-john-lloyd-young-broadways-jersey-boy/
LOCATION:White Plains Performing Arts Center
CATEGORIES:Arts,Music
ATTACH;FMTTYPE=image/jpeg:https://www.whattododigital.com/wp-content/uploads/2026/01/WPPAC_Jersey-Boy-.jpeg
END:VEVENT
BEGIN:VEVENT
DTSTART;TZID=America/New_York:20260131T193000
DTEND;TZID=America/New_York:20260131T193000
DTSTAMP:20260423T035114
CREATED:20260102T165809Z
LAST-MODIFIED:20260102T165809Z
UID:92926-1769887800-1769887800@www.whattododigital.com
SUMMARY:Performing Arts Center Purchase: Cirque Mechanics: Tilt
DESCRIPTION:Performing Arts Center Purchase: Cirque Mechanics: Tilt \nIn Cirque Mechanics‘ unique approach to circus\, breathtaking acrobatics meet mechanical marvels. Their latest production\, Tilt! is a high-flying homage to America’s iconic amusement parks\, full of 1980s nostalgia. Experience a whirlwind of stunts\, surprises\, and silliness under the lights of the Ferris wheel\, where you’ll meet the carnies\, characters\, and operators that keep the thrills coming. \nPerforming Arts Center Purchase
URL:https://www.whattododigital.com/event/performing-arts-center-purchase-cirque-mechanics-tilt/
LOCATION:The Performing Arts Center Purchase College\, 735 Anderson Hill Rd.\, Purchase\, Purchase\, NY\, 10577\, United States
CATEGORIES:Arts
ATTACH;FMTTYPE=image/jpeg:https://www.whattododigital.com/wp-content/uploads/2026/01/PAC_CirqueMechanics.jpeg
END:VEVENT
BEGIN:VEVENT
DTSTART;TZID=America/New_York:20260131T140000
DTEND;TZID=America/New_York:20260131T140000
DTSTAMP:20260423T035114
CREATED:20260106T151302Z
LAST-MODIFIED:20260106T151302Z
UID:93248-1769868000-1769868000@www.whattododigital.com
SUMMARY:ARC Stages: First Lady Suite
DESCRIPTION:ARC Stages: First Lady Suite \nFirst Lady Suite looks at the lives of four often-overlooked historical figures: Jacqueline Bouvier Kennedy\, Mamie Eisenhower\, Bess Truman\, and Eleanor Roosevelt. A musical fantasy that explores their personal struggles and relationships\, offering a unique\, theatrical lens into the lives of these first ladies. \nARC Stages
URL:https://www.whattododigital.com/event/arc-stages-first-lady-suite-2/
LOCATION:NY
CATEGORIES:Arts
ATTACH;FMTTYPE=image/jpeg:https://www.whattododigital.com/wp-content/uploads/2026/01/Arc_Stages_First_Lady_Suite_Poster-copy.jpg
END:VEVENT
BEGIN:VEVENT
DTSTART;TZID=America/New_York:20260131T110000
DTEND;TZID=America/New_York:20260131T170000
DTSTAMP:20260423T035114
CREATED:20260102T200918Z
LAST-MODIFIED:20260102T200918Z
UID:93000-1769857200-1769878800@www.whattododigital.com
SUMMARY:Art Show Bedford
DESCRIPTION:Art Show Bedford  \nForty-four local artists present works in painting\, photography\, mixed media\, digital art\, clay and wearable art to support local charities at this 53rd Annual Art Show Bedford at St\, Matthews Church in Bedford. \nArt Show Bedford
URL:https://www.whattododigital.com/event/art-show-bedford-4/
LOCATION:St. Matthew’s Episcopal Church\, 382 Cantitoe\, Bedford Village\, NY\, 10506\, United States
CATEGORIES:Arts
ATTACH;FMTTYPE=image/jpeg:https://www.whattododigital.com/wp-content/uploads/2026/01/Art-Show-Bedford.jpg
END:VEVENT
BEGIN:VEVENT
DTSTART;TZID=America/New_York:20260130T193000
DTEND;TZID=America/New_York:20260130T193000
DTSTAMP:20260423T035114
CREATED:20260102T153310Z
LAST-MODIFIED:20260102T153310Z
UID:92921-1769801400-1769801400@www.whattododigital.com
SUMMARY:Performing Arts Center Purchase College: Parsons Dance
DESCRIPTION:Performing Arts Center Purchase College: Parsons Dance \n“This is a ‘dance your heart out’ (at all times\, no excuses) kind of enterprise” – The New York Times \nKnown for its energized\, athletic\, and joyous style\, Parsons Dance creates and performs contemporary American dance that has thrilled audiences worldwide. Bold ensemble work\, effortless movement\, and stunning dancers come together in performances that lift hearts\, spark creativity\, and remind us that dance can connect us all. \nPerforming Arts Center Purchase
URL:https://www.whattododigital.com/event/performing-arts-center-purchase-college-parsons-dance/
LOCATION:The Performing Arts Center Purchase College\, 735 Anderson Hill Rd.\, Purchase\, Purchase\, NY\, 10577\, United States
CATEGORIES:Arts
ATTACH;FMTTYPE=image/jpeg:https://www.whattododigital.com/wp-content/uploads/2026/01/PAC_Parsons-Dance.jpeg
END:VEVENT
BEGIN:VEVENT
DTSTART;TZID=America/New_York:20260130T110000
DTEND;TZID=America/New_York:20260130T170000
DTSTAMP:20260423T035114
CREATED:20260102T200806Z
LAST-MODIFIED:20260102T200806Z
UID:92997-1769770800-1769792400@www.whattododigital.com
SUMMARY:Art Show Bedford
DESCRIPTION:Art Show Bedford  \nForty-four local artists present works in painting\, photography\, mixed media\, digital art\, clay and wearable art to support local charities at this 53rd Annual Art Show Bedford at St\, Matthews Church in Bedford. \nArt Show Bedford
URL:https://www.whattododigital.com/event/art-show-bedford-3/
LOCATION:St. Matthew’s Episcopal Church\, 382 Cantitoe\, Bedford Village\, NY\, 10506\, United States
CATEGORIES:Arts
ATTACH;FMTTYPE=image/jpeg:https://www.whattododigital.com/wp-content/uploads/2026/01/Art-Show-Bedford.jpg
END:VEVENT
BEGIN:VEVENT
DTSTART;TZID=America/New_York:20260125T193000
DTEND;TZID=America/New_York:20260125T193000
DTSTAMP:20260423T035114
CREATED:20260105T220046Z
LAST-MODIFIED:20260105T220046Z
UID:93206-1769369400-1769369400@www.whattododigital.com
SUMMARY:Ridgefield Playhouse: James Austin Johnson
DESCRIPTION:Ridgefield Playhouse: James Austin Johnson \nA comedian and actor currently in his fourth season as a cast member on “SATURDAY NIGHT LIVE\,” James Austin Johnson is known for his uncanny portrayal of Donald Trump. \nRidgefield Playhouse
URL:https://www.whattododigital.com/event/ridgefield-playhouse-james-austin-johnson/
LOCATION:NY
CATEGORIES:Arts
ATTACH;FMTTYPE=image/jpeg:https://www.whattododigital.com/wp-content/uploads/2025/08/RPH-JAMES-AUSTIN-JOHNSON-550x800-1.jpg
END:VEVENT
BEGIN:VEVENT
DTSTART;TZID=America/New_York:20260125T110000
DTEND;TZID=America/New_York:20260125T170000
DTSTAMP:20260423T035114
CREATED:20260102T200619Z
LAST-MODIFIED:20260102T200619Z
UID:92994-1769338800-1769360400@www.whattododigital.com
SUMMARY:Art Show Bedford
DESCRIPTION:Art Show Bedford  \nForty-four local artists present works in painting\, photography\, mixed media\, digital art\, clay and wearable art to support local charities at this 53rd Annual Art Show Bedford at St\, Matthews Church in Bedford. \nArt Show Bedford
URL:https://www.whattododigital.com/event/art-show-bedford-2/
LOCATION:St. Matthew’s Episcopal Church\, 382 Cantitoe\, Bedford Village\, NY\, 10506\, United States
CATEGORIES:Arts
END:VEVENT
END:VCALENDAR