BEGIN:VCALENDAR
VERSION:2.0
PRODID:-//What To Do - ECPv6.15.20//NONSGML v1.0//EN
CALSCALE:GREGORIAN
METHOD:PUBLISH
X-WR-CALNAME:What To Do
X-ORIGINAL-URL:https://www.whattododigital.com
X-WR-CALDESC:Events for What To Do
REFRESH-INTERVAL;VALUE=DURATION:PT1H
X-Robots-Tag:noindex
X-PUBLISHED-TTL:PT1H
BEGIN:VTIMEZONE
TZID:America/New_York
BEGIN:DAYLIGHT
TZOFFSETFROM:-0500
TZOFFSETTO:-0400
TZNAME:EDT
DTSTART:20240310T070000
END:DAYLIGHT
BEGIN:STANDARD
TZOFFSETFROM:-0400
TZOFFSETTO:-0500
TZNAME:EST
DTSTART:20241103T060000
END:STANDARD
BEGIN:DAYLIGHT
TZOFFSETFROM:-0500
TZOFFSETTO:-0400
TZNAME:EDT
DTSTART:20250309T070000
END:DAYLIGHT
BEGIN:STANDARD
TZOFFSETFROM:-0400
TZOFFSETTO:-0500
TZNAME:EST
DTSTART:20251102T060000
END:STANDARD
BEGIN:DAYLIGHT
TZOFFSETFROM:-0500
TZOFFSETTO:-0400
TZNAME:EDT
DTSTART:20260308T070000
END:DAYLIGHT
BEGIN:STANDARD
TZOFFSETFROM:-0400
TZOFFSETTO:-0500
TZNAME:EST
DTSTART:20261101T060000
END:STANDARD
END:VTIMEZONE
BEGIN:VEVENT
DTSTART;TZID=America/New_York:20251003T183000
DTEND;TZID=America/New_York:20251003T213000
DTSTAMP:20260424T041847
CREATED:20250821T152710Z
LAST-MODIFIED:20250821T152710Z
UID:88498-1759516200-1759527000@www.whattododigital.com
SUMMARY:Community Center of Northern Westchester 2025 Benefit
DESCRIPTION:Community Center of Northern Westchester 2025 Benefit \nThe Community Center of Westchester supplies food and clothing\, and an array of services to neighbors in need in Northern Westchester . \nTheir annual benefit at St. Matthews Church in Bedford is part of their 2025 fundraising drive to raise $350\,000. \nCommunity Center of Northern Westchester
URL:https://www.whattododigital.com/event/community-center-of-northern-westchester-2025-benefit/
LOCATION:St. Matthew’s Episcopal Church\, 382 Cantitoe\, Bedford Village\, NY\, 10506\, United States
CATEGORIES:Benefits
ATTACH;FMTTYPE=image/jpeg:https://www.whattododigital.com/wp-content/uploads/2025/08/CCNW_Benefit-2025.jpg
END:VEVENT
END:VCALENDAR