BEGIN:VCALENDAR
VERSION:2.0
PRODID:-//What To Do - ECPv6.15.20//NONSGML v1.0//EN
CALSCALE:GREGORIAN
METHOD:PUBLISH
X-WR-CALNAME:What To Do
X-ORIGINAL-URL:https://www.whattododigital.com
X-WR-CALDESC:Events for What To Do
REFRESH-INTERVAL;VALUE=DURATION:PT1H
X-Robots-Tag:noindex
X-PUBLISHED-TTL:PT1H
BEGIN:VTIMEZONE
TZID:America/New_York
BEGIN:DAYLIGHT
TZOFFSETFROM:-0500
TZOFFSETTO:-0400
TZNAME:EDT
DTSTART:20250309T070000
END:DAYLIGHT
BEGIN:STANDARD
TZOFFSETFROM:-0400
TZOFFSETTO:-0500
TZNAME:EST
DTSTART:20251102T060000
END:STANDARD
BEGIN:DAYLIGHT
TZOFFSETFROM:-0500
TZOFFSETTO:-0400
TZNAME:EDT
DTSTART:20260308T070000
END:DAYLIGHT
BEGIN:STANDARD
TZOFFSETFROM:-0400
TZOFFSETTO:-0500
TZNAME:EST
DTSTART:20261101T060000
END:STANDARD
BEGIN:DAYLIGHT
TZOFFSETFROM:-0500
TZOFFSETTO:-0400
TZNAME:EDT
DTSTART:20270314T070000
END:DAYLIGHT
BEGIN:STANDARD
TZOFFSETFROM:-0400
TZOFFSETTO:-0500
TZNAME:EST
DTSTART:20271107T060000
END:STANDARD
END:VTIMEZONE
BEGIN:VEVENT
DTSTART;TZID=America/New_York:20260207T110000
DTEND;TZID=America/New_York:20260207T150000
DTSTAMP:20260423T065802
CREATED:20260120T142403Z
LAST-MODIFIED:20260120T142403Z
UID:93540-1770462000-1770476400@www.whattododigital.com
SUMMARY:Muscoot Farm Winter Festival
DESCRIPTION:Muscoot Farm Winter Festival \nHelp thaw the cold of winter by Muscoot Farm for a weekend of music\, animals\, winter treats\, and more! \nMuscoot Farm
URL:https://www.whattododigital.com/event/muscoot-farm-winter-festival/
LOCATION:Muscoot Farm
CATEGORIES:Fairs and Festivals,Kids
ATTACH;FMTTYPE=image/jpeg:https://www.whattododigital.com/wp-content/uploads/2024/01/Muscoot_Winter-Fest.jpg
END:VEVENT
END:VCALENDAR