BEGIN:VCALENDAR
VERSION:2.0
PRODID:-//What To Do - ECPv6.15.20//NONSGML v1.0//EN
CALSCALE:GREGORIAN
METHOD:PUBLISH
X-WR-CALNAME:What To Do
X-ORIGINAL-URL:https://www.whattododigital.com
X-WR-CALDESC:Events for What To Do
REFRESH-INTERVAL;VALUE=DURATION:PT1H
X-Robots-Tag:noindex
X-PUBLISHED-TTL:PT1H
BEGIN:VTIMEZONE
TZID:America/New_York
BEGIN:DAYLIGHT
TZOFFSETFROM:-0500
TZOFFSETTO:-0400
TZNAME:EDT
DTSTART:20250309T070000
END:DAYLIGHT
BEGIN:STANDARD
TZOFFSETFROM:-0400
TZOFFSETTO:-0500
TZNAME:EST
DTSTART:20251102T060000
END:STANDARD
BEGIN:DAYLIGHT
TZOFFSETFROM:-0500
TZOFFSETTO:-0400
TZNAME:EDT
DTSTART:20260308T070000
END:DAYLIGHT
BEGIN:STANDARD
TZOFFSETFROM:-0400
TZOFFSETTO:-0500
TZNAME:EST
DTSTART:20261101T060000
END:STANDARD
BEGIN:DAYLIGHT
TZOFFSETFROM:-0500
TZOFFSETTO:-0400
TZNAME:EDT
DTSTART:20270314T070000
END:DAYLIGHT
BEGIN:STANDARD
TZOFFSETFROM:-0400
TZOFFSETTO:-0500
TZNAME:EST
DTSTART:20271107T060000
END:STANDARD
END:VTIMEZONE
BEGIN:VEVENT
DTSTART;TZID=America/New_York:20260206T183000
DTEND;TZID=America/New_York:20260206T203000
DTSTAMP:20260423T191958
CREATED:20260120T140934Z
LAST-MODIFIED:20260120T140934Z
UID:93523-1770402600-1770409800@www.whattododigital.com
SUMMARY:Westmoreland Sanctuary: Winterfest Fundraiser
DESCRIPTION:Westmoreland Sanctuary: Winterfest Fundraiser \nThis year’s evening of delicious food\, seasonal wines\, and music in support of Westmoreland’s Environmental Education Center event features the distinguished Charles Ludington\, known for his Wine History and Tastings engagements at the Yale Club and other notable venues.Charles will guide guests through a curated tasting of exceptional seasonal wines. The theme for Winterfest will be “Winter Wines.” He will introduce the wines and be available to discuss them throughout the evening. \nWestmoreland Sanctuary
URL:https://www.whattododigital.com/event/estmoreland-sanctuary-winterfest-fundraiser/
LOCATION:CT
CATEGORIES:Benefits,Grown Ups
ATTACH;FMTTYPE=image/jpeg:https://www.whattododigital.com/wp-content/uploads/2026/01/Westmoreland_Winterfest.jpg
END:VEVENT
BEGIN:VEVENT
DTSTART;TZID=America/New_York:20260207T090000
DTEND;TZID=America/New_York:20260207T090000
DTSTAMP:20260423T191958
CREATED:20260120T162847Z
LAST-MODIFIED:20260120T162847Z
UID:93593-1770454800-1770454800@www.whattododigital.com
SUMMARY:Maritime Aquarium Norwalk: Seal Spotting & Birding Cruise
DESCRIPTION:Maritime Aquarium Norwalk: Seal Spotting & Birding Cruise \nThe two-hour cruises seek out animals spending the winter in Long Island Sound including harbor seals\, gray seals\, buffleheads\, mergansers\, long-tailed ducks\, and red-throated loons. Aquarium educators will identify these species for guests and discuss their natural histories. \nNorwalk Maritime Aquarium
URL:https://www.whattododigital.com/event/maritime-aquarium-norwalk-seal-spotting-birding-cruise/
LOCATION:Maritime Aquarium Norwalk\, 10 North Water Street\, Norwalk\, CT\, United States
CATEGORIES:Grown Ups,Kids,Outdoors
ATTACH;FMTTYPE=image/jpeg:https://www.whattododigital.com/wp-content/uploads/2017/02/Kids_seals_Norwalk-Aquarium-e1488324776844.jpg
END:VEVENT
BEGIN:VEVENT
DTSTART;TZID=America/New_York:20260207T090000
DTEND;TZID=America/New_York:20260207T160000
DTSTAMP:20260423T191958
CREATED:20260106T203421Z
LAST-MODIFIED:20260106T203421Z
UID:93399-1770454800-1770480000@www.whattododigital.com
SUMMARY:Teatown Hudson River EagleFest
DESCRIPTION:Teatown Hudson River EagleFest \nThe program includes thrilling live bird shows spotlighting birds of prey\, bird walks where you can view eagles through spotting scopes\, heated tents filled with educational displays and exhibits\, crafts and games for children\, food trucks\, and more! \nSnow date is Sunday\, February 8. \nTeatown
URL:https://www.whattododigital.com/event/teatown-hudson-river-eaglefest/
LOCATION:Croton Point Park\, 1 Croton Point Ave.\, Croton-on-Hudson\, NY\, United States
CATEGORIES:Grown Ups,Kids,Outdoors
ATTACH;FMTTYPE=image/jpeg:https://www.whattododigital.com/wp-content/uploads/2026/01/Teatown_Bald-eagle-on-the-St-Johns-River-2-scaled-1.jpeg
END:VEVENT
BEGIN:VEVENT
DTSTART;TZID=America/New_York:20260208T093000
DTEND;TZID=America/New_York:20260208T093000
DTSTAMP:20260423T191958
CREATED:20260120T164016Z
LAST-MODIFIED:20260120T164016Z
UID:93596-1770543000-1770543000@www.whattododigital.com
SUMMARY:Maritime Aquarium Norwalk: Seal Spotting & Birding Cruise
DESCRIPTION:Maritime Aquarium Norwalk: Seal Spotting & Birding Cruise \nThe two-hour cruises seek out animals spending the winter in Long Island Sound including harbor seals\, gray seals\, buffleheads\, mergansers\, long-tailed ducks\, and red-throated loons. Aquarium educators will identify these species for guests and discuss their natural histories. \nNorwalk Maritime Aquarium
URL:https://www.whattododigital.com/event/maritime-aquarium-norwalk-seal-spotting-birding-cruise-2/
LOCATION:Maritime Aquarium Norwalk\, 10 North Water Street\, Norwalk\, CT\, United States
CATEGORIES:Grown Ups,Kids,Outdoors
ATTACH;FMTTYPE=image/jpeg:https://www.whattododigital.com/wp-content/uploads/2026/01/Kids_seal-spotting_Aquarium-Norwalk-.jpeg
END:VEVENT
BEGIN:VEVENT
DTSTART;TZID=America/New_York:20260212T180000
DTEND;TZID=America/New_York:20260212T193000
DTSTAMP:20260423T191958
CREATED:20260120T144953Z
LAST-MODIFIED:20260120T145009Z
UID:93560-1770919200-1770924600@www.whattododigital.com
SUMMARY:Teatown Lake: Galentine's Day Hike
DESCRIPTION:Teatown Lake: Galentine’s Day Hike \nNight hike with your best gal pals! Celebrate friendship – travelling through the winter dark is easier with your friends by your side. Please dress appropriately for prolonged outdoor activity in the cold\, and be sure to bring a headlamp or flashlight\, and water and a snack.  \nTeatown Lake 
URL:https://www.whattododigital.com/event/teatown-lake-galentines-day-hike/
LOCATION:Teatown Lake Preservation\, 1600 Spring Valley Rd.\, Ossining\, NY\, United States
CATEGORIES:Grown Ups,Outdoors
ATTACH;FMTTYPE=image/jpeg:https://www.whattododigital.com/wp-content/uploads/2026/01/Teatown_galentines-hike.jpg
END:VEVENT
BEGIN:VEVENT
DTSTART;TZID=America/New_York:20260213T190000
DTEND;TZID=America/New_York:20260213T190000
DTSTAMP:20260423T191958
CREATED:20260120T145813Z
LAST-MODIFIED:20260120T145813Z
UID:93568-1771009200-1771009200@www.whattododigital.com
SUMMARY:Stamford Museum & Nature Center: Romance Under the Stars Planetarium Show
DESCRIPTION:Stamford Museum & Nature Center: Romance Under the Stars Planetarium Show \nNow in Connecticut for the first time. \nCelebrate love in all its star-crossed forms during a special live planetarium presentation led by SM&NC Director of Astronomy\, Charlie Eder and guest storyteller\, Lydia Maria\, who has traditionally presented Romance Under the Stars at the iconic Hayden Planetarium—presented now in Connecticut for the first time. \nCharlie and Lydia will guide you through the night sky\, trading off as they point out celestial features and share love-themed constellation stories drawn from cultures around the world. \nStamford Museum & Nature Center
URL:https://www.whattododigital.com/event/stamford-museum-nature-center-romance-under-the-stars-planetarium-show/
LOCATION:Stamford Museum & Nature Center\, 39 Scofieldtown Road\, Stamford\, CT\, 06903\, United States
CATEGORIES:Grown Ups,Holidays
ATTACH;FMTTYPE=image/jpeg:https://www.whattododigital.com/wp-content/uploads/2026/01/Stamford-Planetarium-Show-Valentinealt.jpeg
END:VEVENT
BEGIN:VEVENT
DTSTART;TZID=America/New_York:20260214T143000
DTEND;TZID=America/New_York:20260214T143000
DTSTAMP:20260423T191958
CREATED:20260120T164206Z
LAST-MODIFIED:20260120T164206Z
UID:93601-1771079400-1771079400@www.whattododigital.com
SUMMARY:Maritime Aquarium Norwalk: Seal Spotting & Birding Cruise
DESCRIPTION:Maritime Aquarium Norwalk: Seal Spotting & Birding Cruise \nThe two-hour cruises seek out animals spending the winter in Long Island Sound including harbor seals\, gray seals\, buffleheads\, mergansers\, long-tailed ducks\, and red-throated loons. Aquarium educators will identify these species for guests and discuss their natural histories. \nNorwalk Maritime Aquarium
URL:https://www.whattododigital.com/event/maritime-aquarium-norwalk-seal-spotting-birding-cruise-3/
LOCATION:Maritime Aquarium Norwalk\, 10 North Water Street\, Norwalk\, CT\, United States
CATEGORIES:Grown Ups,Kids,Outdoors
ATTACH;FMTTYPE=image/jpeg:https://www.whattododigital.com/wp-content/uploads/2026/01/Kids_seal-spotting_Aquarium-Norwalk-.jpeg
END:VEVENT
BEGIN:VEVENT
DTSTART;TZID=America/New_York:20260215T150000
DTEND;TZID=America/New_York:20260215T150000
DTSTAMP:20260423T191958
CREATED:20260120T164338Z
LAST-MODIFIED:20260120T164338Z
UID:93604-1771167600-1771167600@www.whattododigital.com
SUMMARY:Maritime Aquarium Norwalk: Seal Spotting & Birding Cruise
DESCRIPTION:Maritime Aquarium Norwalk: Seal Spotting & Birding Cruise \nThe two-hour cruises seek out animals spending the winter in Long Island Sound including harbor seals\, gray seals\, buffleheads\, mergansers\, long-tailed ducks\, and red-throated loons. Aquarium educators will identify these species for guests and discuss their natural histories. \nNorwalk Maritime Aquarium
URL:https://www.whattododigital.com/event/maritime-aquarium-norwalk-seal-spotting-birding-cruise-4/
LOCATION:Maritime Aquarium Norwalk\, 10 North Water Street\, Norwalk\, CT\, United States
CATEGORIES:Grown Ups,Kids,Outdoors
ATTACH;FMTTYPE=image/jpeg:https://www.whattododigital.com/wp-content/uploads/2026/01/Kids_seal-spotting_Aquarium-Norwalk-.jpeg
END:VEVENT
BEGIN:VEVENT
DTSTART;TZID=America/New_York:20260215T150000
DTEND;TZID=America/New_York:20260215T150000
DTSTAMP:20260423T191958
CREATED:20260120T164504Z
LAST-MODIFIED:20260120T164504Z
UID:93607-1771167600-1771167600@www.whattododigital.com
SUMMARY:Maritime Aquarium Norwalk: Seal Spotting & Birding Cruise
DESCRIPTION:Maritime Aquarium Norwalk: Seal Spotting & Birding Cruise \nThe two-hour cruises seek out animals spending the winter in Long Island Sound including harbor seals\, gray seals\, buffleheads\, mergansers\, long-tailed ducks\, and red-throated loons. Aquarium educators will identify these species for guests and discuss their natural histories. \nNorwalk Maritime Aquarium
URL:https://www.whattododigital.com/event/maritime-aquarium-norwalk-seal-spotting-birding-cruise-5/
LOCATION:Maritime Aquarium Norwalk\, 10 North Water Street\, Norwalk\, CT\, United States
CATEGORIES:Grown Ups,Kids,Outdoors
ATTACH;FMTTYPE=image/jpeg:https://www.whattododigital.com/wp-content/uploads/2026/01/Kids_seal-spotting_Aquarium-Norwalk-.jpeg
END:VEVENT
BEGIN:VEVENT
DTSTART;TZID=America/New_York:20260222T110000
DTEND;TZID=America/New_York:20260222T140000
DTSTAMP:20260423T191958
CREATED:20260120T142908Z
LAST-MODIFIED:20260120T142908Z
UID:93543-1771758000-1771768800@www.whattododigital.com
SUMMARY:Muscoot Farm Mansion Tour
DESCRIPTION:Muscoot Farm Mansion Tour \nJoin Muscoot’s education staff on a historical tour of the mansion. Appropriate for ages 13+. \nMuscoot Farm
URL:https://www.whattododigital.com/event/muscoot-farm-mansion-tour/
LOCATION:Muscoot Farm
CATEGORIES:Arts,Grown Ups,Kids
ATTACH;FMTTYPE=image/jpeg:https://www.whattododigital.com/wp-content/uploads/2025/03/Muscoot_Mansion-Tour-copy.jpg
END:VEVENT
BEGIN:VEVENT
DTSTART;TZID=America/New_York:20260228T140000
DTEND;TZID=America/New_York:20260228T140000
DTSTAMP:20260423T191958
CREATED:20260120T164637Z
LAST-MODIFIED:20260120T164637Z
UID:93610-1772287200-1772287200@www.whattododigital.com
SUMMARY:Maritime Aquarium Norwalk: Seal Spotting & Birding Cruise
DESCRIPTION:Maritime Aquarium Norwalk: Seal Spotting & Birding Cruise \nThe two-hour cruises seek out animals spending the winter in Long Island Sound including harbor seals\, gray seals\, buffleheads\, mergansers\, long-tailed ducks\, and red-throated loons. Aquarium educators will identify these species for guests and discuss their natural histories. \nNorwalk Maritime Aquarium
URL:https://www.whattododigital.com/event/maritime-aquarium-norwalk-seal-spotting-birding-cruise-6/
LOCATION:Maritime Aquarium Norwalk\, 10 North Water Street\, Norwalk\, CT\, United States
CATEGORIES:Grown Ups,Kids,Outdoors
ATTACH;FMTTYPE=image/jpeg:https://www.whattododigital.com/wp-content/uploads/2026/01/Kids_seal-spotting_Aquarium-Norwalk-.jpeg
END:VEVENT
BEGIN:VEVENT
DTSTART;TZID=America/New_York:20260228T190000
DTEND;TZID=America/New_York:20260228T220000
DTSTAMP:20260423T191958
CREATED:20260120T162008Z
LAST-MODIFIED:20260120T162008Z
UID:93588-1772305200-1772316000@www.whattododigital.com
SUMMARY:Katonah Village Library: Raise a Glass to Freedom
DESCRIPTION:Katonah Village Library: Raise a Glass to Freedom \nKVIS raises a glass to the 250th anniversary of our country’s signing of the Declaration of Independence.\n\n\nThis year’s curated selection of wine spans from 1776 to 2026!  From Bordeaux and Port\, through Prohibition and Repeal\, to modern-day American organic wines. In a nod to favorite beverages of 1776\, there will also be a selection of tavern-worthy ciders and craft beers.\n\nKatonah Village Library \n 
URL:https://www.whattododigital.com/event/katonah-village-library-raise-a-glass-to-freedom/
LOCATION:Katonah Library\, 26 Bedford Road\, Katonah\, NY\, 10536\, United States
CATEGORIES:Food,Grown Ups
ATTACH;FMTTYPE=image/jpeg:https://www.whattododigital.com/wp-content/uploads/2026/01/KVIS_Freedom-Fest-copy.jpg
END:VEVENT
END:VCALENDAR