BEGIN:VCALENDAR
VERSION:2.0
PRODID:-//What To Do - ECPv6.15.20//NONSGML v1.0//EN
CALSCALE:GREGORIAN
METHOD:PUBLISH
X-ORIGINAL-URL:https://www.whattododigital.com
X-WR-CALDESC:Events for What To Do
REFRESH-INTERVAL;VALUE=DURATION:PT1H
X-Robots-Tag:noindex
X-PUBLISHED-TTL:PT1H
BEGIN:VTIMEZONE
TZID:America/New_York
BEGIN:DAYLIGHT
TZOFFSETFROM:-0500
TZOFFSETTO:-0400
TZNAME:EDT
DTSTART:20250309T070000
END:DAYLIGHT
BEGIN:STANDARD
TZOFFSETFROM:-0400
TZOFFSETTO:-0500
TZNAME:EST
DTSTART:20251102T060000
END:STANDARD
BEGIN:DAYLIGHT
TZOFFSETFROM:-0500
TZOFFSETTO:-0400
TZNAME:EDT
DTSTART:20260308T070000
END:DAYLIGHT
BEGIN:STANDARD
TZOFFSETFROM:-0400
TZOFFSETTO:-0500
TZNAME:EST
DTSTART:20261101T060000
END:STANDARD
BEGIN:DAYLIGHT
TZOFFSETFROM:-0500
TZOFFSETTO:-0400
TZNAME:EDT
DTSTART:20270314T070000
END:DAYLIGHT
BEGIN:STANDARD
TZOFFSETFROM:-0400
TZOFFSETTO:-0500
TZNAME:EST
DTSTART:20271107T060000
END:STANDARD
END:VTIMEZONE
BEGIN:VEVENT
DTSTART;TZID=America/New_York:20260228T140000
DTEND;TZID=America/New_York:20260228T140000
DTSTAMP:20260424T022434
CREATED:20260120T164637Z
LAST-MODIFIED:20260120T164637Z
UID:93610-1772287200-1772287200@www.whattododigital.com
SUMMARY:Maritime Aquarium Norwalk: Seal Spotting & Birding Cruise
DESCRIPTION:Maritime Aquarium Norwalk: Seal Spotting & Birding Cruise \nThe two-hour cruises seek out animals spending the winter in Long Island Sound including harbor seals\, gray seals\, buffleheads\, mergansers\, long-tailed ducks\, and red-throated loons. Aquarium educators will identify these species for guests and discuss their natural histories. \nNorwalk Maritime Aquarium
URL:https://www.whattododigital.com/event/maritime-aquarium-norwalk-seal-spotting-birding-cruise-6/
LOCATION:Maritime Aquarium Norwalk\, 10 North Water Street\, Norwalk\, CT\, United States
CATEGORIES:Grown Ups,Kids,Outdoors
ATTACH;FMTTYPE=image/jpeg:https://www.whattododigital.com/wp-content/uploads/2026/01/Kids_seal-spotting_Aquarium-Norwalk-.jpeg
END:VEVENT
BEGIN:VEVENT
DTSTART;TZID=America/New_York:20260228T190000
DTEND;TZID=America/New_York:20260228T220000
DTSTAMP:20260424T022434
CREATED:20260120T162008Z
LAST-MODIFIED:20260120T162008Z
UID:93588-1772305200-1772316000@www.whattododigital.com
SUMMARY:Katonah Village Library: Raise a Glass to Freedom
DESCRIPTION:Katonah Village Library: Raise a Glass to Freedom \nKVIS raises a glass to the 250th anniversary of our country’s signing of the Declaration of Independence.\n\n\nThis year’s curated selection of wine spans from 1776 to 2026!  From Bordeaux and Port\, through Prohibition and Repeal\, to modern-day American organic wines. In a nod to favorite beverages of 1776\, there will also be a selection of tavern-worthy ciders and craft beers.\n\nKatonah Village Library \n 
URL:https://www.whattododigital.com/event/katonah-village-library-raise-a-glass-to-freedom/
LOCATION:Katonah Library\, 26 Bedford Road\, Katonah\, NY\, 10536\, United States
CATEGORIES:Food,Grown Ups
ATTACH;FMTTYPE=image/jpeg:https://www.whattododigital.com/wp-content/uploads/2026/01/KVIS_Freedom-Fest-copy.jpg
END:VEVENT
BEGIN:VEVENT
DTSTART;TZID=America/New_York:20260301T150000
DTEND;TZID=America/New_York:20260301T150000
DTSTAMP:20260424T022434
CREATED:20260120T164816Z
LAST-MODIFIED:20260120T164816Z
UID:93613-1772377200-1772377200@www.whattododigital.com
SUMMARY:Maritime Aquarium Norwalk: Seal Spotting & Birding Cruise
DESCRIPTION:Maritime Aquarium Norwalk: Seal Spotting & Birding Cruise \nThe two-hour cruises seek out animals spending the winter in Long Island Sound including harbor seals\, gray seals\, buffleheads\, mergansers\, long-tailed ducks\, and red-throated loons. Aquarium educators will identify these species for guests and discuss their natural histories. \nNorwalk Maritime Aquarium
URL:https://www.whattododigital.com/event/maritime-aquarium-norwalk-seal-spotting-birding-cruise-7/
LOCATION:Maritime Aquarium Norwalk\, 10 North Water Street\, Norwalk\, CT\, United States
CATEGORIES:Grown Ups,Kids,Outdoors
ATTACH;FMTTYPE=image/jpeg:https://www.whattododigital.com/wp-content/uploads/2026/01/Kids_seal-spotting_Aquarium-Norwalk-.jpeg
END:VEVENT
BEGIN:VEVENT
DTSTART;TZID=America/New_York:20260306T180000
DTEND;TZID=America/New_York:20260306T210000
DTSTAMP:20260424T022434
CREATED:20260120T141441Z
LAST-MODIFIED:20260120T141441Z
UID:93528-1772820000-1772830800@www.whattododigital.com
SUMMARY:Westmoreland Sanctuary: The Art of Seasonal Wines
DESCRIPTION:Westmoreland Sanctuary: The Art of Seasonal Wines  \nJoin Westmoreland Sanctuary for an engaging evening of wine exploration with expert Charles Lundington as we delve into The Art of Seasonal Wines. This special tasting and discussion will highlight the nuances of organic\, biodynamic\, and natural wines\, exploring what truly sets these categories apart. \nWestmoreland Sanctuary
URL:https://www.whattododigital.com/event/westmoreland-sanctuary-the-art-of-seasonal-wines/
LOCATION:Westmoreland Sanctuary\, 260 Chestnut Ridge Rd.\, Mt. Kisco\, NY\, 10549\, United States
CATEGORIES:Grown Ups
ATTACH;FMTTYPE=image/jpeg:https://www.whattododigital.com/wp-content/uploads/2026/01/Westmoreland_Wine.jpg
END:VEVENT
BEGIN:VEVENT
DTSTART;TZID=America/New_York:20260306T183000
DTEND;TZID=America/New_York:20260306T183000
DTSTAMP:20260424T022434
CREATED:20260120T150451Z
LAST-MODIFIED:20260120T150451Z
UID:93573-1772821800-1772821800@www.whattododigital.com
SUMMARY:Stamford Museum & Nature Center: Bevs & Bites Mansion & Gallery Tour
DESCRIPTION:Stamford Museum & Nature Center: Bevs & Bites Mansion & Gallery Tour \nSMNC’s signature “feast on foot” is a lively evening sampling and savoring the very best local gourmet fare\, first-rate wines\, craft beers from local breweries\, and superb spirits from local distilleries in the Bendel Mansion. \nStamford Museum & Nature Center
URL:https://www.whattododigital.com/event/stamford-museum-nature-center-bevs-bites-mansion-gallery-tour/
LOCATION:Stamford Museum & Nature Center\, 39 Scofieldtown Road\, Stamford\, CT\, 06903\, United States
CATEGORIES:Arts,Food,Grown Ups
ATTACH;FMTTYPE=image/jpeg:https://www.whattododigital.com/wp-content/uploads/2026/01/SMNC_Bendel-museum.jpeg
END:VEVENT
BEGIN:VEVENT
DTSTART;TZID=America/New_York:20260314T140000
DTEND;TZID=America/New_York:20260314T140000
DTSTAMP:20260424T022434
CREATED:20260120T165006Z
LAST-MODIFIED:20260120T165006Z
UID:93616-1773496800-1773496800@www.whattododigital.com
SUMMARY:Maritime Aquarium Norwalk: Seal Spotting & Birding Cruise
DESCRIPTION:Maritime Aquarium Norwalk: Seal Spotting & Birding Cruise \nThe two-hour cruises seek out animals spending the winter in Long Island Sound including harbor seals\, gray seals\, buffleheads\, mergansers\, long-tailed ducks\, and red-throated loons. Aquarium educators will identify these species for guests and discuss their natural histories. \nNorwalk Maritime Aquarium
URL:https://www.whattododigital.com/event/maritime-aquarium-norwalk-seal-spotting-birding-cruise-8/
LOCATION:Maritime Aquarium Norwalk\, 10 North Water Street\, Norwalk\, CT\, United States
CATEGORIES:Grown Ups,Kids,Outdoors
ATTACH;FMTTYPE=image/jpeg:https://www.whattododigital.com/wp-content/uploads/2026/01/Kids_seal-spotting_Aquarium-Norwalk-.jpeg
END:VEVENT
BEGIN:VEVENT
DTSTART;TZID=America/New_York:20260315T143000
DTEND;TZID=America/New_York:20260315T143000
DTSTAMP:20260424T022434
CREATED:20260120T165148Z
LAST-MODIFIED:20260120T165148Z
UID:93619-1773585000-1773585000@www.whattododigital.com
SUMMARY:Maritime Aquarium Norwalk: Seal Spotting & Birding Cruise
DESCRIPTION:Maritime Aquarium Norwalk: Seal Spotting & Birding Cruise \nThe two-hour cruises seek out animals spending the winter in Long Island Sound including harbor seals\, gray seals\, buffleheads\, mergansers\, long-tailed ducks\, and red-throated loons. Aquarium educators will identify these species for guests and discuss their natural histories. \nNorwalk Maritime Aquarium
URL:https://www.whattododigital.com/event/maritime-aquarium-norwalk-seal-spotting-birding-cruise-9/
LOCATION:Maritime Aquarium Norwalk\, 10 North Water Street\, Norwalk\, CT\, United States
CATEGORIES:Grown Ups,Kids,Outdoors
ATTACH;FMTTYPE=image/jpeg:https://www.whattododigital.com/wp-content/uploads/2026/01/Kids_seal-spotting_Aquarium-Norwalk-.jpeg
END:VEVENT
BEGIN:VEVENT
DTSTART;TZID=America/New_York:20260322T110000
DTEND;TZID=America/New_York:20260322T140000
DTSTAMP:20260424T022434
CREATED:20260120T143240Z
LAST-MODIFIED:20260120T143240Z
UID:93546-1774177200-1774188000@www.whattododigital.com
SUMMARY:Muscoot Farm Mansion Tour
DESCRIPTION:Muscoot Farm Mansion Tour \nJoin Muscoot’s education staff on a historical tour of the mansion. Appropriate for ages 13+. \nMuscoot Farm
URL:https://www.whattododigital.com/event/muscoot-farm-mansion-tour-2/
LOCATION:Muscoot Farm
CATEGORIES:Arts,Grown Ups,Kids
ATTACH;FMTTYPE=image/jpeg:https://www.whattododigital.com/wp-content/uploads/2026/01/Muscoot-Mansion-copy.jpg
END:VEVENT
BEGIN:VEVENT
DTSTART;TZID=America/New_York:20260328T140000
DTEND;TZID=America/New_York:20260328T140000
DTSTAMP:20260424T022434
CREATED:20260120T165316Z
LAST-MODIFIED:20260120T165316Z
UID:93622-1774706400-1774706400@www.whattododigital.com
SUMMARY:Maritime Aquarium Norwalk: Seal Spotting & Birding Cruise
DESCRIPTION:Maritime Aquarium Norwalk: Seal Spotting & Birding Cruise \nThe two-hour cruises seek out animals spending the winter in Long Island Sound including harbor seals\, gray seals\, buffleheads\, mergansers\, long-tailed ducks\, and red-throated loons. Aquarium educators will identify these species for guests and discuss their natural histories. \nNorwalk Maritime Aquarium
URL:https://www.whattododigital.com/event/maritime-aquarium-norwalk-seal-spotting-birding-cruise-10/
LOCATION:Maritime Aquarium Norwalk\, 10 North Water Street\, Norwalk\, CT\, United States
CATEGORIES:Grown Ups,Kids,Outdoors
ATTACH;FMTTYPE=image/jpeg:https://www.whattododigital.com/wp-content/uploads/2026/01/Kids_seal-spotting_Aquarium-Norwalk-.jpeg
END:VEVENT
BEGIN:VEVENT
DTSTART;TZID=America/New_York:20260329T143000
DTEND;TZID=America/New_York:20260329T143000
DTSTAMP:20260424T022434
CREATED:20260120T165459Z
LAST-MODIFIED:20260120T165459Z
UID:93625-1774794600-1774794600@www.whattododigital.com
SUMMARY:Maritime Aquarium Norwalk: Seal Spotting & Birding Cruise
DESCRIPTION:Maritime Aquarium Norwalk: Seal Spotting & Birding Cruise \nThe two-hour cruises seek out animals spending the winter in Long Island Sound including harbor seals\, gray seals\, buffleheads\, mergansers\, long-tailed ducks\, and red-throated loons. Aquarium educators will identify these species for guests and discuss their natural histories. \nNorwalk Maritime Aquarium
URL:https://www.whattododigital.com/event/maritime-aquarium-norwalk-seal-spotting-birding-cruise-11/
LOCATION:Maritime Aquarium Norwalk\, 10 North Water Street\, Norwalk\, CT\, United States
CATEGORIES:Grown Ups,Kids,Outdoors
ATTACH;FMTTYPE=image/jpeg:https://www.whattododigital.com/wp-content/uploads/2026/01/Kids_seal-spotting_Aquarium-Norwalk-.jpeg
END:VEVENT
END:VCALENDAR