BEGIN:VCALENDAR
VERSION:2.0
PRODID:-//What To Do - ECPv6.15.20//NONSGML v1.0//EN
CALSCALE:GREGORIAN
METHOD:PUBLISH
X-ORIGINAL-URL:https://www.whattododigital.com
X-WR-CALDESC:Events for What To Do
REFRESH-INTERVAL;VALUE=DURATION:PT1H
X-Robots-Tag:noindex
X-PUBLISHED-TTL:PT1H
BEGIN:VTIMEZONE
TZID:America/New_York
BEGIN:DAYLIGHT
TZOFFSETFROM:-0500
TZOFFSETTO:-0400
TZNAME:EDT
DTSTART:20240310T070000
END:DAYLIGHT
BEGIN:STANDARD
TZOFFSETFROM:-0400
TZOFFSETTO:-0500
TZNAME:EST
DTSTART:20241103T060000
END:STANDARD
BEGIN:DAYLIGHT
TZOFFSETFROM:-0500
TZOFFSETTO:-0400
TZNAME:EDT
DTSTART:20250309T070000
END:DAYLIGHT
BEGIN:STANDARD
TZOFFSETFROM:-0400
TZOFFSETTO:-0500
TZNAME:EST
DTSTART:20251102T060000
END:STANDARD
BEGIN:DAYLIGHT
TZOFFSETFROM:-0500
TZOFFSETTO:-0400
TZNAME:EDT
DTSTART:20260308T070000
END:DAYLIGHT
BEGIN:STANDARD
TZOFFSETFROM:-0400
TZOFFSETTO:-0500
TZNAME:EST
DTSTART:20261101T060000
END:STANDARD
BEGIN:DAYLIGHT
TZOFFSETFROM:-0500
TZOFFSETTO:-0400
TZNAME:EDT
DTSTART:20270314T070000
END:DAYLIGHT
BEGIN:STANDARD
TZOFFSETFROM:-0400
TZOFFSETTO:-0500
TZNAME:EST
DTSTART:20271107T060000
END:STANDARD
END:VTIMEZONE
BEGIN:VEVENT
DTSTART;TZID=America/New_York:20260102T190000
DTEND;TZID=America/New_York:20260102T220000
DTSTAMP:20260425T154246
CREATED:20251121T194414Z
LAST-MODIFIED:20251121T194414Z
UID:92376-1767380400-1767391200@www.whattododigital.com
SUMMARY:Holiday Train Show Nights
DESCRIPTION:Holiday Train Show Nights \nLet roving train conductors welcome you to experience the Holiday Train Show® in a whole new light as we illuminate the exhibition for Holiday Train Nights—lively after-dark celebrations where you can sip seasonal cocktails and mocktails under the glass of the warm and twinkling Haupt Conservatory. \nHoliday Train Show Nights
URL:https://www.whattododigital.com/event/holiday-train-show-nights-14/
LOCATION:New York Botanical Garden\, 2900 Southern Blvd.\, Bronx\, NY\, 10458-5126\, United States
CATEGORIES:Grown Ups,Holidays
ATTACH;FMTTYPE=image/jpeg:https://www.whattododigital.com/wp-content/uploads/2025/10/NYBG_Holiday-Train-Nights.jpg
END:VEVENT
BEGIN:VEVENT
DTSTART;VALUE=DATE:20260102
DTEND;VALUE=DATE:20260103
DTSTAMP:20260425T154246
CREATED:20251222T153957Z
LAST-MODIFIED:20251222T153957Z
UID:92911-1767312000-1767398399@www.whattododigital.com
SUMMARY:Jazz Forum: Tito Puente
DESCRIPTION:Jazz Forum: Tito Puente \nThe son and musical heir of “El Rey” Tito Puente\, the legendary salsa and Latin jazz maestro\, Tito Puente Jr. honors his father’s legacy by playing with the same infectious joy\, passion and energy. \nTwo Shows: 7pm & 9:30pm \nJazz Forum
URL:https://www.whattododigital.com/event/jazz-forum-tito-puente/
LOCATION:Jazz Forum\, 1 Dixon Lane\, Tarrytown\, NY\, 10591\, United States
CATEGORIES:Grown Ups,Music
ATTACH;FMTTYPE=image/jpeg:https://www.whattododigital.com/wp-content/uploads/2025/12/Jazz-Forum_Tito-Puente.jpeg
END:VEVENT
BEGIN:VEVENT
DTSTART;TZID=America/New_York:20251231T190000
DTEND;TZID=America/New_York:20251231T220000
DTSTAMP:20260425T154246
CREATED:20251121T194311Z
LAST-MODIFIED:20251121T194311Z
UID:92373-1767207600-1767218400@www.whattododigital.com
SUMMARY:Holiday Train Show Night
DESCRIPTION:Holiday Train Show Nights \nLet roving train conductors welcome you to experience the Holiday Train Show® in a whole new light as we illuminate the exhibition for Holiday Train Nights—lively after-dark celebrations where you can sip seasonal cocktails and mocktails under the glass of the warm and twinkling Haupt Conservatory. \nHoliday Train Show Nights
URL:https://www.whattododigital.com/event/holiday-train-show-night/
LOCATION:New York Botanical Garden\, 2900 Southern Blvd.\, Bronx\, NY\, 10458-5126\, United States
CATEGORIES:Grown Ups,Holidays
ATTACH;FMTTYPE=image/jpeg:https://www.whattododigital.com/wp-content/uploads/2025/10/NYBG_Holiday-Train-Nights.jpg
END:VEVENT
BEGIN:VEVENT
DTSTART;TZID=America/New_York:20251231T180000
DTEND;TZID=America/New_York:20251231T200000
DTSTAMP:20260425T154246
CREATED:20251222T153341Z
LAST-MODIFIED:20251222T153341Z
UID:92905-1767204000-1767211200@www.whattododigital.com
SUMMARY:New Year's Eve at the Jazz Forum: Sherma Andrews
DESCRIPTION:New Year’s Eve at the Jazz Forum: Sherma Andrews \nEnjoy a gourmet three-course prix fixe dinner then take in a show from the internationally acclaimed jazz vocalist Sherma Andrews at the Jazz Forum in Tarrytown. \nJazz Forum
URL:https://www.whattododigital.com/event/new-years-eve-at-the-jazz-forum-sherma-andrews/
LOCATION:Jazz Forum\, 1 Dixon Lane\, Tarrytown\, NY\, 10591\, United States
CATEGORIES:Grown Ups,Music
ATTACH;FMTTYPE=image/jpeg:https://www.whattododigital.com/wp-content/uploads/2025/12/Jazz-Forum_Sherma-Andrews.jpeg
END:VEVENT
BEGIN:VEVENT
DTSTART;TZID=America/New_York:20251230T190000
DTEND;TZID=America/New_York:20251230T220000
DTSTAMP:20260425T154246
CREATED:20251121T194203Z
LAST-MODIFIED:20251121T194203Z
UID:92370-1767121200-1767132000@www.whattododigital.com
SUMMARY:Holiday Train Show Nights
DESCRIPTION:Holiday Train Show Nights \nLet roving train conductors welcome you to experience the Holiday Train Show® in a whole new light as we illuminate the exhibition for Holiday Train Nights—lively after-dark celebrations where you can sip seasonal cocktails and mocktails under the glass of the warm and twinkling Haupt Conservatory. \nHoliday Train Show Nights
URL:https://www.whattododigital.com/event/holiday-train-show-nights-13/
LOCATION:New York Botanical Garden\, 2900 Southern Blvd.\, Bronx\, NY\, 10458-5126\, United States
CATEGORIES:Grown Ups,Holidays
ATTACH;FMTTYPE=image/jpeg:https://www.whattododigital.com/wp-content/uploads/2025/10/NYBG_Holiday-Train-Nights.jpg
END:VEVENT
BEGIN:VEVENT
DTSTART;TZID=America/New_York:20251229T190000
DTEND;TZID=America/New_York:20251229T220000
DTSTAMP:20260425T154246
CREATED:20251121T194104Z
LAST-MODIFIED:20251121T194104Z
UID:92367-1767034800-1767045600@www.whattododigital.com
SUMMARY:Holiday Train Show Nights
DESCRIPTION:Holiday Train Show Nights \nLet roving train conductors welcome you to experience the Holiday Train Show® in a whole new light as we illuminate the exhibition for Holiday Train Nights—lively after-dark celebrations where you can sip seasonal cocktails and mocktails under the glass of the warm and twinkling Haupt Conservatory. \nHoliday Train Show Nights
URL:https://www.whattododigital.com/event/holiday-train-show-nights-12/
LOCATION:New York Botanical Garden\, 2900 Southern Blvd.\, Bronx\, NY\, 10458-5126\, United States
CATEGORIES:Grown Ups,Holidays
ATTACH;FMTTYPE=image/jpeg:https://www.whattododigital.com/wp-content/uploads/2025/10/NYBG_Holiday-Train-Nights.jpg
END:VEVENT
BEGIN:VEVENT
DTSTART;TZID=America/New_York:20251228T190000
DTEND;TZID=America/New_York:20251228T220000
DTSTAMP:20260425T154246
CREATED:20251121T194002Z
LAST-MODIFIED:20251121T194002Z
UID:92364-1766948400-1766959200@www.whattododigital.com
SUMMARY:Holiday Train Show Nights
DESCRIPTION:Holiday Train Show Nights \nLet roving train conductors welcome you to experience the Holiday Train Show® in a whole new light as we illuminate the exhibition for Holiday Train Nights—lively after-dark celebrations where you can sip seasonal cocktails and mocktails under the glass of the warm and twinkling Haupt Conservatory. \nHoliday Train Show Nights
URL:https://www.whattododigital.com/event/holiday-train-show-nights-11/
LOCATION:New York Botanical Garden\, 2900 Southern Blvd.\, Bronx\, NY\, 10458-5126\, United States
CATEGORIES:Grown Ups,Holidays
ATTACH;FMTTYPE=image/jpeg:https://www.whattododigital.com/wp-content/uploads/2025/10/NYBG_Holiday-Train-Nights.jpg
END:VEVENT
BEGIN:VEVENT
DTSTART;TZID=America/New_York:20251227T190000
DTEND;TZID=America/New_York:20251227T220000
DTSTAMP:20260425T154246
CREATED:20251121T193853Z
LAST-MODIFIED:20251121T193853Z
UID:92361-1766862000-1766872800@www.whattododigital.com
SUMMARY:Holiday Train Show Nights
DESCRIPTION:Holiday Train Show Nights \nLet roving train conductors welcome you to experience the Holiday Train Show® in a whole new light as we illuminate the exhibition for Holiday Train Nights—lively after-dark celebrations where you can sip seasonal cocktails and mocktails under the glass of the warm and twinkling Haupt Conservatory. \nHoliday Train Show Nights
URL:https://www.whattododigital.com/event/holiday-train-show-nights-10/
LOCATION:New York Botanical Garden\, 2900 Southern Blvd.\, Bronx\, NY\, 10458-5126\, United States
CATEGORIES:Grown Ups,Holidays
ATTACH;FMTTYPE=image/jpeg:https://www.whattododigital.com/wp-content/uploads/2025/10/NYBG_Holiday-Train-Nights.jpg
END:VEVENT
BEGIN:VEVENT
DTSTART;TZID=America/New_York:20251226T190000
DTEND;TZID=America/New_York:20251226T220000
DTSTAMP:20260425T154246
CREATED:20251121T193735Z
LAST-MODIFIED:20251121T193735Z
UID:92358-1766775600-1766786400@www.whattododigital.com
SUMMARY:Holiday Train Show Nights
DESCRIPTION:Holiday Train Show Nights \nLet roving train conductors welcome you to experience the Holiday Train Show® in a whole new light as we illuminate the exhibition for Holiday Train Nights—lively after-dark celebrations where you can sip seasonal cocktails and mocktails under the glass of the warm and twinkling Haupt Conservatory. \nHoliday Train Show Nights
URL:https://www.whattododigital.com/event/holiday-train-show-nights-9/
LOCATION:New York Botanical Garden\, 2900 Southern Blvd.\, Bronx\, NY\, 10458-5126\, United States
CATEGORIES:Grown Ups,Holidays
ATTACH;FMTTYPE=image/jpeg:https://www.whattododigital.com/wp-content/uploads/2025/10/NYBG_Holiday-Train-Nights.jpg
END:VEVENT
BEGIN:VEVENT
DTSTART;TZID=America/New_York:20251220T190000
DTEND;TZID=America/New_York:20251220T220000
DTSTAMP:20260425T154246
CREATED:20251121T193610Z
LAST-MODIFIED:20251121T193610Z
UID:92355-1766257200-1766268000@www.whattododigital.com
SUMMARY:Holiday Train Show Nights
DESCRIPTION:Holiday Train Show Nights \nLet roving train conductors welcome you to experience the Holiday Train Show® in a whole new light as we illuminate the exhibition for Holiday Train Nights—lively after-dark celebrations where you can sip seasonal cocktails and mocktails under the glass of the warm and twinkling Haupt Conservatory. \nHoliday Train Show Nights
URL:https://www.whattododigital.com/event/holiday-train-show-nights-8/
LOCATION:New York Botanical Garden\, 2900 Southern Blvd.\, Bronx\, NY\, 10458-5126\, United States
CATEGORIES:Grown Ups,Holidays
ATTACH;FMTTYPE=image/jpeg:https://www.whattododigital.com/wp-content/uploads/2025/10/NYBG_Holiday-Train-Nights.jpg
END:VEVENT
BEGIN:VEVENT
DTSTART;TZID=America/New_York:20251219T190000
DTEND;TZID=America/New_York:20251219T220000
DTSTAMP:20260425T154246
CREATED:20251121T193434Z
LAST-MODIFIED:20251121T193434Z
UID:92352-1766170800-1766181600@www.whattododigital.com
SUMMARY:Holiday Train Show Nights
DESCRIPTION:Holiday Train Show Nights \nLet roving train conductors welcome you to experience the Holiday Train Show® in a whole new light as we illuminate the exhibition for Holiday Train Nights—lively after-dark celebrations where you can sip seasonal cocktails and mocktails under the glass of the warm and twinkling Haupt Conservatory. \nHoliday Train Show Nights
URL:https://www.whattododigital.com/event/holiday-train-show-nights-7/
LOCATION:New York Botanical Garden\, 2900 Southern Blvd.\, Bronx\, NY\, 10458-5126\, United States
CATEGORIES:Grown Ups,Holidays
ATTACH;FMTTYPE=image/jpeg:https://www.whattododigital.com/wp-content/uploads/2025/10/NYBG_Holiday-Train-Nights.jpg
END:VEVENT
BEGIN:VEVENT
DTSTART;TZID=America/New_York:20251213T190000
DTEND;TZID=America/New_York:20251213T220000
DTSTAMP:20260425T154246
CREATED:20251121T193244Z
LAST-MODIFIED:20251121T193244Z
UID:92349-1765652400-1765663200@www.whattododigital.com
SUMMARY:Holiday Train Show Nights
DESCRIPTION:Holiday Train Show Nights \nLet roving train conductors welcome you to experience the Holiday Train Show® in a whole new light as we illuminate the exhibition for Holiday Train Nights—lively after-dark celebrations where you can sip seasonal cocktails and mocktails under the glass of the warm and twinkling Haupt Conservatory. \nHoliday Train Show Nights
URL:https://www.whattododigital.com/event/holiday-train-show-nights-6/
LOCATION:New York Botanical Garden\, 2900 Southern Blvd.\, Bronx\, NY\, 10458-5126\, United States
CATEGORIES:Grown Ups,Holidays
ATTACH;FMTTYPE=image/jpeg:https://www.whattododigital.com/wp-content/uploads/2025/10/NYBG_Holiday-Train-Nights.jpg
END:VEVENT
BEGIN:VEVENT
DTSTART;TZID=America/New_York:20251212T190000
DTEND;TZID=America/New_York:20251212T220000
DTSTAMP:20260425T154246
CREATED:20251121T193134Z
LAST-MODIFIED:20251121T193134Z
UID:92346-1765566000-1765576800@www.whattododigital.com
SUMMARY:Holiday Train Show Nights
DESCRIPTION:Holiday Train Show Nights \nLet roving train conductors welcome you to experience the Holiday Train Show® in a whole new light as we illuminate the exhibition for Holiday Train Nights—lively after-dark celebrations where you can sip seasonal cocktails and mocktails under the glass of the warm and twinkling Haupt Conservatory. \nHoliday Train Show Nights
URL:https://www.whattododigital.com/event/holiday-train-show-nights-5/
LOCATION:New York Botanical Garden\, 2900 Southern Blvd.\, Bronx\, NY\, 10458-5126\, United States
CATEGORIES:Grown Ups,Holidays
ATTACH;FMTTYPE=image/jpeg:https://www.whattododigital.com/wp-content/uploads/2025/10/NYBG_Holiday-Train-Nights.jpg
END:VEVENT
BEGIN:VEVENT
DTSTART;VALUE=DATE:20251207
DTEND;VALUE=DATE:20251208
DTSTAMP:20260425T154246
CREATED:20251021T213942Z
LAST-MODIFIED:20251021T213942Z
UID:91695-1765065600-1765151999@www.whattododigital.com
SUMMARY:Rappelling Santa in Stamford
DESCRIPTION:Rappelling Santa in Stamford \nThis Stamford tradition is one of the highlights of the holiday season. Watch Santa and friends\, think the Grinch for one\, climb down Stamford’s tallest building as a prelude to the city’s tree lighting ceremony and a holiday fireworks display. \nGotta do it once. Check time. \nStamford Downtown
URL:https://www.whattododigital.com/event/rappelling-santa-in-stamford/
LOCATION:Stamford Downtown\, Hoyt St. at Summer St.\, Stamford\, CT\, 06901\, United States
CATEGORIES:Grown Ups,Holidays,Kids
ATTACH;FMTTYPE=image/jpeg:https://www.whattododigital.com/wp-content/uploads/2023/11/rapelling_santa_grinch.jpg
END:VEVENT
BEGIN:VEVENT
DTSTART;TZID=America/New_York:20251206T190000
DTEND;TZID=America/New_York:20251206T220000
DTSTAMP:20260425T154246
CREATED:20251121T193020Z
LAST-MODIFIED:20251121T193020Z
UID:92343-1765047600-1765058400@www.whattododigital.com
SUMMARY:Holiday Train Show Nights
DESCRIPTION:Holiday Train Show Nights \nLet roving train conductors welcome you to experience the Holiday Train Show® in a whole new light as we illuminate the exhibition for Holiday Train Nights—lively after-dark celebrations where you can sip seasonal cocktails and mocktails under the glass of the warm and twinkling Haupt Conservatory. \nHoliday Train Show Nights
URL:https://www.whattododigital.com/event/holiday-train-show-nights-4/
LOCATION:New York Botanical Garden\, 2900 Southern Blvd.\, Bronx\, NY\, 10458-5126\, United States
CATEGORIES:Grown Ups,Holidays
ATTACH;FMTTYPE=image/jpeg:https://www.whattododigital.com/wp-content/uploads/2025/10/NYBG_Holiday-Train-Nights.jpg
END:VEVENT
BEGIN:VEVENT
DTSTART;TZID=America/New_York:20251206T180000
DTEND;TZID=America/New_York:20251206T193000
DTSTAMP:20260425T154246
CREATED:20251118T210900Z
LAST-MODIFIED:20251118T210900Z
UID:91983-1765044000-1765049400@www.whattododigital.com
SUMMARY:Bedford Historical Society Fezziwigs
DESCRIPTION:Bedford Historical Society Fezziwigs \nJoin the Bedford Historical Society they celebrate the kindness and generosity of  the Bedford community with refreshments\, snacks\, music and good cheer at the 1787 Court House. The Fezziwigs will be there… \nBedford Historical Society
URL:https://www.whattododigital.com/event/bedford-historical-society-fezziwigs/
LOCATION:Bedford Court House\, 615 OLd Post Rd.\, Bedford Village\, New York\, 10506\, United States
CATEGORIES:Grown Ups,Holidays
ATTACH;FMTTYPE=image/jpeg:https://www.whattododigital.com/wp-content/uploads/2025/11/Bedford-Court-House-Snow-copy.jpg
END:VEVENT
BEGIN:VEVENT
DTSTART;TZID=America/New_York:20251129T190000
DTEND;TZID=America/New_York:20251129T220000
DTSTAMP:20260425T154246
CREATED:20251121T192909Z
LAST-MODIFIED:20251121T192909Z
UID:92340-1764442800-1764453600@www.whattododigital.com
SUMMARY:Holiday Train Show Nights
DESCRIPTION:Holiday Train Show Nights \nLet roving train conductors welcome you to experience the Holiday Train Show® in a whole new light as we illuminate the exhibition for Holiday Train Nights—lively after-dark celebrations where you can sip seasonal cocktails and mocktails under the glass of the warm and twinkling Haupt Conservatory. \nHoliday Train Show Nights
URL:https://www.whattododigital.com/event/holiday-train-show-nights-3/
LOCATION:New York Botanical Garden\, 2900 Southern Blvd.\, Bronx\, NY\, 10458-5126\, United States
CATEGORIES:Grown Ups,Holidays
ATTACH;FMTTYPE=image/jpeg:https://www.whattododigital.com/wp-content/uploads/2025/10/NYBG_Holiday-Train-Nights.jpg
END:VEVENT
BEGIN:VEVENT
DTSTART;TZID=America/New_York:20251129T100000
DTEND;TZID=America/New_York:20251129T153000
DTSTAMP:20260425T154246
CREATED:20251121T212630Z
LAST-MODIFIED:20251121T212833Z
UID:92444-1764410400-1764430200@www.whattododigital.com
SUMMARY:Lyndhurst Mansion: Holiday Opening & Market
DESCRIPTION:Lyndhurst Mansion: Holiday Opening & Market \nSee the mansion transformed into an extravagant wonderland of holiday splendor and get a jump start on your holiday shopping at Lyndhurst’s Holiday Makers Market featuring local artisans and their handcrafted treasures. \nIn the mansion\, dozens of Christmas trees are expertly decorated to complement the house’s period furnishings. Lyndhurst curators bring out rarely-seen items belonging to Lyndhurst’s former owners\, the Goulds. Lyndhurst Tour guides will be stationed throughout the mansion. \nLYNDHURST MANSION
URL:https://www.whattododigital.com/event/lyndhurst-mansion-holiday-opening-market-2/
LOCATION:Lyndhurst Mansion
CATEGORIES:Grown Ups,Holidays
ATTACH;FMTTYPE=image/jpeg:https://www.whattododigital.com/wp-content/uploads/2025/10/LYNDHURST_HOLIDAY-MARKET.jpg
END:VEVENT
BEGIN:VEVENT
DTSTART;TZID=America/New_York:20251128T190000
DTEND;TZID=America/New_York:20251128T220000
DTSTAMP:20260425T154246
CREATED:20251121T192709Z
LAST-MODIFIED:20251121T192709Z
UID:92337-1764356400-1764367200@www.whattododigital.com
SUMMARY:Holiday Train Show Nights
DESCRIPTION:Holiday Train Show Nights \nLet roving train conductors welcome you to experience the Holiday Train Show® in a whole new light as we illuminate the exhibition for Holiday Train Nights—lively after-dark celebrations where you can sip seasonal cocktails and mocktails under the glass of the warm and twinkling Haupt Conservatory. \nHoliday Train Show Nights
URL:https://www.whattododigital.com/event/holiday-train-show-nights-2/
LOCATION:New York Botanical Garden\, 2900 Southern Blvd.\, Bronx\, NY\, 10458-5126\, United States
CATEGORIES:Grown Ups,Holidays
ATTACH;FMTTYPE=image/jpeg:https://www.whattododigital.com/wp-content/uploads/2025/10/NYBG_Holiday-Train-Nights.jpg
END:VEVENT
BEGIN:VEVENT
DTSTART;TZID=America/New_York:20251128T100000
DTEND;TZID=America/New_York:20251128T153000
DTSTAMP:20260425T154246
CREATED:20251121T212523Z
LAST-MODIFIED:20251121T212848Z
UID:92441-1764324000-1764343800@www.whattododigital.com
SUMMARY:Lyndhurst Mansion: Holiday Opening & Market
DESCRIPTION:Lyndhurst Mansion: Holiday Opening & Market \nSee the mansion transformed into an extravagant wonderland of holiday splendor and get a jump start on your holiday shopping at Lyndhurst’s Holiday Makers Market featuring local artisans and their handcrafted treasures. \nIn the mansion\, dozens of Christmas trees are expertly decorated to complement the house’s period furnishings. Lyndhurst curators bring out rarely-seen items belonging to Lyndhurst’s former owners\, the Goulds. Lyndhurst Tour guides will be stationed throughout the mansion. \nLYNDHURST MANSION
URL:https://www.whattododigital.com/event/lyndhurst-mansion-holiday-opening-market/
LOCATION:Lyndhurst Mansion
CATEGORIES:Grown Ups,Holidays
ATTACH;FMTTYPE=image/jpeg:https://www.whattododigital.com/wp-content/uploads/2025/10/LYNDHURST_HOLIDAY-MARKET.jpg
END:VEVENT
BEGIN:VEVENT
DTSTART;TZID=America/New_York:20251122T190000
DTEND;TZID=America/New_York:20251122T220000
DTSTAMP:20260425T154246
CREATED:20251121T192544Z
LAST-MODIFIED:20251121T192544Z
UID:92334-1763838000-1763848800@www.whattododigital.com
SUMMARY:Holiday Train Show Nights
DESCRIPTION:Holiday Train Show Nights \nLet roving train conductors welcome you to experience the Holiday Train Show® in a whole new light as we illuminate the exhibition for Holiday Train Nights—lively after-dark celebrations where you can sip seasonal cocktails and mocktails under the glass of the warm and twinkling Haupt Conservatory. \nHoliday Train Show Nights
URL:https://www.whattododigital.com/event/holiday-train-show-nights/
LOCATION:New York Botanical Garden\, 2900 Southern Blvd.\, Bronx\, NY\, 10458-5126\, United States
CATEGORIES:Grown Ups,Holidays
ATTACH;FMTTYPE=image/jpeg:https://www.whattododigital.com/wp-content/uploads/2025/10/NYBG_Holiday-Train-Nights.jpg
END:VEVENT
BEGIN:VEVENT
DTSTART;TZID=America/New_York:20251031T200000
DTEND;TZID=America/New_York:20251031T200000
DTSTAMP:20260425T154246
CREATED:20250825T202244Z
LAST-MODIFIED:20250825T202244Z
UID:88782-1761940800-1761940800@www.whattododigital.com
SUMMARY:Paramount Hudson Valley: The Rocky Horror Picture Show
DESCRIPTION:Paramount Hudson Valley: The Rocky Horror Picture Show \nCelebrate the 50th Anniversary of The Rocky Horror Picture Show at The Paramount! \nIn this cult classic\, sweethearts Brad (Barry Bostwick) and Janet (Susan Sarandon)\, stuck with a flat tire during a storm\, discover the eerie mansion of Dr. Frank-N-Furter (Tim Curry)\, a transvestite scientist. \nParamount Hudson Valley
URL:https://www.whattododigital.com/event/paramount-hudson-valley-the-rocky-horror-picture-show/
LOCATION:Paramount Hudson Valley
CATEGORIES:Grown Ups,Halloween
ATTACH;FMTTYPE=image/jpeg:https://www.whattododigital.com/wp-content/uploads/2025/08/Paramount_Rocky-Horror.jpg
END:VEVENT
BEGIN:VEVENT
DTSTART;TZID=America/New_York:20251025T213000
DTEND;TZID=America/New_York:20251025T213000
DTSTAMP:20260425T154246
CREATED:20250825T193745Z
LAST-MODIFIED:20250825T193745Z
UID:88764-1761427800-1761427800@www.whattododigital.com
SUMMARY:Tarrytown Music Hall: The Rocky Horror Picture Show
DESCRIPTION:Tarrytown Music Hall: The Rocky Horror Picture Show \nRESERVE YOUR SPECIAL AUDIENCE PARTICIPATION KIT WITH YOUR TICKETS! \nThe world’s most popular homoerotic Halloween movie starring Tim Curry as the irresistible transvestite Frank N Furter and Susan Sarandon and Barry Bostwick as Brad and Janet—two straights who learn to give themselves over to ‘absolute pleasure” on Halloween\, returns to the Tarrytown Playhouse \nTarrytown Music Hall
URL:https://www.whattododigital.com/event/tarrytown-music-hall-the-rocky-horror-picture-show-2/
LOCATION:Tarrytown Music Hall
CATEGORIES:Grown Ups,Halloween
ATTACH;FMTTYPE=image/jpeg:https://www.whattododigital.com/wp-content/uploads/2025/08/TMH_RockyHorror25fb.jpeg
END:VEVENT
BEGIN:VEVENT
DTSTART;TZID=America/New_York:20251005T140000
DTEND;TZID=America/New_York:20251005T140000
DTSTAMP:20260425T154246
CREATED:20250804T212617Z
LAST-MODIFIED:20250804T212617Z
UID:88023-1759672800-1759672800@www.whattododigital.com
SUMMARY:Bedford Playhouse: The General Live with piano by Ben Model
DESCRIPTION:Bedford Playhouse: The General Live with piano by Ben Model \nBedford Playhouse welcomes back musician and historian Ben Model providing live piano accompaniment to the classic silent comedy The General\, Buster Keaton’s acknowledged masterpiece. This feature-length film contains some of the most iconic scenes in silent film comedy history\, all done without the aid of visual effects. Recommended for ages 3 to 93. \nBedford Playhouse
URL:https://www.whattododigital.com/event/bedford-playhouse-the-general-live-with-piano-by-ben-model/
LOCATION:Bedford Playhouse
CATEGORIES:Arts,Grown Ups,Kids,Movies
ATTACH;FMTTYPE=image/jpeg:https://www.whattododigital.com/wp-content/uploads/2025/08/BPH_Buster_Keaton_general2.jpeg
END:VEVENT
BEGIN:VEVENT
DTSTART;TZID=America/New_York:20250929T080000
DTEND;TZID=America/New_York:20250929T170000
DTSTAMP:20260425T154246
CREATED:20250929T205005Z
LAST-MODIFIED:20250929T205005Z
UID:91306-1759132800-1759165200@www.whattododigital.com
SUMMARY:Taconic Opera Gala
DESCRIPTION:Taconic Opera Gala \nThis year’s gala will celebrate all of the fables and fantasies found in opera\, from Turandot to The Magic Flute\, from Cinderella (La Cenerentola) to Rusalka. This year’s gala will celebrate all of the fables and fantasies found in opera\, from Turandot to The Magic Flute\, from Cinderella (La Cenerentola) to Rusalka. \nTaconic Opera
URL:https://www.whattododigital.com/event/taconic-opera-gala/
LOCATION:CV Rich Mansion\, 305 Ridgeway\, White Plains\, NY\, 10605\, United States
CATEGORIES:Benefits,Grown Ups
ATTACH;FMTTYPE=image/jpeg:https://www.whattododigital.com/wp-content/uploads/2025/09/Taconic-Opera_gala.jpg
END:VEVENT
END:VCALENDAR