BEGIN:VCALENDAR
VERSION:2.0
PRODID:-//What To Do - ECPv6.15.20//NONSGML v1.0//EN
CALSCALE:GREGORIAN
METHOD:PUBLISH
X-WR-CALNAME:What To Do
X-ORIGINAL-URL:https://www.whattododigital.com
X-WR-CALDESC:Events for What To Do
REFRESH-INTERVAL;VALUE=DURATION:PT1H
X-Robots-Tag:noindex
X-PUBLISHED-TTL:PT1H
BEGIN:VTIMEZONE
TZID:America/New_York
BEGIN:DAYLIGHT
TZOFFSETFROM:-0500
TZOFFSETTO:-0400
TZNAME:EDT
DTSTART:20240310T070000
END:DAYLIGHT
BEGIN:STANDARD
TZOFFSETFROM:-0400
TZOFFSETTO:-0500
TZNAME:EST
DTSTART:20241103T060000
END:STANDARD
BEGIN:DAYLIGHT
TZOFFSETFROM:-0500
TZOFFSETTO:-0400
TZNAME:EDT
DTSTART:20250309T070000
END:DAYLIGHT
BEGIN:STANDARD
TZOFFSETFROM:-0400
TZOFFSETTO:-0500
TZNAME:EST
DTSTART:20251102T060000
END:STANDARD
BEGIN:DAYLIGHT
TZOFFSETFROM:-0500
TZOFFSETTO:-0400
TZNAME:EDT
DTSTART:20260308T070000
END:DAYLIGHT
BEGIN:STANDARD
TZOFFSETFROM:-0400
TZOFFSETTO:-0500
TZNAME:EST
DTSTART:20261101T060000
END:STANDARD
END:VTIMEZONE
BEGIN:VEVENT
DTSTART;TZID=America/New_York:20251211T190000
DTEND;TZID=America/New_York:20251211T210000
DTSTAMP:20260423T205419
CREATED:20251020T152825Z
LAST-MODIFIED:20251020T152825Z
UID:91508-1765479600-1765486800@www.whattododigital.com
SUMMARY:Westmoreland Sanctuary Wreath Making
DESCRIPTION:Westmoreland Sanctuary Wreath Making \nCelebrate the season with creativity and sustainability at Westmoreland Sanctuary’s Wreath Making Design Workshops\, where you’ll design and create your own beautiful\, eco-friendly holiday wreath using a thoughtfully curated selection of native and non-native plant materials. \nWestmoreland Sanctuary
URL:https://www.whattododigital.com/event/westmoreland-sanctuary-wreath-making/
LOCATION:Westmoreland Sanctuary\, 260 Chestnut Ridge Rd.\, Mt. Kisco\, NY\, 10549\, United States
CATEGORIES:Halloween
ATTACH;FMTTYPE=image/jpeg:https://www.whattododigital.com/wp-content/uploads/2025/10/Westmoreland_Wreath-Making.jpeg
END:VEVENT
BEGIN:VEVENT
DTSTART;VALUE=DATE:20251213
DTEND;VALUE=DATE:20251214
DTSTAMP:20260423T205419
CREATED:20251201T201132Z
LAST-MODIFIED:20251201T201132Z
UID:92673-1765584000-1765670399@www.whattododigital.com
SUMMARY:New Castle Historical Society Holiday Train Show
DESCRIPTION:New Castle Historical Society Holiday Train Show \nFeaturing: LEGO Around the World\, Polar Express and Santa’s Holiday Train \nIn addition to the trains\, the rooms of the historic Horace Greeley House will be festively decorated for the season. For those who are young or young at heart\, we offer a train-themed scavenger hunt\, an activity room with crafts and hands-on trains\, and even a mini train engine for the perfect photo op! \nThe exhibition opens on Saturday\, November 22 and runs through Saturday\, January 3\, 2026. Two entrance times daily at 10am & 1:15 pm. \nNew Castle Historical Society
URL:https://www.whattododigital.com/event/new-castle-historical-society-holiday-train-show-7/
LOCATION:Horace Greeley House\, 100 King St.\, Chappaqua\, NY\, 10514\, United States
CATEGORIES:Halloween,Kids
ATTACH;FMTTYPE=image/jpeg:https://www.whattododigital.com/wp-content/uploads/2025/10/NCHS-9-1536x1025-1.jpeg
END:VEVENT
BEGIN:VEVENT
DTSTART;TZID=America/New_York:20251211T190000
DTEND;TZID=America/New_York:20251211T210000
DTSTAMP:20260423T205419
CREATED:20251020T152825Z
LAST-MODIFIED:20251020T152825Z
UID:91508-1765479600-1765486800@www.whattododigital.com
SUMMARY:Westmoreland Sanctuary Wreath Making
DESCRIPTION:Westmoreland Sanctuary Wreath Making \nCelebrate the season with creativity and sustainability at Westmoreland Sanctuary’s Wreath Making Design Workshops\, where you’ll design and create your own beautiful\, eco-friendly holiday wreath using a thoughtfully curated selection of native and non-native plant materials. \nWestmoreland Sanctuary
URL:https://www.whattododigital.com/event/westmoreland-sanctuary-wreath-making/
LOCATION:Westmoreland Sanctuary\, 260 Chestnut Ridge Rd.\, Mt. Kisco\, NY\, 10549\, United States
CATEGORIES:Halloween
ATTACH;FMTTYPE=image/jpeg:https://www.whattododigital.com/wp-content/uploads/2025/10/Westmoreland_Wreath-Making.jpeg
END:VEVENT
END:VCALENDAR