BEGIN:VCALENDAR
VERSION:2.0
PRODID:-//What To Do - ECPv6.15.20//NONSGML v1.0//EN
CALSCALE:GREGORIAN
METHOD:PUBLISH
X-ORIGINAL-URL:https://www.whattododigital.com
X-WR-CALDESC:Events for What To Do
REFRESH-INTERVAL;VALUE=DURATION:PT1H
X-Robots-Tag:noindex
X-PUBLISHED-TTL:PT1H
BEGIN:VTIMEZONE
TZID:America/New_York
BEGIN:DAYLIGHT
TZOFFSETFROM:-0500
TZOFFSETTO:-0400
TZNAME:EDT
DTSTART:20240310T070000
END:DAYLIGHT
BEGIN:STANDARD
TZOFFSETFROM:-0400
TZOFFSETTO:-0500
TZNAME:EST
DTSTART:20241103T060000
END:STANDARD
BEGIN:DAYLIGHT
TZOFFSETFROM:-0500
TZOFFSETTO:-0400
TZNAME:EDT
DTSTART:20250309T070000
END:DAYLIGHT
BEGIN:STANDARD
TZOFFSETFROM:-0400
TZOFFSETTO:-0500
TZNAME:EST
DTSTART:20251102T060000
END:STANDARD
BEGIN:DAYLIGHT
TZOFFSETFROM:-0500
TZOFFSETTO:-0400
TZNAME:EDT
DTSTART:20260308T070000
END:DAYLIGHT
BEGIN:STANDARD
TZOFFSETFROM:-0400
TZOFFSETTO:-0500
TZNAME:EST
DTSTART:20261101T060000
END:STANDARD
END:VTIMEZONE
BEGIN:VEVENT
DTSTART;VALUE=DATE:20251213
DTEND;VALUE=DATE:20251214
DTSTAMP:20260424T184417
CREATED:20251121T155424Z
LAST-MODIFIED:20251121T155424Z
UID:92178-1765584000-1765670399@www.whattododigital.com
SUMMARY:Lumina Returns to Harvest Moon for the Holidays
DESCRIPTION:Lumina Returns to Harvest Moon for the Holidays \nA Magical Light Experience! \nImmerse yourself in the warmth and magic of Harvest Moon Farm & Orchard’s enchanting\, illuminated forest. Over half a million brilliant lights will create a cozy and inviting glow\, filling the air with holiday cheer. \nCheck dates and times. \nHarvest Moon Farm & Orchard
URL:https://www.whattododigital.com/event/lumina-returns-to-harvest-moon-for-the-holidays-11/
LOCATION:Harvest Moon Farm & Orchard
CATEGORIES:Holidays,Kids
ATTACH;FMTTYPE=image/jpeg:https://www.whattododigital.com/wp-content/uploads/2025/11/Harvest-Moon_lumina-copy.jpg
END:VEVENT
BEGIN:VEVENT
DTSTART;VALUE=DATE:20251213
DTEND;VALUE=DATE:20251214
DTSTAMP:20260424T184417
CREATED:20251121T164354Z
LAST-MODIFIED:20251121T164354Z
UID:92235-1765584000-1765670399@www.whattododigital.com
SUMMARY:Westchester Winter Wonderland
DESCRIPTION:Westchester Winter Wonderland \nWestchester’s Winter Wonderland Drive-Thru Holiday Light Extravaganza is a one-of-a-kind\, affordable holiday experience for the whole family! See 1.2 miles of dazzling lights from the comfort of your own car\, and see Westchester’s BEST Santa! \nSelect dates from November 21 to December 7. Daily except Christmas Eve and Christmas Day from December 11 to 31. \nMetered tickets from 5pm to 9:45 most nights. \nWestchester Winter Wonderland
URL:https://www.whattododigital.com/event/westchester-winter-wonderland-13/
LOCATION:Kensico Dam
CATEGORIES:Holidays,Kids
ATTACH;FMTTYPE=image/gif:https://www.whattododigital.com/wp-content/uploads/2021/11/Winter-Wonderlan_gif_website_light2.gif
END:VEVENT
BEGIN:VEVENT
DTSTART;VALUE=DATE:20251213
DTEND;VALUE=DATE:20251214
DTSTAMP:20260424T184417
CREATED:20251124T195651Z
LAST-MODIFIED:20251124T195651Z
UID:92591-1765584000-1765670399@www.whattododigital.com
SUMMARY:Dickens's Christmas Carol at the Old Dutch Church
DESCRIPTION:Dickens’s Christmas Carol at the Old Dutch Church \nNestle into the historic Old Dutch Church and let master storyteller Jonathan Kruk\, complete with musical accompaniment by Jim Keyes\, regale you with his adaptation of Charles Dickens’s “A Christmas Carol.” \nThree performances at: 2\, 3:30 & 5pm \nOld Dutch Church
URL:https://www.whattododigital.com/event/dickenss-christmas-carol-at-the-old-dutch-church/
LOCATION:Old Dutch Church
CATEGORIES:Holidays,Kids
ATTACH;FMTTYPE=image/jpeg:https://www.whattododigital.com/wp-content/uploads/2017/11/Holiday_dickens_HHV-e1510262984472.jpg
END:VEVENT
BEGIN:VEVENT
DTSTART;VALUE=DATE:20251213
DTEND;VALUE=DATE:20251214
DTSTAMP:20260424T184417
CREATED:20251124T200741Z
LAST-MODIFIED:20251124T200741Z
UID:92603-1765584000-1765670399@www.whattododigital.com
SUMMARY:Palace Stamford: CT Ballet's The Nutcracker
DESCRIPTION:Palace Stamford: CT Ballet’s The Nutcracker \nConnecticut Ballet’s production of  The Nutcracker returns for an exciting run of shows at The Palace on Saturday/Sunday\, December 13 & 14. Artistic Director’s acclaimed staging of the Tchaikovsky classic is made even more spectacular by guest performances by stars from American Ballet Theatre\, Pennsylvania Ballet\, and New York City Ballet. \nDecember 13th performances will feature New York City Ballet principal dancers INDIANA WOODWARD and JOVANI FURLAN.  \nDecember 14th performances at 1pm and 5pm will feature Philadelphia Ballet principal dancers OKSANA MASLOVA and JACK THOMAS. \nPalace Stamford
URL:https://www.whattododigital.com/event/palace-stamford-ct-ballets-the-nutcracker/
LOCATION:The Palace Stamford\, 61 Atlantic St.\, Stamford\, CT\, 06901\, United States
CATEGORIES:Holidays,Kids
ATTACH;FMTTYPE=image/jpeg:https://www.whattododigital.com/wp-content/uploads/2025/11/Palace_ctballet-nutcracker-copy.jpg
END:VEVENT
BEGIN:VEVENT
DTSTART;VALUE=DATE:20251213
DTEND;VALUE=DATE:20251214
DTSTAMP:20260424T184417
CREATED:20251124T203304Z
LAST-MODIFIED:20251124T203304Z
UID:92622-1765584000-1765670399@www.whattododigital.com
SUMMARY:Emelin Theatre: Nutcracker Dream
DESCRIPTION:Emelin Theatre: Nutcracker Dream \nThe Emelin Theatre presents Nutcracker Dream: Inspired by the work of Rudolf Nureyev and Marius Petipa\, this 90-minute adaptation by French-American choreographer Carole Alexis is an exquisite interpretation of the beloved holiday classic. Professional dancers of Ballet des Amériques will perform the featured roles of the ballet\, with additional roles performed by young dancers from Westchester County. \nTwo shows at 1:30 & 5pm. \nEmelin Theatre
URL:https://www.whattododigital.com/event/emelin-theatre-nutcracker-dream/
LOCATION:Emelin Theatre
CATEGORIES:Holidays,Kids
ATTACH;FMTTYPE=image/jpeg:https://www.whattododigital.com/wp-content/uploads/2025/11/Emelin_Nutcracker_Dream.jpg
END:VEVENT
BEGIN:VEVENT
DTSTART;TZID=America/New_York:20251213T110000
DTEND;TZID=America/New_York:20251213T173000
DTSTAMP:20260424T184417
CREATED:20251208T170359Z
LAST-MODIFIED:20251208T170359Z
UID:92780-1765623600-1765647000@www.whattododigital.com
SUMMARY:Mt. Kisco Holiday Fest & Light Parade
DESCRIPTION:Mt. Kisco Holiday Fest & Light Parade \nMt. Kisco’s Holiday Fest kicks off at 11am with a Holiday Children’s Toy Party at the American Legion hall. \nFrom noon to four there will be free downtown activities including a Polar Bears Obstacle Course for the kids\, appearances by Olaf\, Santa & Mr.s Claus\, a cookie crawl\, outdoor holiday market\, fire truck rides and holiday music. \nStay for the Mount Kisco Village Fire Department’s bonfire at 4pm and the Holiday Light Parade beginning at 5:30pm. \nLocation: South Moger Avenue near the Gazebo
URL:https://www.whattododigital.com/event/mt-kisco-holiday-fest-light-parade/
LOCATION:CT
CATEGORIES:Holidays
ATTACH;FMTTYPE=image/jpeg:https://www.whattododigital.com/wp-content/uploads/2025/12/HolidayFest-2025-FR.jpg
END:VEVENT
BEGIN:VEVENT
DTSTART;TZID=America/New_York:20251213T140000
DTEND;TZID=America/New_York:20251213T140000
DTSTAMP:20260424T184417
CREATED:20251120T161846Z
LAST-MODIFIED:20251120T161846Z
UID:92080-1765634400-1765634400@www.whattododigital.com
SUMMARY:Ridgefield Playhouse: The Nutcracker performed by The Ridgefield Conservatory of Dance
DESCRIPTION:Ridgefield Playhouse: The Nutcracker performed by The Ridgefield Conservatory of Dance \nThe Ridgefield Conservatory of Dance presents a full-length production of The Nutcracker ballet with a cast of student\, professional\, and guest performers under the Direction of Mary Beth Hansohn. \nRidgefield Playhouse
URL:https://www.whattododigital.com/event/ridgefield-playhouse-the-nutcracker-performed-by-the-ridgefield-conservatory-of-dance-2/
LOCATION:The Ridgefield Playhouse\, 80 East Ridge\, Ridfgefield\, CT\, 06877\, United States
CATEGORIES:Holidays
ATTACH;FMTTYPE=image/jpeg:https://www.whattododigital.com/wp-content/uploads/2025/11/RPH-THE-NUTCRACKER-550x800-1-copy.jpg
END:VEVENT
BEGIN:VEVENT
DTSTART;TZID=America/New_York:20251213T180000
DTEND;TZID=America/New_York:20251213T180000
DTSTAMP:20260424T184417
CREATED:20251120T162029Z
LAST-MODIFIED:20251120T162029Z
UID:92084-1765648800-1765648800@www.whattododigital.com
SUMMARY:Ridgefield Playhouse: The Nutcracker performed by The Ridgefield Conservatory of Dance
DESCRIPTION:Ridgefield Playhouse: The Nutcracker performed by The Ridgefield Conservatory of Dance \nThe Ridgefield Conservatory of Dance presents a full-length production of The Nutcracker ballet with a cast of student\, professional\, and guest performers under the Direction of Mary Beth Hansohn. \nRidgefield Playhouse
URL:https://www.whattododigital.com/event/ridgefield-playhouse-the-nutcracker-performed-by-the-ridgefield-conservatory-of-dance-3/
LOCATION:The Ridgefield Playhouse\, 80 East Ridge\, Ridfgefield\, CT\, 06877\, United States
CATEGORIES:Holidays,Kids
ATTACH;FMTTYPE=image/jpeg:https://www.whattododigital.com/wp-content/uploads/2025/11/RPH-THE-NUTCRACKER-550x800-1-copy.jpg
END:VEVENT
BEGIN:VEVENT
DTSTART;TZID=America/New_York:20251213T190000
DTEND;TZID=America/New_York:20251213T190000
DTSTAMP:20260424T184417
CREATED:20251124T191335Z
LAST-MODIFIED:20251124T202203Z
UID:92552-1765652400-1765652400@www.whattododigital.com
SUMMARY:Paramount Hudson Valley: Jessica Lynn's A Very Merry Christmas
DESCRIPTION:Paramount Hudson Valley: Jessica Lynn’s A Very Merry Christmas \nJessica Lynn’s A Very Merry Classic Christmas” has become a genuine New York holiday tradition\, rivaling and even eclipsing some of the biggest of holiday spectaculars. This fun-filled\, family sleigh ride through the most wonderful time of the year was named by press as the “#1 Great Thing to do in The Hudson Valley for The Holidays\,” “Best of Westchester\,” and “Best of Hudson Valley.” \nParamount Hudson Valley
URL:https://www.whattododigital.com/event/paramount-hudson-valley-jessic-lynns-a-very-merry-christmas/
LOCATION:Paramount Hudson Valley
CATEGORIES:Holidays
ATTACH;FMTTYPE=image/jpeg:https://www.whattododigital.com/wp-content/uploads/2025/11/Palace_Jessica-Lynn.jpeg
END:VEVENT
BEGIN:VEVENT
DTSTART;TZID=America/New_York:20251213T190000
DTEND;TZID=America/New_York:20251213T220000
DTSTAMP:20260424T184417
CREATED:20251121T193244Z
LAST-MODIFIED:20251121T193244Z
UID:92349-1765652400-1765663200@www.whattododigital.com
SUMMARY:Holiday Train Show Nights
DESCRIPTION:Holiday Train Show Nights \nLet roving train conductors welcome you to experience the Holiday Train Show® in a whole new light as we illuminate the exhibition for Holiday Train Nights—lively after-dark celebrations where you can sip seasonal cocktails and mocktails under the glass of the warm and twinkling Haupt Conservatory. \nHoliday Train Show Nights
URL:https://www.whattododigital.com/event/holiday-train-show-nights-6/
LOCATION:New York Botanical Garden\, 2900 Southern Blvd.\, Bronx\, NY\, 10458-5126\, United States
CATEGORIES:Grown Ups,Holidays
ATTACH;FMTTYPE=image/jpeg:https://www.whattododigital.com/wp-content/uploads/2025/10/NYBG_Holiday-Train-Nights.jpg
END:VEVENT
END:VCALENDAR