BEGIN:VCALENDAR
VERSION:2.0
PRODID:-//What To Do - ECPv6.15.20//NONSGML v1.0//EN
CALSCALE:GREGORIAN
METHOD:PUBLISH
X-ORIGINAL-URL:https://www.whattododigital.com
X-WR-CALDESC:Events for What To Do
REFRESH-INTERVAL;VALUE=DURATION:PT1H
X-Robots-Tag:noindex
X-PUBLISHED-TTL:PT1H
BEGIN:VTIMEZONE
TZID:America/New_York
BEGIN:DAYLIGHT
TZOFFSETFROM:-0500
TZOFFSETTO:-0400
TZNAME:EDT
DTSTART:20250309T070000
END:DAYLIGHT
BEGIN:STANDARD
TZOFFSETFROM:-0400
TZOFFSETTO:-0500
TZNAME:EST
DTSTART:20251102T060000
END:STANDARD
BEGIN:DAYLIGHT
TZOFFSETFROM:-0500
TZOFFSETTO:-0400
TZNAME:EDT
DTSTART:20260308T070000
END:DAYLIGHT
BEGIN:STANDARD
TZOFFSETFROM:-0400
TZOFFSETTO:-0500
TZNAME:EST
DTSTART:20261101T060000
END:STANDARD
BEGIN:DAYLIGHT
TZOFFSETFROM:-0500
TZOFFSETTO:-0400
TZNAME:EDT
DTSTART:20270314T070000
END:DAYLIGHT
BEGIN:STANDARD
TZOFFSETFROM:-0400
TZOFFSETTO:-0500
TZNAME:EST
DTSTART:20271107T060000
END:STANDARD
END:VTIMEZONE
BEGIN:VEVENT
DTSTART;VALUE=DATE:20260301
DTEND;VALUE=DATE:20260302
DTSTAMP:20260423T064343
CREATED:20260105T195536Z
LAST-MODIFIED:20260105T195536Z
UID:93121-1772323200-1772409599@www.whattododigital.com
SUMMARY:Emelin Theatre: The Stinky Cheese Man & Other Fairly Stupid Tales
DESCRIPTION:Emelin Theatre: The Stinky Cheese Man & Other Fairly Stupid Tales \nThis fast-paced\, 60-minute show is a whirlwind of fractured fairy tales where Cinderella snubs Rumpelstiltskin\, the Ugly Duckling stays ugly\, and the Tortoise challenges a hair-growing Hare. With witty narration\, playful set designs\, and a healthy dose of absurdity\, this production is a treat for kids and adults alike. \nTwo Shows at 11am & 2pm \nEmelin Theatre
URL:https://www.whattododigital.com/event/emelin-theatre-the-stinky-cheese-man-other-fairly-stupid-tales/
LOCATION:Emelin Theatre
CATEGORIES:Kids
ATTACH;FMTTYPE=image/jpeg:https://www.whattododigital.com/wp-content/uploads/2026/01/Emelin_stinky-cheese-man_.jpeg
END:VEVENT
BEGIN:VEVENT
DTSTART;TZID=America/New_York:20260301T150000
DTEND;TZID=America/New_York:20260301T150000
DTSTAMP:20260423T064343
CREATED:20260120T164816Z
LAST-MODIFIED:20260120T164816Z
UID:93613-1772377200-1772377200@www.whattododigital.com
SUMMARY:Maritime Aquarium Norwalk: Seal Spotting & Birding Cruise
DESCRIPTION:Maritime Aquarium Norwalk: Seal Spotting & Birding Cruise \nThe two-hour cruises seek out animals spending the winter in Long Island Sound including harbor seals\, gray seals\, buffleheads\, mergansers\, long-tailed ducks\, and red-throated loons. Aquarium educators will identify these species for guests and discuss their natural histories. \nNorwalk Maritime Aquarium
URL:https://www.whattododigital.com/event/maritime-aquarium-norwalk-seal-spotting-birding-cruise-7/
LOCATION:Maritime Aquarium Norwalk\, 10 North Water Street\, Norwalk\, CT\, United States
CATEGORIES:Grown Ups,Kids,Outdoors
ATTACH;FMTTYPE=image/jpeg:https://www.whattododigital.com/wp-content/uploads/2026/01/Kids_seal-spotting_Aquarium-Norwalk-.jpeg
END:VEVENT
BEGIN:VEVENT
DTSTART;TZID=America/New_York:20260307T130000
DTEND;TZID=America/New_York:20260307T143000
DTSTAMP:20260423T064343
CREATED:20260120T141846Z
LAST-MODIFIED:20260120T141846Z
UID:93535-1772888400-1772893800@www.whattododigital.com
SUMMARY:Westmoreland Sanctuary: Public Maple Sugaring
DESCRIPTION:Westmoreland Sanctuary: Public Maple Sugaring \n  \nWestmoreland Sanctuary
URL:https://www.whattododigital.com/event/westmoreland-sanctuary-public-maple-sugaring/
LOCATION:Westmoreland Sanctuary\, 260 Chestnut Ridge Rd.\, Mt. Kisco\, NY\, 10549\, United States
CATEGORIES:Kids
ATTACH;FMTTYPE=image/jpeg:https://www.whattododigital.com/wp-content/uploads/2026/01/Westmoreland_Maple-Sugaring-2.jpeg
END:VEVENT
BEGIN:VEVENT
DTSTART;TZID=America/New_York:20260307T133000
DTEND;TZID=America/New_York:20260307T143000
DTSTAMP:20260423T064343
CREATED:20260120T143521Z
LAST-MODIFIED:20260120T143521Z
UID:93551-1772890200-1772893800@www.whattododigital.com
SUMMARY:Muscoot Farm: Maple Munchies for Kids
DESCRIPTION:Muscoot Farm: Maple Munchies for Kids \nSyrup isn’t just for pancakes! Come learn about all the ways to use maple syrup in the kitchen while cooking up a maple-themed culinary treat! This cooking class will be offered in Muscoot’s Activity Building for $20 per person\, for kids ages 8+. Treats may range from sweet to savory\, so bring your appetite with you! \nMuscoot Farm
URL:https://www.whattododigital.com/event/muscoot-farm-maple-munchies-for-kids/
LOCATION:Muscoot Farm
CATEGORIES:Kids
ATTACH;FMTTYPE=image/jpeg:https://www.whattododigital.com/wp-content/uploads/2024/01/Muscoot_Maple-Munchies.jpg
END:VEVENT
BEGIN:VEVENT
DTSTART;TZID=America/New_York:20260314T123000
DTEND;TZID=America/New_York:20260314T150000
DTSTAMP:20260423T064343
CREATED:20260120T143912Z
LAST-MODIFIED:20260120T143912Z
UID:93554-1773491400-1773500400@www.whattododigital.com
SUMMARY:Muscoot Farm: (Un) Tap-a-tree
DESCRIPTION:Muscoot Farm: (Un) Tap-a-tree: Registration Required \nHelp us finish the sugaring season by collecting the last bit of sap and un-tapping the trees! In this private\, hands-on tour\, participants will learn about the tapping process of maple sugaring\, in reverse! Sessions will take place every half hour\, limited to one group for each timeslot. \nMuscoot Farm
URL:https://www.whattododigital.com/event/muscoot-farm-un-tap-a-tree/
LOCATION:Muscoot Farm
CATEGORIES:Kids
ATTACH;FMTTYPE=image/jpeg:https://www.whattododigital.com/wp-content/uploads/2024/01/Muscoot_Un-Tap-copy.jpg
END:VEVENT
BEGIN:VEVENT
DTSTART;TZID=America/New_York:20260314T140000
DTEND;TZID=America/New_York:20260314T140000
DTSTAMP:20260423T064343
CREATED:20260120T165006Z
LAST-MODIFIED:20260120T165006Z
UID:93616-1773496800-1773496800@www.whattododigital.com
SUMMARY:Maritime Aquarium Norwalk: Seal Spotting & Birding Cruise
DESCRIPTION:Maritime Aquarium Norwalk: Seal Spotting & Birding Cruise \nThe two-hour cruises seek out animals spending the winter in Long Island Sound including harbor seals\, gray seals\, buffleheads\, mergansers\, long-tailed ducks\, and red-throated loons. Aquarium educators will identify these species for guests and discuss their natural histories. \nNorwalk Maritime Aquarium
URL:https://www.whattododigital.com/event/maritime-aquarium-norwalk-seal-spotting-birding-cruise-8/
LOCATION:Maritime Aquarium Norwalk\, 10 North Water Street\, Norwalk\, CT\, United States
CATEGORIES:Grown Ups,Kids,Outdoors
ATTACH;FMTTYPE=image/jpeg:https://www.whattododigital.com/wp-content/uploads/2026/01/Kids_seal-spotting_Aquarium-Norwalk-.jpeg
END:VEVENT
BEGIN:VEVENT
DTSTART;TZID=America/New_York:20260314T150000
DTEND;TZID=America/New_York:20260314T150000
DTSTAMP:20260423T064343
CREATED:20260102T173814Z
LAST-MODIFIED:20260102T173814Z
UID:92944-1773500400-1773500400@www.whattododigital.com
SUMMARY:Performing Arts Center Purchase: Mermaid Theatre: Billy Goats Gruff & Other Tales
DESCRIPTION:Performing Arts Center Purchase: Mermaid Theatre: Billy Goats Gruff & Other Tales \nThrough the art of puppetry\, Mermaid Theatre of Nova Scotia imaginatively retells three cherished children’s stories — Goldilocks and the Three Bears\, The Three Little Pigs\, and The Three Billy Goats Gruff. \nPerforming Arts Center Purchase
URL:https://www.whattododigital.com/event/performing-arts-center-purchase-mermaid-theatre-billy-goats-gruff-other-tales/
LOCATION:The Performing Arts Center Purchase College\, 735 Anderson Hill Rd.\, Purchase\, Purchase\, NY\, 10577\, United States
CATEGORIES:Kids
ATTACH;FMTTYPE=image/jpeg:https://www.whattododigital.com/wp-content/uploads/2026/01/PAC_MermaidTheatre_BillyGoats.jpeg
END:VEVENT
BEGIN:VEVENT
DTSTART;TZID=America/New_York:20260315T123000
DTEND;TZID=America/New_York:20260315T150000
DTSTAMP:20260423T064343
CREATED:20260120T144113Z
LAST-MODIFIED:20260120T144113Z
UID:93557-1773577800-1773586800@www.whattododigital.com
SUMMARY:Muscoot Farm: (Un) Tap-a-tree:
DESCRIPTION:Muscoot Farm: (Un) Tap-a-tree: Registration Required \nHelp us finish the sugaring season by collecting the last bit of sap and un-tapping the trees! In this private\, hands-on tour\, participants will learn about the tapping process of maple sugaring\, in reverse! Sessions will take place every half hour\, limited to one group for each timeslot. \nMuscoot Farm
URL:https://www.whattododigital.com/event/muscoot-farm-un-tap-a-tree-2/
LOCATION:Muscoot Farm
CATEGORIES:Kids
ATTACH;FMTTYPE=image/jpeg:https://www.whattododigital.com/wp-content/uploads/2024/01/Muscoot_Un-Tap-copy.jpg
END:VEVENT
BEGIN:VEVENT
DTSTART;TZID=America/New_York:20260315T143000
DTEND;TZID=America/New_York:20260315T143000
DTSTAMP:20260423T064343
CREATED:20260120T165148Z
LAST-MODIFIED:20260120T165148Z
UID:93619-1773585000-1773585000@www.whattododigital.com
SUMMARY:Maritime Aquarium Norwalk: Seal Spotting & Birding Cruise
DESCRIPTION:Maritime Aquarium Norwalk: Seal Spotting & Birding Cruise \nThe two-hour cruises seek out animals spending the winter in Long Island Sound including harbor seals\, gray seals\, buffleheads\, mergansers\, long-tailed ducks\, and red-throated loons. Aquarium educators will identify these species for guests and discuss their natural histories. \nNorwalk Maritime Aquarium
URL:https://www.whattododigital.com/event/maritime-aquarium-norwalk-seal-spotting-birding-cruise-9/
LOCATION:Maritime Aquarium Norwalk\, 10 North Water Street\, Norwalk\, CT\, United States
CATEGORIES:Grown Ups,Kids,Outdoors
ATTACH;FMTTYPE=image/jpeg:https://www.whattododigital.com/wp-content/uploads/2026/01/Kids_seal-spotting_Aquarium-Norwalk-.jpeg
END:VEVENT
BEGIN:VEVENT
DTSTART;TZID=America/New_York:20260322T110000
DTEND;TZID=America/New_York:20260322T140000
DTSTAMP:20260423T064343
CREATED:20260120T143240Z
LAST-MODIFIED:20260120T143240Z
UID:93546-1774177200-1774188000@www.whattododigital.com
SUMMARY:Muscoot Farm Mansion Tour
DESCRIPTION:Muscoot Farm Mansion Tour \nJoin Muscoot’s education staff on a historical tour of the mansion. Appropriate for ages 13+. \nMuscoot Farm
URL:https://www.whattododigital.com/event/muscoot-farm-mansion-tour-2/
LOCATION:Muscoot Farm
CATEGORIES:Arts,Grown Ups,Kids
ATTACH;FMTTYPE=image/jpeg:https://www.whattododigital.com/wp-content/uploads/2026/01/Muscoot-Mansion-copy.jpg
END:VEVENT
BEGIN:VEVENT
DTSTART;TZID=America/New_York:20260324T180000
DTEND;TZID=America/New_York:20260324T180000
DTSTAMP:20260423T064343
CREATED:20260302T202858Z
LAST-MODIFIED:20260316T183918Z
UID:93821-1774375200-1774375200@www.whattododigital.com
SUMMARY:The Palace Stamford: Dog Man: The Musical
DESCRIPTION:The Palace Stamford: Dog Man: The Musical \nBased on the worldwide bestselling hit series by Dav Pilkey\, Dog Man: The Musical is a hilarious and heartwarming production following the chronicles of Dog Man\, who with the head of a dog and the body of a policeman\, loves to fight crime and chew on the furniture. \nThe Palace Stamford
URL:https://www.whattododigital.com/event/capitol-theatre-dog-man-the-musical/
LOCATION:The Palace Stamford\, 61 Atlantic St.\, Stamford\, CT\, 06901\, United States
CATEGORIES:Kids
ATTACH;FMTTYPE=image/webp:https://www.whattododigital.com/wp-content/uploads/2026/03/Palace_dogman.webp
END:VEVENT
BEGIN:VEVENT
DTSTART;TZID=America/New_York:20260326T180000
DTEND;TZID=America/New_York:20260326T180000
DTSTAMP:20260423T064343
CREATED:20260108T165451Z
LAST-MODIFIED:20260108T185908Z
UID:93456-1774548000-1774548000@www.whattododigital.com
SUMMARY:Tarrytown Music Hall: Be Like Blippi Tour
DESCRIPTION:Tarrytown Music Hall: Be Like Blippi Tour \nJoin Blippi and Meekah. live on stage in a high-energy live show packed with music\, laughter\, and surprises\, featuring fan-favorites like “The Excavator Song\,” “Monster Truck\,” “Dino Dance\,” and “Curious Like Me.” This brand-new interactive adventure invites families to put on your orange glasses and unlock the spark ofcuriosity inside us all—showing that everyone can Be Like Blippi! \nTarrytown Music Hall
URL:https://www.whattododigital.com/event/tarrytown-music-hall-be-like-blippi-tour/
LOCATION:Tarrytown Music Hall
CATEGORIES:Kids
ATTACH;FMTTYPE=image/jpeg:https://www.whattododigital.com/wp-content/uploads/2026/01/TMH_Blippi26fb.jpeg
END:VEVENT
BEGIN:VEVENT
DTSTART;TZID=America/New_York:20260328T140000
DTEND;TZID=America/New_York:20260328T140000
DTSTAMP:20260423T064343
CREATED:20260120T165316Z
LAST-MODIFIED:20260120T165316Z
UID:93622-1774706400-1774706400@www.whattododigital.com
SUMMARY:Maritime Aquarium Norwalk: Seal Spotting & Birding Cruise
DESCRIPTION:Maritime Aquarium Norwalk: Seal Spotting & Birding Cruise \nThe two-hour cruises seek out animals spending the winter in Long Island Sound including harbor seals\, gray seals\, buffleheads\, mergansers\, long-tailed ducks\, and red-throated loons. Aquarium educators will identify these species for guests and discuss their natural histories. \nNorwalk Maritime Aquarium
URL:https://www.whattododigital.com/event/maritime-aquarium-norwalk-seal-spotting-birding-cruise-10/
LOCATION:Maritime Aquarium Norwalk\, 10 North Water Street\, Norwalk\, CT\, United States
CATEGORIES:Grown Ups,Kids,Outdoors
ATTACH;FMTTYPE=image/jpeg:https://www.whattododigital.com/wp-content/uploads/2026/01/Kids_seal-spotting_Aquarium-Norwalk-.jpeg
END:VEVENT
BEGIN:VEVENT
DTSTART;TZID=America/New_York:20260329T140000
DTEND;TZID=America/New_York:20260329T140000
DTSTAMP:20260423T064343
CREATED:20260108T190902Z
LAST-MODIFIED:20260108T190902Z
UID:93470-1774792800-1774792800@www.whattododigital.com
SUMMARY:Tarrytown Music Hall: Lightwire Theater
DESCRIPTION:Tarrytown Music Hall: Lightwire Theater \nIn this visually stunning DINOSAUR adventure for all ages\, a friendly dinosaur discovers a glowing world and the true meaning of love. Lightwire Theater blends puppetry\, technology and dance to tell tender-hearted stories that spark childlike wonder and (literally) light up the darkness.\n“What you see looks like magic” —CBS Sunday Morning \n“absolutely incredible” —Rolling Stone \nSpotlight on Lightwire Theater: \n\nSemi-finalists on America’s Got Talent and winners of truTV’s Fake Off \nRecipient of the Jim Henson Foundation Grant for DINO-LIGHT \nEach puppet is hand-built from recycled materials like skateboards\, dryer ducts\, and fishing poles\nCharacters glow with electroluminescent (EL) wire\, taking 200+ hours to create\n\n\nTarrytown Music Hall
URL:https://www.whattododigital.com/event/tarrytown-music-hall-lightwire-theater/
LOCATION:Tarrytown Music Hall
CATEGORIES:Kids
ATTACH;FMTTYPE=image/jpeg:https://www.whattododigital.com/wp-content/uploads/2026/01/TMH_DinoLight26fb.jpeg
END:VEVENT
BEGIN:VEVENT
DTSTART;TZID=America/New_York:20260329T143000
DTEND;TZID=America/New_York:20260329T143000
DTSTAMP:20260423T064343
CREATED:20260120T165459Z
LAST-MODIFIED:20260120T165459Z
UID:93625-1774794600-1774794600@www.whattododigital.com
SUMMARY:Maritime Aquarium Norwalk: Seal Spotting & Birding Cruise
DESCRIPTION:Maritime Aquarium Norwalk: Seal Spotting & Birding Cruise \nThe two-hour cruises seek out animals spending the winter in Long Island Sound including harbor seals\, gray seals\, buffleheads\, mergansers\, long-tailed ducks\, and red-throated loons. Aquarium educators will identify these species for guests and discuss their natural histories. \nNorwalk Maritime Aquarium
URL:https://www.whattododigital.com/event/maritime-aquarium-norwalk-seal-spotting-birding-cruise-11/
LOCATION:Maritime Aquarium Norwalk\, 10 North Water Street\, Norwalk\, CT\, United States
CATEGORIES:Grown Ups,Kids,Outdoors
ATTACH;FMTTYPE=image/jpeg:https://www.whattododigital.com/wp-content/uploads/2026/01/Kids_seal-spotting_Aquarium-Norwalk-.jpeg
END:VEVENT
END:VCALENDAR