BEGIN:VCALENDAR
VERSION:2.0
PRODID:-//What To Do - ECPv6.15.20//NONSGML v1.0//EN
CALSCALE:GREGORIAN
METHOD:PUBLISH
X-ORIGINAL-URL:https://www.whattododigital.com
X-WR-CALDESC:Events for What To Do
REFRESH-INTERVAL;VALUE=DURATION:PT1H
X-Robots-Tag:noindex
X-PUBLISHED-TTL:PT1H
BEGIN:VTIMEZONE
TZID:America/New_York
BEGIN:DAYLIGHT
TZOFFSETFROM:-0500
TZOFFSETTO:-0400
TZNAME:EDT
DTSTART:20240310T070000
END:DAYLIGHT
BEGIN:STANDARD
TZOFFSETFROM:-0400
TZOFFSETTO:-0500
TZNAME:EST
DTSTART:20241103T060000
END:STANDARD
BEGIN:DAYLIGHT
TZOFFSETFROM:-0500
TZOFFSETTO:-0400
TZNAME:EDT
DTSTART:20250309T070000
END:DAYLIGHT
BEGIN:STANDARD
TZOFFSETFROM:-0400
TZOFFSETTO:-0500
TZNAME:EST
DTSTART:20251102T060000
END:STANDARD
BEGIN:DAYLIGHT
TZOFFSETFROM:-0500
TZOFFSETTO:-0400
TZNAME:EDT
DTSTART:20260308T070000
END:DAYLIGHT
BEGIN:STANDARD
TZOFFSETFROM:-0400
TZOFFSETTO:-0500
TZNAME:EST
DTSTART:20261101T060000
END:STANDARD
END:VTIMEZONE
BEGIN:VEVENT
DTSTART;TZID=America/New_York:20251018T090000
DTEND;TZID=America/New_York:20251018T170000
DTSTAMP:20260425T221322
CREATED:20250827T180418Z
LAST-MODIFIED:20250827T180418Z
UID:88903-1760778000-1760806800@www.whattododigital.com
SUMMARY:New York Sheep & Wool Festival
DESCRIPTION:New York Sheep & Wool Festival \nOver 300 wool & fiber arts and vendors associated with all things wool make up the show. Natural fiber producing livestock such as angora rabbits\, llamas & alpacas\, musk oxen and many different breeds of sheep and goats are showcased. \nThe festival features several livestock competitions\, a “Make it with Wool” fashion show\, Sheep dog herding frisbee dog demonstrations\, food concessions including a special lamb dish\, and a winery\, distillery and gourmet specialty foods building. \nNew York Sheep and Wool Festival
URL:https://www.whattododigital.com/event/new-york-sheep-wool-festival/
LOCATION:Dutchess County Fairgrounds\, 6636 U.S. 9\, Rhinebeck\, NY\, 12572\, United States
CATEGORIES:Fairs and Festivals,Kids,Outdoors
ATTACH;FMTTYPE=image/jpeg:https://www.whattododigital.com/wp-content/uploads/2025/08/nys-sheep-and-wool.jpg
END:VEVENT
BEGIN:VEVENT
DTSTART;TZID=America/New_York:20251018T130000
DTEND;TZID=America/New_York:20251018T130000
DTSTAMP:20260425T221322
CREATED:20250825T190244Z
LAST-MODIFIED:20250825T190244Z
UID:88745-1760792400-1760792400@www.whattododigital.com
SUMMARY:Tarrytown Music Hall: Spooky (but not too scary) Stories
DESCRIPTION:Tarrytown Music Hall: Spooky (but not too scary) Stories \n\nLegendary storyteller\, Jonathan Kruk\, tees up some frightful fun for kids with tales of the The Witch’s Surprise\, Rolly-Head\, the Haunted Hand\, to the accompaniment of live eerie music\, and Jumpstarts. \n\n\nJonathan Kruk is renowned for telling tales of the headless horseman and finger fables for kids. He has been featured on The Today Show\, CBS Sunday Morning\, and The Travel Channel.\n  \nTarrytown Music Hall
URL:https://www.whattododigital.com/event/tarrytown-music-hall-spooky-but-not-too-scary-stories/
LOCATION:CT
CATEGORIES:Halloween,Kids,Music
ATTACH;FMTTYPE=image/jpeg:https://www.whattododigital.com/wp-content/uploads/2025/08/TMH_Kruk_001.jpeg
END:VEVENT
BEGIN:VEVENT
DTSTART;TZID=America/New_York:20251004T140000
DTEND;TZID=America/New_York:20251004T140000
DTSTAMP:20260425T221322
CREATED:20250929T200604Z
LAST-MODIFIED:20250929T200922Z
UID:91290-1759586400-1759586400@www.whattododigital.com
SUMMARY:Old Rhinebeck Aerodrome Air Shows
DESCRIPTION:Old Rhinebeck Aerodrome Air Shows \nAmerica’s first flying museum of antique aircraft is just a short drive away. On weekends the museum presents a History of Flight and a WWI Dogfight Spectacular show. You can register for a bi-plane ride too. \nOld Rhinebeck Aerodrome
URL:https://www.whattododigital.com/event/old-rhinebeck-aerodrome-air-shows/
LOCATION:Old Rhinebeck Aerodrome Air Shows\, 9 Norton Rd.\, Red Hook\, NY\, 12571\, United States
CATEGORIES:Kids,Outdoors
ATTACH;FMTTYPE=image/jpeg:https://www.whattododigital.com/wp-content/uploads/2019/06/Kids_Bi-plane-rides-Old-Rhinebeck-.jpg
END:VEVENT
END:VCALENDAR