BEGIN:VCALENDAR
VERSION:2.0
PRODID:-//What To Do - ECPv6.15.20//NONSGML v1.0//EN
CALSCALE:GREGORIAN
METHOD:PUBLISH
X-ORIGINAL-URL:https://www.whattododigital.com
X-WR-CALDESC:Events for What To Do
REFRESH-INTERVAL;VALUE=DURATION:PT1H
X-Robots-Tag:noindex
X-PUBLISHED-TTL:PT1H
BEGIN:VTIMEZONE
TZID:America/New_York
BEGIN:DAYLIGHT
TZOFFSETFROM:-0500
TZOFFSETTO:-0400
TZNAME:EDT
DTSTART:20240310T070000
END:DAYLIGHT
BEGIN:STANDARD
TZOFFSETFROM:-0400
TZOFFSETTO:-0500
TZNAME:EST
DTSTART:20241103T060000
END:STANDARD
BEGIN:DAYLIGHT
TZOFFSETFROM:-0500
TZOFFSETTO:-0400
TZNAME:EDT
DTSTART:20250309T070000
END:DAYLIGHT
BEGIN:STANDARD
TZOFFSETFROM:-0400
TZOFFSETTO:-0500
TZNAME:EST
DTSTART:20251102T060000
END:STANDARD
BEGIN:DAYLIGHT
TZOFFSETFROM:-0500
TZOFFSETTO:-0400
TZNAME:EDT
DTSTART:20260308T070000
END:DAYLIGHT
BEGIN:STANDARD
TZOFFSETFROM:-0400
TZOFFSETTO:-0500
TZNAME:EST
DTSTART:20261101T060000
END:STANDARD
END:VTIMEZONE
BEGIN:VEVENT
DTSTART;VALUE=DATE:20251206
DTEND;VALUE=DATE:20251207
DTSTAMP:20260425T154620
CREATED:20251121T155020Z
LAST-MODIFIED:20251121T155020Z
UID:92169-1764979200-1765065599@www.whattododigital.com
SUMMARY:Lumina Returns to Harvest Moon for the Holidays
DESCRIPTION:Lumina Returns to Harvest Moon for the Holidays \nA Magical Light Experience! \nImmerse yourself in the warmth and magic of Harvest Moon Farm & Orchard’s enchanting\, illuminated forest. Over half a million brilliant lights will create a cozy and inviting glow\, filling the air with holiday cheer. \nCheck dates and times. \nHarvest Moon Farm & Orchard
URL:https://www.whattododigital.com/event/lumina-returns-to-harvest-moon-for-the-holidays-8/
LOCATION:Harvest Moon Farm & Orchard
CATEGORIES:Holidays,Kids
ATTACH;FMTTYPE=image/jpeg:https://www.whattododigital.com/wp-content/uploads/2025/11/Harvest-Moon_lumina-copy.jpg
END:VEVENT
BEGIN:VEVENT
DTSTART;VALUE=DATE:20251206
DTEND;VALUE=DATE:20251207
DTSTAMP:20260425T154620
CREATED:20251121T163827Z
LAST-MODIFIED:20251121T163827Z
UID:92223-1764979200-1765065599@www.whattododigital.com
SUMMARY:Westchester Winter Wonderland
DESCRIPTION:Westchester Winter Wonderland \nWestchester’s Winter Wonderland Drive-Thru Holiday Light Extravaganza is a one-of-a-kind\, affordable holiday experience for the whole family! See 1.2 miles of dazzling lights from the comfort of your own car\, and see Westchester’s BEST Santa! \nSelect dates from November 21 to December 7. Daily except Christmas Eve and Christmas Day from December 11 to 31. \nMetered tickets from 5pm to 9:45 most nights. \nWestchester Winter Wonderland
URL:https://www.whattododigital.com/event/westchester-winter-wonderland-9/
LOCATION:Kensico Dam
CATEGORIES:Holidays,Kids
ATTACH;FMTTYPE=image/gif:https://www.whattododigital.com/wp-content/uploads/2021/11/Winter-Wonderlan_gif_website_light2.gif
END:VEVENT
BEGIN:VEVENT
DTSTART;VALUE=DATE:20251206
DTEND;VALUE=DATE:20251207
DTSTAMP:20260425T154620
CREATED:20251201T200843Z
LAST-MODIFIED:20251201T200843Z
UID:92667-1764979200-1765065599@www.whattododigital.com
SUMMARY:New Castle Historical Society Holiday Train Show
DESCRIPTION:New Castle Historical Society Holiday Train Show \nFeaturing: LEGO Around the World\, Polar Express and Santa’s Holiday Train \nIn addition to the trains\, the rooms of the historic Horace Greeley House will be festively decorated for the season. For those who are young or young at heart\, we offer a train-themed scavenger hunt\, an activity room with crafts and hands-on trains\, and even a mini train engine for the perfect photo op! \nThe exhibition opens on Saturday\, November 22 and runs through Saturday\, January 3\, 2026. Two entrance times daily at 10am & 1:15 pm. \nNew Castle Historical Society
URL:https://www.whattododigital.com/event/new-castle-historical-society-holiday-train-show-5/
LOCATION:Horace Greeley House\, 100 King St.\, Chappaqua\, NY\, 10514\, United States
CATEGORIES:Holidays,Kids
ATTACH;FMTTYPE=image/jpeg:https://www.whattododigital.com/wp-content/uploads/2025/10/NCHS-9-1536x1025-1.jpeg
END:VEVENT
BEGIN:VEVENT
DTSTART;TZID=America/New_York:20251206T120000
DTEND;TZID=America/New_York:20251206T120000
DTSTAMP:20260425T154620
CREATED:20251103T215010Z
LAST-MODIFIED:20251103T215010Z
UID:91887-1765022400-1765022400@www.whattododigital.com
SUMMARY:The Palace Stamford: Rock and Roll Playhouse's Queen for Kids
DESCRIPTION:The Palace Stamford: Rock and Roll Playhouse’s Queen for Kids \nThe Rock and Roll Playhouse\, a family concert series hosted at historic music venues across the country\, allows kids to “move\, play and sing while listening to works from the classic-rock canon” (NY Times). \nPalace Stamford
URL:https://www.whattododigital.com/event/the-palace-stamford-rock-and-roll-playhouses-queen-for-kids/
LOCATION:The Palace Stamford\, 61 Atlantic St.\, Stamford\, CT\, 06901\, United States
CATEGORIES:Kids
ATTACH;FMTTYPE=image/jpeg:https://www.whattododigital.com/wp-content/uploads/2025/11/Palace_Queen-for-Kids.jpg
END:VEVENT
END:VCALENDAR