BEGIN:VCALENDAR
VERSION:2.0
PRODID:-//What To Do - ECPv6.15.20//NONSGML v1.0//EN
CALSCALE:GREGORIAN
METHOD:PUBLISH
X-ORIGINAL-URL:https://www.whattododigital.com
X-WR-CALDESC:Events for What To Do
REFRESH-INTERVAL;VALUE=DURATION:PT1H
X-Robots-Tag:noindex
X-PUBLISHED-TTL:PT1H
BEGIN:VTIMEZONE
TZID:America/New_York
BEGIN:DAYLIGHT
TZOFFSETFROM:-0500
TZOFFSETTO:-0400
TZNAME:EDT
DTSTART:20240310T070000
END:DAYLIGHT
BEGIN:STANDARD
TZOFFSETFROM:-0400
TZOFFSETTO:-0500
TZNAME:EST
DTSTART:20241103T060000
END:STANDARD
BEGIN:DAYLIGHT
TZOFFSETFROM:-0500
TZOFFSETTO:-0400
TZNAME:EDT
DTSTART:20250309T070000
END:DAYLIGHT
BEGIN:STANDARD
TZOFFSETFROM:-0400
TZOFFSETTO:-0500
TZNAME:EST
DTSTART:20251102T060000
END:STANDARD
BEGIN:DAYLIGHT
TZOFFSETFROM:-0500
TZOFFSETTO:-0400
TZNAME:EDT
DTSTART:20260308T070000
END:DAYLIGHT
BEGIN:STANDARD
TZOFFSETFROM:-0400
TZOFFSETTO:-0500
TZNAME:EST
DTSTART:20261101T060000
END:STANDARD
END:VTIMEZONE
BEGIN:VEVENT
DTSTART;VALUE=DATE:20251226
DTEND;VALUE=DATE:20251227
DTSTAMP:20260425T122235
CREATED:20251121T160514Z
LAST-MODIFIED:20251121T160514Z
UID:92193-1766707200-1766793599@www.whattododigital.com
SUMMARY:Lumina Returns to Harvest Moon for the Holidays
DESCRIPTION:Lumina Returns to Harvest Moon for the Holidays \nA Magical Light Experience! \nImmerse yourself in the warmth and magic of Harvest Moon Farm & Orchard’s enchanting\, illuminated forest. Over half a million brilliant lights will create a cozy and inviting glow\, filling the air with holiday cheer. \nCheck dates and times. \nHarvest Moon Farm & Orchard
URL:https://www.whattododigital.com/event/lumina-returns-to-harvest-moon-for-the-holidays-16/
LOCATION:Harvest Moon Farm & Orchard
CATEGORIES:Holidays,Kids
ATTACH;FMTTYPE=image/jpeg:https://www.whattododigital.com/wp-content/uploads/2025/11/Harvest-Moon_lumina-copy.jpg
END:VEVENT
BEGIN:VEVENT
DTSTART;VALUE=DATE:20251226
DTEND;VALUE=DATE:20251227
DTSTAMP:20260425T122235
CREATED:20251121T165710Z
LAST-MODIFIED:20251121T165710Z
UID:92256-1766707200-1766793599@www.whattododigital.com
SUMMARY:Westchester Winter Wonderland
DESCRIPTION:Westchester Winter Wonderland \nWestchester’s Winter Wonderland Drive-Thru Holiday Light Extravaganza is a one-of-a-kind\, affordable holiday experience for the whole family! See 1.2 miles of dazzling lights from the comfort of your own car\, and see Westchester’s BEST Santa! \nSelect dates from November 21 to December 7. Daily except Christmas Eve and Christmas Day from December 11 to 31. \nMetered tickets from 5pm to 9:45 most nights. \nWestchester Winter Wonderland
URL:https://www.whattododigital.com/event/westchester-winter-wonderland-18/
LOCATION:Kensico Dam
CATEGORIES:Holidays,Kids
ATTACH;FMTTYPE=image/gif:https://www.whattododigital.com/wp-content/uploads/2021/11/Winter-Wonderlan_gif_website_light2.gif
END:VEVENT
BEGIN:VEVENT
DTSTART;VALUE=DATE:20251226
DTEND;VALUE=DATE:20251227
DTSTAMP:20260425T122235
CREATED:20251121T182407Z
LAST-MODIFIED:20251121T182407Z
UID:92311-1766707200-1766793599@www.whattododigital.com
SUMMARY:NYBG Holiday Train Show
DESCRIPTION:NYBG Holiday Train Show \nThe timeless magic of rail travel fills NYBG with seasonal cheer as model trains travel over famous bridges and through familiar city settings\, bringing nearly 200 twinkling landmark replicas—including new surprises for 2025/2026—to life under the glass of the warm and welcoming Enid A. Haupt Conservatory. \nHoliday Train Show
URL:https://www.whattododigital.com/event/nybg-holiday-train-show-13/
LOCATION:New York Botanical Garden\, 2900 Southern Blvd.\, Bronx\, NY\, 10458-5126\, United States
CATEGORIES:Holidays,Kids
ATTACH;FMTTYPE=image/jpeg:https://www.whattododigital.com/wp-content/uploads/2025/10/NYBG-Train-Show.jpeg
END:VEVENT
BEGIN:VEVENT
DTSTART;VALUE=DATE:20251226
DTEND;VALUE=DATE:20251227
DTSTAMP:20260425T122235
CREATED:20251201T202115Z
LAST-MODIFIED:20251201T202115Z
UID:92694-1766707200-1766793599@www.whattododigital.com
SUMMARY:New Castle Historical Society Holiday Train Show
DESCRIPTION:New Castle Historical Society Holiday Train Show \nFeaturing: LEGO Around the World\, Polar Express and Santa’s Holiday Train \nIn addition to the trains\, the rooms of the historic Horace Greeley House will be festively decorated for the season. For those who are young or young at heart\, we offer a train-themed scavenger hunt\, an activity room with crafts and hands-on trains\, and even a mini train engine for the perfect photo op! \nThe exhibition opens on Saturday\, November 22 and runs through Saturday\, January 3\, 2026. Two entrance times daily at 10am & 1:15 pm. \nNew Castle Historical Society
URL:https://www.whattododigital.com/event/new-castle-historical-society-holiday-train-show-14/
LOCATION:Horace Greeley House\, 100 King St.\, Chappaqua\, NY\, 10514\, United States
CATEGORIES:Holidays,Kids
ATTACH;FMTTYPE=image/jpeg:https://www.whattododigital.com/wp-content/uploads/2025/10/NCHS-9-1536x1025-1.jpeg
END:VEVENT
END:VCALENDAR