BEGIN:VCALENDAR
VERSION:2.0
PRODID:-//What To Do - ECPv6.15.20//NONSGML v1.0//EN
CALSCALE:GREGORIAN
METHOD:PUBLISH
X-ORIGINAL-URL:https://www.whattododigital.com
X-WR-CALDESC:Events for What To Do
REFRESH-INTERVAL;VALUE=DURATION:PT1H
X-Robots-Tag:noindex
X-PUBLISHED-TTL:PT1H
BEGIN:VTIMEZONE
TZID:America/New_York
BEGIN:DAYLIGHT
TZOFFSETFROM:-0500
TZOFFSETTO:-0400
TZNAME:EDT
DTSTART:20250309T070000
END:DAYLIGHT
BEGIN:STANDARD
TZOFFSETFROM:-0400
TZOFFSETTO:-0500
TZNAME:EST
DTSTART:20251102T060000
END:STANDARD
BEGIN:DAYLIGHT
TZOFFSETFROM:-0500
TZOFFSETTO:-0400
TZNAME:EDT
DTSTART:20260308T070000
END:DAYLIGHT
BEGIN:STANDARD
TZOFFSETFROM:-0400
TZOFFSETTO:-0500
TZNAME:EST
DTSTART:20261101T060000
END:STANDARD
BEGIN:DAYLIGHT
TZOFFSETFROM:-0500
TZOFFSETTO:-0400
TZNAME:EDT
DTSTART:20270314T070000
END:DAYLIGHT
BEGIN:STANDARD
TZOFFSETFROM:-0400
TZOFFSETTO:-0500
TZNAME:EST
DTSTART:20271107T060000
END:STANDARD
END:VTIMEZONE
BEGIN:VEVENT
DTSTART;VALUE=DATE:20260125
DTEND;VALUE=DATE:20260126
DTSTAMP:20260425T154511
CREATED:20260105T191647Z
LAST-MODIFIED:20260105T191647Z
UID:93086-1769299200-1769385599@www.whattododigital.com
SUMMARY:Emelin Theatre: Click\, Clack\, Moo
DESCRIPTION:Emelin Theatre: Click\, Clack\, Moo \nCows that type? Hens on strike? Whoever heard of such a thing! \nBased on the Caldecott Honor Book by Doreen Cronin and Betsy Lewin\, this anthropomorphic tale of anthropomorphic rebellion in the barn is set to toe-tapping music by Brad Alexander\, winner of the prestigious Richard Rodgers Award. \nTwo Shows: 11am & 2pm \nEmelin Theatre
URL:https://www.whattododigital.com/event/emelin-theatre-click-clack-moo/
LOCATION:Emelin Theatre
CATEGORIES:Kids
ATTACH;FMTTYPE=image/jpeg:https://www.whattododigital.com/wp-content/uploads/2026/01/Emelin_click-clack-moo.jpeg
END:VEVENT
END:VCALENDAR