BEGIN:VCALENDAR
VERSION:2.0
PRODID:-//What To Do - ECPv6.15.20//NONSGML v1.0//EN
CALSCALE:GREGORIAN
METHOD:PUBLISH
X-ORIGINAL-URL:https://www.whattododigital.com
X-WR-CALDESC:Events for What To Do
REFRESH-INTERVAL;VALUE=DURATION:PT1H
X-Robots-Tag:noindex
X-PUBLISHED-TTL:PT1H
BEGIN:VTIMEZONE
TZID:America/New_York
BEGIN:DAYLIGHT
TZOFFSETFROM:-0500
TZOFFSETTO:-0400
TZNAME:EDT
DTSTART:20250309T070000
END:DAYLIGHT
BEGIN:STANDARD
TZOFFSETFROM:-0400
TZOFFSETTO:-0500
TZNAME:EST
DTSTART:20251102T060000
END:STANDARD
BEGIN:DAYLIGHT
TZOFFSETFROM:-0500
TZOFFSETTO:-0400
TZNAME:EDT
DTSTART:20260308T070000
END:DAYLIGHT
BEGIN:STANDARD
TZOFFSETFROM:-0400
TZOFFSETTO:-0500
TZNAME:EST
DTSTART:20261101T060000
END:STANDARD
BEGIN:DAYLIGHT
TZOFFSETFROM:-0500
TZOFFSETTO:-0400
TZNAME:EDT
DTSTART:20270314T070000
END:DAYLIGHT
BEGIN:STANDARD
TZOFFSETFROM:-0400
TZOFFSETTO:-0500
TZNAME:EST
DTSTART:20271107T060000
END:STANDARD
END:VTIMEZONE
BEGIN:VEVENT
DTSTART;VALUE=DATE:20260201
DTEND;VALUE=DATE:20260202
DTSTAMP:20260423T212029
CREATED:20260105T192734Z
LAST-MODIFIED:20260105T192734Z
UID:93096-1769904000-1769990399@www.whattododigital.com
SUMMARY:Emelin Theatre" Doktor Kaboom: Look Out Science Is Coming
DESCRIPTION:Emelin Theatre” Doktor Kaboom: Look Out Science Is Coming \nIn Look Out! Science is Coming!\, Doktor Kaboom blends comedy\, theatre\, and mind-blowing experiments into an interactive show designed to entertain\, engage\, and inspire curious minds of all ages. \nTwo Shows: 11am & 2pm \nEmelin Theatre
URL:https://www.whattododigital.com/event/emelin-theatre-doktor-kaboom-look-out-science-is-coming/
LOCATION:Emelin Theatre
CATEGORIES:Kids
ATTACH;FMTTYPE=image/jpeg:https://www.whattododigital.com/wp-content/uploads/2026/01/Emelin_doktor-kaboom_web.jpeg
END:VEVENT
END:VCALENDAR