BEGIN:VCALENDAR
VERSION:2.0
PRODID:-//What To Do - ECPv6.15.20//NONSGML v1.0//EN
CALSCALE:GREGORIAN
METHOD:PUBLISH
X-WR-CALNAME:What To Do
X-ORIGINAL-URL:https://www.whattododigital.com
X-WR-CALDESC:Events for What To Do
REFRESH-INTERVAL;VALUE=DURATION:PT1H
X-Robots-Tag:noindex
X-PUBLISHED-TTL:PT1H
BEGIN:VTIMEZONE
TZID:America/New_York
BEGIN:DAYLIGHT
TZOFFSETFROM:-0500
TZOFFSETTO:-0400
TZNAME:EDT
DTSTART:20250309T070000
END:DAYLIGHT
BEGIN:STANDARD
TZOFFSETFROM:-0400
TZOFFSETTO:-0500
TZNAME:EST
DTSTART:20251102T060000
END:STANDARD
BEGIN:DAYLIGHT
TZOFFSETFROM:-0500
TZOFFSETTO:-0400
TZNAME:EDT
DTSTART:20260308T070000
END:DAYLIGHT
BEGIN:STANDARD
TZOFFSETFROM:-0400
TZOFFSETTO:-0500
TZNAME:EST
DTSTART:20261101T060000
END:STANDARD
BEGIN:DAYLIGHT
TZOFFSETFROM:-0500
TZOFFSETTO:-0400
TZNAME:EDT
DTSTART:20270314T070000
END:DAYLIGHT
BEGIN:STANDARD
TZOFFSETFROM:-0400
TZOFFSETTO:-0500
TZNAME:EST
DTSTART:20271107T060000
END:STANDARD
END:VTIMEZONE
BEGIN:VEVENT
DTSTART;TZID=America/New_York:20260328T140000
DTEND;TZID=America/New_York:20260328T140000
DTSTAMP:20260423T202203
CREATED:20260120T165316Z
LAST-MODIFIED:20260120T165316Z
UID:93622-1774706400-1774706400@www.whattododigital.com
SUMMARY:Maritime Aquarium Norwalk: Seal Spotting & Birding Cruise
DESCRIPTION:Maritime Aquarium Norwalk: Seal Spotting & Birding Cruise \nThe two-hour cruises seek out animals spending the winter in Long Island Sound including harbor seals\, gray seals\, buffleheads\, mergansers\, long-tailed ducks\, and red-throated loons. Aquarium educators will identify these species for guests and discuss their natural histories. \nNorwalk Maritime Aquarium
URL:https://www.whattododigital.com/event/maritime-aquarium-norwalk-seal-spotting-birding-cruise-10/
LOCATION:Maritime Aquarium Norwalk\, 10 North Water Street\, Norwalk\, CT\, United States
CATEGORIES:Grown Ups,Kids,Outdoors
ATTACH;FMTTYPE=image/jpeg:https://www.whattododigital.com/wp-content/uploads/2026/01/Kids_seal-spotting_Aquarium-Norwalk-.jpeg
END:VEVENT
BEGIN:VEVENT
DTSTART;TZID=America/New_York:20260329T140000
DTEND;TZID=America/New_York:20260329T140000
DTSTAMP:20260423T202203
CREATED:20260108T190902Z
LAST-MODIFIED:20260108T190902Z
UID:93470-1774792800-1774792800@www.whattododigital.com
SUMMARY:Tarrytown Music Hall: Lightwire Theater
DESCRIPTION:Tarrytown Music Hall: Lightwire Theater \nIn this visually stunning DINOSAUR adventure for all ages\, a friendly dinosaur discovers a glowing world and the true meaning of love. Lightwire Theater blends puppetry\, technology and dance to tell tender-hearted stories that spark childlike wonder and (literally) light up the darkness.\n“What you see looks like magic” —CBS Sunday Morning \n“absolutely incredible” —Rolling Stone \nSpotlight on Lightwire Theater: \n\nSemi-finalists on America’s Got Talent and winners of truTV’s Fake Off \nRecipient of the Jim Henson Foundation Grant for DINO-LIGHT \nEach puppet is hand-built from recycled materials like skateboards\, dryer ducts\, and fishing poles\nCharacters glow with electroluminescent (EL) wire\, taking 200+ hours to create\n\n\nTarrytown Music Hall
URL:https://www.whattododigital.com/event/tarrytown-music-hall-lightwire-theater/
LOCATION:Tarrytown Music Hall
CATEGORIES:Kids
ATTACH;FMTTYPE=image/jpeg:https://www.whattododigital.com/wp-content/uploads/2026/01/TMH_DinoLight26fb.jpeg
END:VEVENT
BEGIN:VEVENT
DTSTART;TZID=America/New_York:20260329T143000
DTEND;TZID=America/New_York:20260329T143000
DTSTAMP:20260423T202203
CREATED:20260120T165459Z
LAST-MODIFIED:20260120T165459Z
UID:93625-1774794600-1774794600@www.whattododigital.com
SUMMARY:Maritime Aquarium Norwalk: Seal Spotting & Birding Cruise
DESCRIPTION:Maritime Aquarium Norwalk: Seal Spotting & Birding Cruise \nThe two-hour cruises seek out animals spending the winter in Long Island Sound including harbor seals\, gray seals\, buffleheads\, mergansers\, long-tailed ducks\, and red-throated loons. Aquarium educators will identify these species for guests and discuss their natural histories. \nNorwalk Maritime Aquarium
URL:https://www.whattododigital.com/event/maritime-aquarium-norwalk-seal-spotting-birding-cruise-11/
LOCATION:Maritime Aquarium Norwalk\, 10 North Water Street\, Norwalk\, CT\, United States
CATEGORIES:Grown Ups,Kids,Outdoors
ATTACH;FMTTYPE=image/jpeg:https://www.whattododigital.com/wp-content/uploads/2026/01/Kids_seal-spotting_Aquarium-Norwalk-.jpeg
END:VEVENT
BEGIN:VEVENT
DTSTART;VALUE=DATE:20260402
DTEND;VALUE=DATE:20260403
DTSTAMP:20260423T202203
CREATED:20260330T164706Z
LAST-MODIFIED:20260330T164706Z
UID:94109-1775088000-1775174399@www.whattododigital.com
SUMMARY:Bedford Playhouse: The Super Mario Galaxy
DESCRIPTION:Bedford Playhouse: The Super Mario Galaxy \nThe Super Mario Galaxy Movie is an animated film based on the world of Super Mario Bros.\, and follows The Super Mario Bros. Movie\, which was released in 2023 and earned more than $1.3 billion worldwide. Both the 2023 film and The Super Mario Galaxy Movie are produced by Chris Meledandri of Illumination and Shigeru Miyamoto of Nintendo. \nBedford Playhouse
URL:https://www.whattododigital.com/event/bedford-playhouse-the-super-mario-galaxy-2/
LOCATION:The Bedford Playhouse\, 633 Old Post Rd.\, Bedford Village\, NY\, 10506\, United States
CATEGORIES:Kids,Movies
ATTACH;FMTTYPE=image/jpeg:https://www.whattododigital.com/wp-content/uploads/2026/03/BPH_Super-Mario.jpeg
END:VEVENT
BEGIN:VEVENT
DTSTART;VALUE=DATE:20260403
DTEND;VALUE=DATE:20260404
DTSTAMP:20260423T202203
CREATED:20260330T164825Z
LAST-MODIFIED:20260330T164825Z
UID:94112-1775174400-1775260799@www.whattododigital.com
SUMMARY:Bedford Playhouse: The Super Mario Galaxy
DESCRIPTION:Bedford Playhouse: The Super Mario Galaxy \nThe Super Mario Galaxy Movie is an animated film based on the world of Super Mario Bros.\, and follows The Super Mario Bros. Movie\, which was released in 2023 and earned more than $1.3 billion worldwide. Both the 2023 film and The Super Mario Galaxy Movie are produced by Chris Meledandri of Illumination and Shigeru Miyamoto of Nintendo. \nBedford Playhouse
URL:https://www.whattododigital.com/event/bedford-playhouse-the-super-mario-galaxy-3/
LOCATION:The Bedford Playhouse\, 633 Old Post Rd.\, Bedford Village\, NY\, 10506\, United States
CATEGORIES:Kids,Movies
ATTACH;FMTTYPE=image/jpeg:https://www.whattododigital.com/wp-content/uploads/2026/03/BPH_Super-Mario.jpeg
END:VEVENT
BEGIN:VEVENT
DTSTART;VALUE=DATE:20260404
DTEND;VALUE=DATE:20260405
DTSTAMP:20260423T202203
CREATED:20260330T165618Z
LAST-MODIFIED:20260330T165618Z
UID:94124-1775260800-1775347199@www.whattododigital.com
SUMMARY:Bedford Playhouse: The Super Mario Galaxy
DESCRIPTION:Bedford Playhouse: The Super Mario Galaxy \nThe Super Mario Galaxy Movie is an animated film based on the world of Super Mario Bros.\, and follows The Super Mario Bros. Movie\, which was released in 2023 and earned more than $1.3 billion worldwide. Both the 2023 film and The Super Mario Galaxy Movie are produced by Chris Meledandri of Illumination and Shigeru Miyamoto of Nintendo. \nBedford Playhouse
URL:https://www.whattododigital.com/event/bedford-playhouse-the-super-mario-galaxy-7/
LOCATION:The Bedford Playhouse\, 633 Old Post Rd.\, Bedford Village\, NY\, 10506\, United States
CATEGORIES:Kids,Movies
ATTACH;FMTTYPE=image/jpeg:https://www.whattododigital.com/wp-content/uploads/2026/03/BPH_Super-Mario.jpeg
END:VEVENT
BEGIN:VEVENT
DTSTART;VALUE=DATE:20260405
DTEND;VALUE=DATE:20260406
DTSTAMP:20260423T202203
CREATED:20260330T165010Z
LAST-MODIFIED:20260330T165010Z
UID:94115-1775347200-1775433599@www.whattododigital.com
SUMMARY:Bedford Playhouse: The Super Mario Galaxy
DESCRIPTION:Bedford Playhouse: The Super Mario Galaxy \nThe Super Mario Galaxy Movie is an animated film based on the world of Super Mario Bros.\, and follows The Super Mario Bros. Movie\, which was released in 2023 and earned more than $1.3 billion worldwide. Both the 2023 film and The Super Mario Galaxy Movie are produced by Chris Meledandri of Illumination and Shigeru Miyamoto of Nintendo. \nBedford Playhouse
URL:https://www.whattododigital.com/event/bedford-playhouse-the-super-mario-galaxy-4/
LOCATION:Bedford Playhouse
CATEGORIES:Kids,Movies
ATTACH;FMTTYPE=image/jpeg:https://www.whattododigital.com/wp-content/uploads/2026/03/BPH_Super-Mario.jpeg
END:VEVENT
BEGIN:VEVENT
DTSTART;VALUE=DATE:20260406
DTEND;VALUE=DATE:20260407
DTSTAMP:20260423T202203
CREATED:20260330T165159Z
LAST-MODIFIED:20260330T165159Z
UID:94118-1775433600-1775519999@www.whattododigital.com
SUMMARY:Bedford Playhouse: The Super Mario Galaxy
DESCRIPTION:Bedford Playhouse: The Super Mario Galaxy \nThe Super Mario Galaxy Movie is an animated film based on the world of Super Mario Bros.\, and follows The Super Mario Bros. Movie\, which was released in 2023 and earned more than $1.3 billion worldwide. Both the 2023 film and The Super Mario Galaxy Movie are produced by Chris Meledandri of Illumination and Shigeru Miyamoto of Nintendo. \nBedford Playhouse
URL:https://www.whattododigital.com/event/bedford-playhouse-the-super-mario-galaxy-5/
LOCATION:The Bedford Playhouse\, 633 Old Post Rd.\, Bedford Village\, NY\, 10506\, United States
CATEGORIES:Kids,Movies
ATTACH;FMTTYPE=image/jpeg:https://www.whattododigital.com/wp-content/uploads/2026/03/BPH_Super-Mario.jpeg
END:VEVENT
BEGIN:VEVENT
DTSTART;VALUE=DATE:20260407
DTEND;VALUE=DATE:20260408
DTSTAMP:20260423T202203
CREATED:20260330T165340Z
LAST-MODIFIED:20260330T165340Z
UID:94121-1775520000-1775606399@www.whattododigital.com
SUMMARY:Bedford Playhouse: The Super Mario Galaxy
DESCRIPTION:Bedford Playhouse: The Super Mario Galaxy \nThe Super Mario Galaxy Movie is an animated film based on the world of Super Mario Bros.\, and follows The Super Mario Bros. Movie\, which was released in 2023 and earned more than $1.3 billion worldwide. Both the 2023 film and The Super Mario Galaxy Movie are produced by Chris Meledandri of Illumination and Shigeru Miyamoto of Nintendo. \nBedford Playhouse
URL:https://www.whattododigital.com/event/bedford-playhouse-the-super-mario-galaxy-6/
LOCATION:The Bedford Playhouse\, 633 Old Post Rd.\, Bedford Village\, NY\, 10506\, United States
CATEGORIES:Kids,Movies
ATTACH;FMTTYPE=image/jpeg:https://www.whattododigital.com/wp-content/uploads/2026/03/BPH_Super-Mario.jpeg
END:VEVENT
BEGIN:VEVENT
DTSTART;VALUE=DATE:20260408
DTEND;VALUE=DATE:20260409
DTSTAMP:20260423T202203
CREATED:20260330T165740Z
LAST-MODIFIED:20260330T165740Z
UID:94127-1775606400-1775692799@www.whattododigital.com
SUMMARY:Bedford Playhouse: The Super Mario Galaxy
DESCRIPTION:Bedford Playhouse: The Super Mario Galaxy \nThe Super Mario Galaxy Movie is an animated film based on the world of Super Mario Bros.\, and follows The Super Mario Bros. Movie\, which was released in 2023 and earned more than $1.3 billion worldwide. Both the 2023 film and The Super Mario Galaxy Movie are produced by Chris Meledandri of Illumination and Shigeru Miyamoto of Nintendo. \nBedford Playhouse
URL:https://www.whattododigital.com/event/bedford-playhouse-the-super-mario-galaxy-8/
LOCATION:The Bedford Playhouse\, 633 Old Post Rd.\, Bedford Village\, NY\, 10506\, United States
CATEGORIES:Kids,Movies
ATTACH;FMTTYPE=image/jpeg:https://www.whattododigital.com/wp-content/uploads/2026/03/BPH_Super-Mario.jpeg
END:VEVENT
BEGIN:VEVENT
DTSTART;VALUE=DATE:20260409
DTEND;VALUE=DATE:20260410
DTSTAMP:20260423T202203
CREATED:20260330T165857Z
LAST-MODIFIED:20260330T165857Z
UID:94130-1775692800-1775779199@www.whattododigital.com
SUMMARY:Bedford Playhouse: The Super Mario Galaxy
DESCRIPTION:Bedford Playhouse: The Super Mario Galaxy \nThe Super Mario Galaxy Movie is an animated film based on the world of Super Mario Bros.\, and follows The Super Mario Bros. Movie\, which was released in 2023 and earned more than $1.3 billion worldwide. Both the 2023 film and The Super Mario Galaxy Movie are produced by Chris Meledandri of Illumination and Shigeru Miyamoto of Nintendo. \nBedford Playhouse
URL:https://www.whattododigital.com/event/bedford-playhouse-the-super-mario-galaxy-9/
LOCATION:The Bedford Playhouse\, 633 Old Post Rd.\, Bedford Village\, NY\, 10506\, United States
CATEGORIES:Kids,Movies
ATTACH;FMTTYPE=image/jpeg:https://www.whattododigital.com/wp-content/uploads/2026/03/BPH_Super-Mario.jpeg
END:VEVENT
BEGIN:VEVENT
DTSTART;VALUE=DATE:20260410
DTEND;VALUE=DATE:20260411
DTSTAMP:20260423T202203
CREATED:20260330T170049Z
LAST-MODIFIED:20260330T170049Z
UID:94133-1775779200-1775865599@www.whattododigital.com
SUMMARY:Bedford Playhouse: The Super Mario Galaxy
DESCRIPTION:Bedford Playhouse: The Super Mario Galaxy \nThe Super Mario Galaxy Movie is an animated film based on the world of Super Mario Bros.\, and follows The Super Mario Bros. Movie\, which was released in 2023 and earned more than $1.3 billion worldwide. Both the 2023 film and The Super Mario Galaxy Movie are produced by Chris Meledandri of Illumination and Shigeru Miyamoto of Nintendo. \nBedford Playhouse
URL:https://www.whattododigital.com/event/bedford-playhouse-the-super-mario-galaxy-10/
LOCATION:The Bedford Playhouse\, 633 Old Post Rd.\, Bedford Village\, NY\, 10506\, United States
CATEGORIES:Kids,Movies
ATTACH;FMTTYPE=image/jpeg:https://www.whattododigital.com/wp-content/uploads/2026/03/BPH_Super-Mario.jpeg
END:VEVENT
BEGIN:VEVENT
DTSTART;VALUE=DATE:20260411
DTEND;VALUE=DATE:20260412
DTSTAMP:20260423T202203
CREATED:20260330T170300Z
LAST-MODIFIED:20260330T170300Z
UID:94136-1775865600-1775951999@www.whattododigital.com
SUMMARY:Bedford Playhouse: The Super Mario Galaxy
DESCRIPTION:Bedford Playhouse: The Super Mario Galaxy \nThe Super Mario Galaxy Movie is an animated film based on the world of Super Mario Bros.\, and follows The Super Mario Bros. Movie\, which was released in 2023 and earned more than $1.3 billion worldwide. Both the 2023 film and The Super Mario Galaxy Movie are produced by Chris Meledandri of Illumination and Shigeru Miyamoto of Nintendo. \nBedford Playhouse
URL:https://www.whattododigital.com/event/bedford-playhouse-the-super-mario-galaxy-11/
LOCATION:The Bedford Playhouse\, 633 Old Post Rd.\, Bedford Village\, NY\, 10506\, United States
CATEGORIES:Kids,Movies
ATTACH;FMTTYPE=image/jpeg:https://www.whattododigital.com/wp-content/uploads/2026/03/BPH_Super-Mario.jpeg
END:VEVENT
BEGIN:VEVENT
DTSTART;TZID=America/New_York:20260419T110000
DTEND;TZID=America/New_York:20260419T120000
DTSTAMP:20260423T202203
CREATED:20260330T193721Z
LAST-MODIFIED:20260330T193910Z
UID:94172-1776596400-1776600000@www.whattododigital.com
SUMMARY:Muscoot Farm: Mansion Tour
DESCRIPTION:Muscoot Farm: Mansion Tour \nJoin Muscoot’s education staff on a historical tour of the mansion. Appropriate for ages 13+. Meet promptly at 11:00 AM by the grape arbor located behind the mansion. Due to limited capacity\, this tour is meant for individuals or small families. We cannot accommodate large groups at this time. This tour is not stroller or wheelchair accessible. \nMuscoot Farm
URL:https://www.whattododigital.com/event/muscoot-farm-mansion-tour-3/
LOCATION:Muscoot Farm
CATEGORIES:Arts,Kids
ATTACH;FMTTYPE=image/jpeg:https://www.whattododigital.com/wp-content/uploads/2026/01/Muscoot-Mansion-copy-1.jpg
END:VEVENT
BEGIN:VEVENT
DTSTART;TZID=America/New_York:20260503T110000
DTEND;TZID=America/New_York:20260503T110000
DTSTAMP:20260423T202203
CREATED:20260417T150544Z
LAST-MODIFIED:20260417T150544Z
UID:94432-1777806000-1777806000@www.whattododigital.com
SUMMARY:Paramount Hudson Valley: Laurie Berkner: The Greatest Hits
DESCRIPTION:Paramount Hudson Valley: Laurie Berkner: The Greatest Hits \nPeople Magazine calls Laurie Berkner “the queen of kids’ music\,” while USA TODAY dubs her “the undisputed queen of kindie rock\,” and THE NEW YORK TIMES praises her as “The Adele of the preschool crowd.” Laurie’s concerts are joyful\, high-energy\, and unforgettable for families of all ages and abilities. \nParamount Hudson Valley
URL:https://www.whattododigital.com/event/paramount-hudson-valley-laurie-berkner-the-greatest-hits/
LOCATION:Paramount Hudson Valley
CATEGORIES:Kids
ATTACH;FMTTYPE=image/jpeg:https://www.whattododigital.com/wp-content/uploads/2026/04/Paramount_laurie-A-copy.jpg
END:VEVENT
BEGIN:VEVENT
DTSTART;TZID=America/New_York:20260503T150000
DTEND;TZID=America/New_York:20260503T150000
DTSTAMP:20260423T202203
CREATED:20260417T150723Z
LAST-MODIFIED:20260417T150723Z
UID:94438-1777820400-1777820400@www.whattododigital.com
SUMMARY:Paramount Hudson Valley: Laurie Berkner: The Greatest Hits
DESCRIPTION:Paramount Hudson Valley: Laurie Berkner: The Greatest Hits \nPeople Magazine calls Laurie Berkner “the queen of kids’ music\,” while USA TODAY dubs her “the undisputed queen of kindie rock\,” and THE NEW YORK TIMES praises her as “The Adele of the preschool crowd.” Laurie’s concerts are joyful\, high-energy\, and unforgettable for families of all ages and abilities. \nParamount Hudson Valley
URL:https://www.whattododigital.com/event/paramount-hudson-valley-laurie-berkner-the-greatest-hits-2/
LOCATION:Paramount Hudson Valley
CATEGORIES:Kids
ATTACH;FMTTYPE=image/jpeg:https://www.whattododigital.com/wp-content/uploads/2026/04/Paramount_laurie-A-copy.jpg
END:VEVENT
BEGIN:VEVENT
DTSTART;TZID=America/New_York:20260509T110000
DTEND;TZID=America/New_York:20260509T110000
DTSTAMP:20260423T202203
CREATED:20260420T210801Z
LAST-MODIFIED:20260420T210801Z
UID:94527-1778324400-1778324400@www.whattododigital.com
SUMMARY:Ridgefield Playhouse: Don't Let The Pigeons Drive the Bus
DESCRIPTION:Ridgefield Playhouse: Don’t Let The Pigeons Drive the Bus \nTheaterWorksUSA presents Don’t Let the Pigeon Drive the Bus! The Musical! with a script written by Mo Willems\, the creator of the #1 New York Times best-selling\, Caldecott Honor award-winning “Pigeon” picture books\, and featuring music by Deborah Wicks La Puma (Elephant & Piggie’s We Are in a Play!). \nRidgefield Playhouse
URL:https://www.whattododigital.com/event/ridgefield-playhouse-dont-let-the-pigeons-drive-the-bus/
LOCATION:The Ridgefield Playhouse\, 80 East Ridge\, Ridfgefield\, CT\, 06877\, United States
CATEGORIES:Kids
ATTACH;FMTTYPE=image/jpeg:https://www.whattododigital.com/wp-content/uploads/2026/04/RPH-PIGEON-550x800-1.jpeg
END:VEVENT
BEGIN:VEVENT
DTSTART;TZID=America/New_York:20260509T140000
DTEND;TZID=America/New_York:20260509T140000
DTSTAMP:20260423T202203
CREATED:20260420T210958Z
LAST-MODIFIED:20260420T210958Z
UID:94533-1778335200-1778335200@www.whattododigital.com
SUMMARY:Ridgefield Playhouse: Don't Let The Pigeons Drive the Bus
DESCRIPTION:Ridgefield Playhouse: Don’t Let The Pigeons Drive the Bus \nTheaterWorksUSA presents Don’t Let the Pigeon Drive the Bus! The Musical! with a script written by Mo Willems\, the creator of the #1 New York Times best-selling\, Caldecott Honor award-winning “Pigeon” picture books\, and featuring music by Deborah Wicks La Puma (Elephant & Piggie’s We Are in a Play!). \nRidgefield Playhouse
URL:https://www.whattododigital.com/event/ridgefield-playhouse-dont-let-the-pigeons-drive-the-bus-2/
LOCATION:The Ridgefield Playhouse\, 80 East Ridge\, Ridfgefield\, CT\, 06877\, United States
CATEGORIES:Kids
ATTACH;FMTTYPE=image/jpeg:https://www.whattododigital.com/wp-content/uploads/2026/04/RPH-PIGEON-550x800-1.jpeg
END:VEVENT
BEGIN:VEVENT
DTSTART;TZID=America/New_York:20260510T100000
DTEND;TZID=America/New_York:20260510T150000
DTSTAMP:20260423T202203
CREATED:20260330T193049Z
LAST-MODIFIED:20260330T193049Z
UID:94164-1778407200-1778425200@www.whattododigital.com
SUMMARY:Muscoot Farm Sheep Shearing Event
DESCRIPTION:Muscoot Farm Sheep Shearing Event \nThis all-day event will feature live sheep shearing\, activities\, vendors\, and more! \nEach year on Mother’s Day\, Muscoot Farm hosts its Sheep Shearing Festival in which its sheep receive their annual haircut to prepare for the warm months. This year the program will run from 11 a.m. to 3 p.m. and will include hayrides\, which begin at 11:30 a.m. and are $5 per person – cash\, credit card and Venmo are accepted – there will be spinning demonstrations throughout the day and an educational work shop at 2 p.m. \nMuscoot Farm
URL:https://www.whattododigital.com/event/muscoot-farm-sheep-shearing-event/
LOCATION:Muscoot Farm
CATEGORIES:Fairs and Festivals,Kids
ATTACH;FMTTYPE=image/jpeg:https://www.whattododigital.com/wp-content/uploads/2026/03/muscoot_sheepshearing.jpeg
END:VEVENT
END:VCALENDAR