BEGIN:VCALENDAR
VERSION:2.0
PRODID:-//What To Do - ECPv6.15.20//NONSGML v1.0//EN
CALSCALE:GREGORIAN
METHOD:PUBLISH
X-WR-CALNAME:What To Do
X-ORIGINAL-URL:https://www.whattododigital.com
X-WR-CALDESC:Events for What To Do
REFRESH-INTERVAL;VALUE=DURATION:PT1H
X-Robots-Tag:noindex
X-PUBLISHED-TTL:PT1H
BEGIN:VTIMEZONE
TZID:America/New_York
BEGIN:DAYLIGHT
TZOFFSETFROM:-0500
TZOFFSETTO:-0400
TZNAME:EDT
DTSTART:20250309T070000
END:DAYLIGHT
BEGIN:STANDARD
TZOFFSETFROM:-0400
TZOFFSETTO:-0500
TZNAME:EST
DTSTART:20251102T060000
END:STANDARD
BEGIN:DAYLIGHT
TZOFFSETFROM:-0500
TZOFFSETTO:-0400
TZNAME:EDT
DTSTART:20260308T070000
END:DAYLIGHT
BEGIN:STANDARD
TZOFFSETFROM:-0400
TZOFFSETTO:-0500
TZNAME:EST
DTSTART:20261101T060000
END:STANDARD
BEGIN:DAYLIGHT
TZOFFSETFROM:-0500
TZOFFSETTO:-0400
TZNAME:EDT
DTSTART:20270314T070000
END:DAYLIGHT
BEGIN:STANDARD
TZOFFSETFROM:-0400
TZOFFSETTO:-0500
TZNAME:EST
DTSTART:20271107T060000
END:STANDARD
END:VTIMEZONE
BEGIN:VEVENT
DTSTART;VALUE=DATE:20260306
DTEND;VALUE=DATE:20260307
DTSTAMP:20260423T163924
CREATED:20260217T221624Z
LAST-MODIFIED:20260217T221624Z
UID:93767-1772755200-1772841599@www.whattododigital.com
SUMMARY:Jacob Burns Film Center: Sirat
DESCRIPTION:Jacob Burns Film Center: Sirat \nNominated for Best International Feature and Best Sound at the 2026 Academy Awards \nIn this unforgettable Cannes Jury Prize winner\, a father (Sergi López\, Pan’s Labyrinth) and his son arrive at a rave deep in the mountains of southern Morocco. They are searching for Mar—their daughter and sister—who vanished months ago at one of these endless\, sleepless parties. \nJacob Burns Film Center \nDates & Times\n\n\nFriday\, Mar 6\n1:50 4:40 7:30\n\n\nSaturday\, Mar 7\n11:20 1:50 4:40 7:30\n\n\nSunday\, Mar 8\n11:20oc 1:50 4:40 7:30\n\n\nMonday\, Mar 9\n4:40oc 7:30oc\n\n\nTuesday\, Mar 10\n4:40 7:30\n\n\nWednesday\, Mar 11\n1:50oc 4:40 7:30\n\n\nThursday\, Mar 12\n4:40 7:30
URL:https://www.whattododigital.com/event/jacob-burns-film-center-sirat/
LOCATION:Jacob Burns Film Center
CATEGORIES:Movies
ATTACH;FMTTYPE=image/jpeg:https://www.whattododigital.com/wp-content/uploads/2026/02/JBFC_Sirat.jpeg
END:VEVENT
BEGIN:VEVENT
DTSTART;VALUE=DATE:20260306
DTEND;VALUE=DATE:20260307
DTSTAMP:20260423T163924
CREATED:20260217T222958Z
LAST-MODIFIED:20260217T222958Z
UID:93777-1772755200-1772841599@www.whattododigital.com
SUMMARY:Jacob Burns Film Center: The Bride!
DESCRIPTION:Jacob Burns Film Center: The Bride! \nFrom writer/director Maggie Gyllenhaal \nA lonely Frankenstein’s Monster (Christian Bale) travels to 1930s Chicago to ask groundbreaking scientist Dr. Euphronious (Annette Bening; American Beauty) to create a companion for him. The two revive a murdered young woman and The Bride (Jessie Buckley) is born. What ensues is beyond what either of them imagined: Murder! Possession! A wild and radical cultural movement! And outlaw lovers in a wild and combustible romance! \nCheck for dates & times. \nJacob Burns Flm Center
URL:https://www.whattododigital.com/event/jacob-burns-film-center-the-bride/
LOCATION:Jacob Burns Film Center
CATEGORIES:Movies
ATTACH;FMTTYPE=image/jpeg:https://www.whattododigital.com/wp-content/uploads/2026/02/JBFC_The-Bride-.jpeg
END:VEVENT
BEGIN:VEVENT
DTSTART;TZID=America/New_York:20260324T190000
DTEND;TZID=America/New_York:20260324T190000
DTSTAMP:20260423T163924
CREATED:20260309T151731Z
LAST-MODIFIED:20260309T151731Z
UID:93847-1774378800-1774378800@www.whattododigital.com
SUMMARY:Jacob Burns Film Center Jewish  Film Festival: My Underground Mother
DESCRIPTION:Jacob Burns Film Center Jewish Film Festival: My Underground Mother \nIn this documentary\, Marisa Fox uncovers the truth about her mother’s time in a Nazi-run forced labor camp for women. \nJacob Burns Film Center
URL:https://www.whattododigital.com/event/jacob-burns-film-center-jewish-film-festival-my-underground-mother/
LOCATION:Jacob Burns Film Center
CATEGORIES:Movies
ATTACH;FMTTYPE=image/jpeg:https://www.whattododigital.com/wp-content/uploads/2026/03/JBFC_Underground-Mom.jpg
END:VEVENT
BEGIN:VEVENT
DTSTART;TZID=America/New_York:20260325T190000
DTEND;TZID=America/New_York:20260325T190000
DTSTAMP:20260423T163924
CREATED:20260309T163121Z
LAST-MODIFIED:20260309T163121Z
UID:93922-1774465200-1774465200@www.whattododigital.com
SUMMARY:Jacob Burns Film Center: Fantasy Life
DESCRIPTION:Jacob Burns Film Center: Fantasy Life \nElegantly made and sharply observant\, this distinctly New York comedy and family drama is buoyed by an ensemble of beloved actors Amanda Peet\, in her first starring role in over a decade; Judd Hirsch\, Andrea Martin\, and Bob Balaban. Winner of the SXSW Narrative Feature Audience Award. \nJacob Burns Film Center
URL:https://www.whattododigital.com/event/jacob-burns-film-center-fantasy-life/
LOCATION:Jacob Burns Film Center
CATEGORIES:Movies
ATTACH;FMTTYPE=image/jpeg:https://www.whattododigital.com/wp-content/uploads/2026/03/JBFC_Fantasy-Life.jpg
END:VEVENT
BEGIN:VEVENT
DTSTART;TZID=America/New_York:20260326T160000
DTEND;TZID=America/New_York:20260326T160000
DTSTAMP:20260423T163924
CREATED:20260309T152706Z
LAST-MODIFIED:20260309T152706Z
UID:93855-1774540800-1774540800@www.whattododigital.com
SUMMARY:Jacob Burns Film Center Jewish Film Festival: Sapiro v. Ford
DESCRIPTION:Jacob Burns Film Center Jewish Film Festival: Sapiro v. Ford: The Jew Who Sued Henry Ford \nIn 1927\, the young Jewish lawyer and labor organizer Aaron Sapiro sued Ford for defamation. The courageous David vs. Goliath court case is the subject of this riveting documentary\, which was originated by the late Michael Rose\, and completed by Gaylen Ross. \nJacob Burns Film Center
URL:https://www.whattododigital.com/event/jacob-burns-film-center-jewish-film-festival-sapiro-v-ford/
LOCATION:Jacob Burns Film Center
CATEGORIES:Movies
ATTACH;FMTTYPE=image/jpeg:https://www.whattododigital.com/wp-content/uploads/2026/03/JBFC_Jew-Sued-Ford.jpg
END:VEVENT
BEGIN:VEVENT
DTSTART;TZID=America/New_York:20260326T190000
DTEND;TZID=America/New_York:20260326T190000
DTSTAMP:20260423T163924
CREATED:20260309T153345Z
LAST-MODIFIED:20260309T153345Z
UID:93863-1774551600-1774551600@www.whattododigital.com
SUMMARY:Jacob Burns Film Center Jewish Film Festival: A Letter to David
DESCRIPTION:Jacob Burns Film Center Jewish Film Festival: A Letter to David \nDavid Cunio was abducted from Nir Oz on October 7\, 2023\, and held captive by Hamas for more than two years. Ten years earlier\, David starred with his twin brother Eitan in Tom Shoval’s powerful Israeli film Youth\, a drama about regional violence and the bond between brothers that\, in an incredible twist of fate\, revolved around an abduction. \nBy intercutting between the present-day story and behind-the-scenes footage and audition tapes from the earlier film\, A Letter to David breaks the boundaries between art and life. \nJacob Burns Film Center
URL:https://www.whattododigital.com/event/jacob-burns-film-center-jewish-film-festival-a-letter-to-david/
LOCATION:Jacob Burns Film Center
CATEGORIES:Movies
ATTACH;FMTTYPE=image/jpeg:https://www.whattododigital.com/wp-content/uploads/2026/03/JBFC_Letter-to-David.jpg
END:VEVENT
BEGIN:VEVENT
DTSTART;TZID=America/New_York:20260327T160000
DTEND;TZID=America/New_York:20260327T160000
DTSTAMP:20260423T163924
CREATED:20260309T153947Z
LAST-MODIFIED:20260309T153947Z
UID:93871-1774627200-1774627200@www.whattododigital.com
SUMMARY:Jacob Burns Film Center Jewish Film Festival: Neshoma
DESCRIPTION:Jacob Burns Film Center Jewish Film Festival: Neshoma \nSandra Beerends’ beautiful and bittersweet film Neshoma captures the spirit and soul of Amsterdam’s Jewish community between the first and second World Wars\, using a unique mix of authentic archival footage that is woven together by a fictional correspondence\, letters between 17-year-old Rusha\, who writes about daily life in the city to her older brother Max\, who has emigrated to the Dutch East Indies\, now Indonesia. \nJacob Burns Film Center
URL:https://www.whattododigital.com/event/jacob-burns-film-center-jewish-film-festival-neshoma/
LOCATION:Jacob Burns Film Center
CATEGORIES:Movies
ATTACH;FMTTYPE=image/jpeg:https://www.whattododigital.com/wp-content/uploads/2026/03/JBFC_Neshoma.jpg
END:VEVENT
BEGIN:VEVENT
DTSTART;TZID=America/New_York:20260327T160000
DTEND;TZID=America/New_York:20260327T160000
DTSTAMP:20260423T163924
CREATED:20260309T154132Z
LAST-MODIFIED:20260309T154132Z
UID:93876-1774627200-1774627200@www.whattododigital.com
SUMMARY:Jacob Burns Film Center Jewish Film Festival: Neshoma
DESCRIPTION:Jacob Burns Film Center Jewish Film Festival: Neshoma \nSandra Beerends’ beautiful and bittersweet film Neshoma captures the spirit and soul of Amsterdam’s Jewish community between the first and second World Wars\, using a unique mix of authentic archival footage that is woven together by a fictional correspondence\, letters between 17-year-old Rusha\, who writes about daily life in the city to her older brother Max\, who has emigrated to the Dutch East Indies\, now Indonesia. \nJacob Burns Film Center
URL:https://www.whattododigital.com/event/jacob-burns-film-center-jewish-film-festival-neshoma-2/
LOCATION:Jacob Burns Film Center
CATEGORIES:Movies
ATTACH;FMTTYPE=image/jpeg:https://www.whattododigital.com/wp-content/uploads/2026/03/JBFC_Neshoma.jpg
END:VEVENT
BEGIN:VEVENT
DTSTART;TZID=America/New_York:20260328T110000
DTEND;TZID=America/New_York:20260328T110000
DTSTAMP:20260423T163924
CREATED:20260309T154837Z
LAST-MODIFIED:20260309T154837Z
UID:93884-1774695600-1774695600@www.whattododigital.com
SUMMARY:Jacob Burns Film Center Jewish Film Festival: The Apprenticeship of Duddy Kravitz
DESCRIPTION:Jacob Burns Film Center Jewish Film Festival: The Apprenticeship of Duddy Kravitz \nThis film adaptation of his classic coming-of-age novel The Apprenticeship of Duddy Kravitz stars Richard Dreyfuss in his first–and one of his best–performances as the ambitious\, endlessly energetic\, and frequently obnoxious young hustler. Constantly looking for ways to make money\, he is a waiter\, taxi driver\, drug smuggler\, forger\, pinball-machine owner\, and even becomes a filmmaker. \nJacob Burns Film Center
URL:https://www.whattododigital.com/event/jacob-burns-film-center-jewish-film-festival-the-apprenticeship-of-duddy-kravitz/
LOCATION:Jacob Burns Film Center
CATEGORIES:Movies
ATTACH;FMTTYPE=image/jpeg:https://www.whattododigital.com/wp-content/uploads/2026/03/JBFC_Duddy-Kravitz.jpg
END:VEVENT
BEGIN:VEVENT
DTSTART;TZID=America/New_York:20260328T110000
DTEND;TZID=America/New_York:20260328T110000
DTSTAMP:20260423T163925
CREATED:20260309T160142Z
LAST-MODIFIED:20260309T160142Z
UID:93897-1774695600-1774695600@www.whattododigital.com
SUMMARY:Jacob Burns Film Festival: The Fleischer Brothers Betty Boop Cartoons
DESCRIPTION:Jacob Burns Film Festival: The Fleischer Brothers Betty Boop Cartoons \nMade in Manhattan\, the cartoons of Dave and Max Fleischer captured the distinct melting-pot flavor of the city streets. Filled with jazz music\, ethnic accents\, and unmistakable references to the Fleischers’ Jewish immigrant background\, their cartoons teemed with urban energy. Independent\, confident\, and sassy\, Betty Boop emerged as the Fleischers’ biggest star\, and one of the most enduring heroines in cartoon history. \nJacob Burns Film Festival
URL:https://www.whattododigital.com/event/jacob-burns-film-festival-the-fleischer-brothers-betty-boop-cartoons/
LOCATION:Jacob Burns Film Center
CATEGORIES:Movies
ATTACH;FMTTYPE=image/jpeg:https://www.whattododigital.com/wp-content/uploads/2026/03/JBFC_Betty-Boop.jpg
END:VEVENT
BEGIN:VEVENT
DTSTART;TZID=America/New_York:20260328T190000
DTEND;TZID=America/New_York:20260328T190000
DTSTAMP:20260423T163925
CREATED:20260309T155449Z
LAST-MODIFIED:20260309T155449Z
UID:93889-1774724400-1774724400@www.whattododigital.com
SUMMARY:Jacob Burns Film Center Jewish Film Festival: The Last Spy
DESCRIPTION:Jacob Burns Film Center Jewish Film Festival: The Last Spy \nPeter Sichel\, born in 1922 into a wealthy German Jewish wine family\, fled with them to the United States. Joining the army as soon as America enters the war\, he was assigned to the newly created Office of Strategic Services\, beginning an astonishing globe-trotting career as a master spy. At the age of 100\, he sat down to tell his amazing story\, taking us through the defeat of Germany\, rescues at Dachau\, the Cold War\, the attempted overthrow of Indonesian president Sukarno\, and incursions in Communist China. \nJacob Burns Film Center
URL:https://www.whattododigital.com/event/jacob-burns-film-center-jewish-film-festival-the-last-spy/
LOCATION:Jacob Burns Film Center
CATEGORIES:Movies
ATTACH;FMTTYPE=image/jpeg:https://www.whattododigital.com/wp-content/uploads/2026/03/JBFC_Last-Spy.jpg
END:VEVENT
BEGIN:VEVENT
DTSTART;TZID=America/New_York:20260329T130000
DTEND;TZID=America/New_York:20260329T130000
DTSTAMP:20260423T163925
CREATED:20260309T161401Z
LAST-MODIFIED:20260309T161401Z
UID:93903-1774789200-1774789200@www.whattododigital.com
SUMMARY:Jacob Burns Film Center Jewish Film Festival: A Thre Course Meal... Three Food Films
DESCRIPTION:Jacob Burns Film Center Jewish Film Festival: A Thre Course Meal… Three Food Films \nA cinematic feast about the joys and importance of food\, this program includes the film equivalent of an appetizer\, a beverage\, and an entree. Including Orna and Ella\, a documentary of a Tel Aviv restaurant; Double Happiness\, about the Jewish tradition of  eating at Chinese restaurants on Christmas; and Egg Cream\, a celebration of the enduring fountain treat–one of the few affordable pleasures available to tenement dwellers in the early 20th century. \nJacob Burns Film Center
URL:https://www.whattododigital.com/event/jacob-burns-film-center-jewish-film-festival-a-thre-course-meal-three-food-films/
LOCATION:Jacob Burns Film Center
CATEGORIES:Movies
ATTACH;FMTTYPE=image/jpeg:https://www.whattododigital.com/wp-content/uploads/2026/03/JBFC_3-Food-Films.jpg
END:VEVENT
BEGIN:VEVENT
DTSTART;TZID=America/New_York:20260329T190000
DTEND;TZID=America/New_York:20260329T190000
DTSTAMP:20260423T163925
CREATED:20260309T162058Z
LAST-MODIFIED:20260309T162058Z
UID:93912-1774810800-1774810800@www.whattododigital.com
SUMMARY:Jacob Burns Film Center: When Caesar Was King
DESCRIPTION:Jacob Burns Film Center: When Caesar Was King \nIn the 1950s\, Sid Caesar was the most influential\, highly paid\, and wildly talented comedian in America. He was watched every week by more than twenty million people on Your Show of Shows\, a variety show filled with hilarious sketches and film spoofs. Mel Brooks\, Carl Reiner\, Neil Simon\, and Woody Allen were among the many comedians who worked with Caesar and were inspired by him. \nJacob Burns Film Center
URL:https://www.whattododigital.com/event/jacob-burns-film-center-when-caesar-was-king/
LOCATION:Jacob Burns Film Center
CATEGORIES:Movies
ATTACH;FMTTYPE=image/jpeg:https://www.whattododigital.com/wp-content/uploads/2026/03/JBFC_Sid-Caesar.jpg
END:VEVENT
BEGIN:VEVENT
DTSTART;TZID=America/New_York:20260331T163000
DTEND;TZID=America/New_York:20260331T163000
DTSTAMP:20260423T163925
CREATED:20260309T153504Z
LAST-MODIFIED:20260309T153504Z
UID:93868-1774974600-1774974600@www.whattododigital.com
SUMMARY:Jacob Burns Film Center Jewish Film Festival: A Letter to David
DESCRIPTION:Jacob Burns Film Center Jewish Film Festival: A Letter to David \nDavid Cunio was abducted from Nir Oz on October 7\, 2023\, and held captive by Hamas for more than two years. Ten years earlier\, David starred with his twin brother Eitan in Tom Shoval’s powerful Israeli film Youth\, a drama about regional violence and the bond between brothers that\, in an incredible twist of fate\, revolved around an abduction. \nBy intercutting between the present-day story and behind-the-scenes footage and audition tapes from the earlier film\, A Letter to David breaks the boundaries between art and life. \nJacob Burns Film Center
URL:https://www.whattododigital.com/event/jacob-burns-film-center-jewish-film-festival-a-letter-to-david-2/
LOCATION:Jacob Burns Film Center
CATEGORIES:Movies
ATTACH;FMTTYPE=image/jpeg:https://www.whattododigital.com/wp-content/uploads/2026/03/JBFC_Letter-to-David.jpg
END:VEVENT
END:VCALENDAR