BEGIN:VCALENDAR
VERSION:2.0
PRODID:-//What To Do - ECPv6.15.20//NONSGML v1.0//EN
CALSCALE:GREGORIAN
METHOD:PUBLISH
X-WR-CALNAME:What To Do
X-ORIGINAL-URL:https://www.whattododigital.com
X-WR-CALDESC:Events for What To Do
REFRESH-INTERVAL;VALUE=DURATION:PT1H
X-Robots-Tag:noindex
X-PUBLISHED-TTL:PT1H
BEGIN:VTIMEZONE
TZID:America/New_York
BEGIN:DAYLIGHT
TZOFFSETFROM:-0500
TZOFFSETTO:-0400
TZNAME:EDT
DTSTART:20240310T070000
END:DAYLIGHT
BEGIN:STANDARD
TZOFFSETFROM:-0400
TZOFFSETTO:-0500
TZNAME:EST
DTSTART:20241103T060000
END:STANDARD
BEGIN:DAYLIGHT
TZOFFSETFROM:-0500
TZOFFSETTO:-0400
TZNAME:EDT
DTSTART:20250309T070000
END:DAYLIGHT
BEGIN:STANDARD
TZOFFSETFROM:-0400
TZOFFSETTO:-0500
TZNAME:EST
DTSTART:20251102T060000
END:STANDARD
BEGIN:DAYLIGHT
TZOFFSETFROM:-0500
TZOFFSETTO:-0400
TZNAME:EDT
DTSTART:20260308T070000
END:DAYLIGHT
BEGIN:STANDARD
TZOFFSETFROM:-0400
TZOFFSETTO:-0500
TZNAME:EST
DTSTART:20261101T060000
END:STANDARD
END:VTIMEZONE
BEGIN:VEVENT
DTSTART;VALUE=DATE:20250926
DTEND;VALUE=DATE:20250927
DTSTAMP:20260425T123041
CREATED:20250804T212011Z
LAST-MODIFIED:20250804T212011Z
UID:88015-1758844800-1758931199@www.whattododigital.com
SUMMARY:Bedford Playhouse: Strange Journey: The Story of Rocky Horror
DESCRIPTION:Bedford Playhouse: Strange Journey: The Story of Rocky Horror \nStarring: Barry Bostwick\, Nell Campbell\, Richard O’Brien\, Susan Sarandon\, Tim Curry \n\nFrom humble origins as a London fringe theater play to its meteoric rise\, fall and resurrection as the biggest cult film of all time\, this is the definitive story of the Rocky Horror Show\, which was first released in theaters 50 years ago on September 26\, 1975. With intimate access to its creator Richard O’Brien and other major players such as Tim Curry\, Susan Sarandon and Lou Adler\, the documentary explores what makes the play and film so singular… \n\nBedford Playhouse
URL:https://www.whattododigital.com/event/bedford-playhouse-strange-journey-the-story-of-rocky-horror/
LOCATION:Bedford Playhouse
CATEGORIES:Movies
ATTACH;FMTTYPE=image/jpeg:https://www.whattododigital.com/wp-content/uploads/2025/08/BPH_Srange-Journey-R-Horror-2.jpeg
END:VEVENT
END:VCALENDAR