BEGIN:VCALENDAR
VERSION:2.0
PRODID:-//What To Do - ECPv6.15.20//NONSGML v1.0//EN
CALSCALE:GREGORIAN
METHOD:PUBLISH
X-WR-CALNAME:What To Do
X-ORIGINAL-URL:https://www.whattododigital.com
X-WR-CALDESC:Events for What To Do
REFRESH-INTERVAL;VALUE=DURATION:PT1H
X-Robots-Tag:noindex
X-PUBLISHED-TTL:PT1H
BEGIN:VTIMEZONE
TZID:America/New_York
BEGIN:DAYLIGHT
TZOFFSETFROM:-0500
TZOFFSETTO:-0400
TZNAME:EDT
DTSTART:20240310T070000
END:DAYLIGHT
BEGIN:STANDARD
TZOFFSETFROM:-0400
TZOFFSETTO:-0500
TZNAME:EST
DTSTART:20241103T060000
END:STANDARD
BEGIN:DAYLIGHT
TZOFFSETFROM:-0500
TZOFFSETTO:-0400
TZNAME:EDT
DTSTART:20250309T070000
END:DAYLIGHT
BEGIN:STANDARD
TZOFFSETFROM:-0400
TZOFFSETTO:-0500
TZNAME:EST
DTSTART:20251102T060000
END:STANDARD
BEGIN:DAYLIGHT
TZOFFSETFROM:-0500
TZOFFSETTO:-0400
TZNAME:EDT
DTSTART:20260308T070000
END:DAYLIGHT
BEGIN:STANDARD
TZOFFSETFROM:-0400
TZOFFSETTO:-0500
TZNAME:EST
DTSTART:20261101T060000
END:STANDARD
END:VTIMEZONE
BEGIN:VEVENT
DTSTART;TZID=America/New_York:20251017T190000
DTEND;TZID=America/New_York:20251017T190000
DTSTAMP:20260424T203357
CREATED:20251007T131444Z
LAST-MODIFIED:20251007T131444Z
UID:91366-1760727600-1760727600@www.whattododigital.com
SUMMARY:Bedford Playhouse Screening with Special Guests
DESCRIPTION:Oscar with Special Guests Chazz Palminteri and Peter Riegert \nWatch a screening of the cult classic comedy\, Oscar\, from John Landis\, the director of National Lampoon’s Animal House\, The Blues Brothers and Trading Places followed by a Q&A with two of its stars – Chazz Palminteri and Peter Riegert. \nThe film also stars Sulvester Stallone\, Marisa Tomei and Ornella Muti. \nBedford Playhouse
URL:https://www.whattododigital.com/event/bedford-playhouse-screening-with-special-guests/
LOCATION:Bedford Playhouse\, 633 Old Post Road\, Bedford\, NY\, 10506\, United States
CATEGORIES:Movies
ATTACH;FMTTYPE=image/jpeg:https://www.whattododigital.com/wp-content/uploads/2025/10/BPH_Oscar.jpeg
END:VEVENT
END:VCALENDAR