BEGIN:VCALENDAR
VERSION:2.0
PRODID:-//What To Do - ECPv6.15.20//NONSGML v1.0//EN
CALSCALE:GREGORIAN
METHOD:PUBLISH
X-ORIGINAL-URL:https://www.whattododigital.com
X-WR-CALDESC:Events for What To Do
REFRESH-INTERVAL;VALUE=DURATION:PT1H
X-Robots-Tag:noindex
X-PUBLISHED-TTL:PT1H
BEGIN:VTIMEZONE
TZID:America/New_York
BEGIN:DAYLIGHT
TZOFFSETFROM:-0500
TZOFFSETTO:-0400
TZNAME:EDT
DTSTART:20240310T070000
END:DAYLIGHT
BEGIN:STANDARD
TZOFFSETFROM:-0400
TZOFFSETTO:-0500
TZNAME:EST
DTSTART:20241103T060000
END:STANDARD
BEGIN:DAYLIGHT
TZOFFSETFROM:-0500
TZOFFSETTO:-0400
TZNAME:EDT
DTSTART:20250309T070000
END:DAYLIGHT
BEGIN:STANDARD
TZOFFSETFROM:-0400
TZOFFSETTO:-0500
TZNAME:EST
DTSTART:20251102T060000
END:STANDARD
BEGIN:DAYLIGHT
TZOFFSETFROM:-0500
TZOFFSETTO:-0400
TZNAME:EDT
DTSTART:20260308T070000
END:DAYLIGHT
BEGIN:STANDARD
TZOFFSETFROM:-0400
TZOFFSETTO:-0500
TZNAME:EST
DTSTART:20261101T060000
END:STANDARD
END:VTIMEZONE
BEGIN:VEVENT
DTSTART;TZID=America/New_York:20251031T130000
DTEND;TZID=America/New_York:20251031T130000
DTSTAMP:20260424T153927
CREATED:20250907T121334Z
LAST-MODIFIED:20250907T121334Z
UID:89148-1761915600-1761915600@www.whattododigital.com
SUMMARY:Ridgefield Playhouse: Frankenstein
DESCRIPTION:Ridgefield Playhouse: Frankenstein \nDirected by Academy Award®-winner Danny Boyle (Trainspotting\, Slumdog Millionaire)\, Frankenstein features Benedict Cumberbatch (Hamlet\, BBC’s Sherlock) and Jonny Lee Miller (Elementary\, Trainspotting) alternating between the roles of Victor Frankenstein and his creation. \nCaptured live on stage in 2011\, this thrilling\, sold-out production became an international sensation\, experienced by almost half a million people in cinemas around the world. \nRidgefield Playhouse
URL:https://www.whattododigital.com/event/ridgefield-playhouse-frankenstein/
LOCATION:The Ridgefield Playhouse\, 80 East Ridge\, Ridfgefield\, CT\, 06877\, United States
CATEGORIES:Halloween,Movies
ATTACH;FMTTYPE=image/jpeg:https://www.whattododigital.com/wp-content/uploads/2025/09/RPH-NTL-FRANKENSTEIN-550x800-1-copy.jpg
END:VEVENT
BEGIN:VEVENT
DTSTART;TZID=America/New_York:20251031T130000
DTEND;TZID=America/New_York:20251031T130000
DTSTAMP:20260424T153927
CREATED:20250926T173550Z
LAST-MODIFIED:20250926T173550Z
UID:89367-1761915600-1761915600@www.whattododigital.com
SUMMARY:Ridgefield Playhouse: Frankenstein
DESCRIPTION:Ridgefield Playhouse: Frankenstein \nDirected by Academy Award®-winner Danny Boyle (Trainspotting\, Slumdog Millionaire)\, Frankenstein features Benedict Cumberbatch (Hamlet\, BBC’s Sherlock) and Jonny Lee Miller (Elementary\, Trainspotting) alternating between the roles of Victor Frankenstein and his creation. \nRidgefield Playhouse
URL:https://www.whattododigital.com/event/ridgefield-playhouse-frankenstein-2/
LOCATION:The Ridgefield Playhouse\, 80 East Ridge\, Ridfgefield\, CT\, 06877\, United States
CATEGORIES:Halloween,Movies
ATTACH;FMTTYPE=image/jpeg:https://www.whattododigital.com/wp-content/uploads/2025/09/RPH-NTL-FRANKENSTEIN-550x800-1-copy.jpg
END:VEVENT
END:VCALENDAR