BEGIN:VCALENDAR
VERSION:2.0
PRODID:-//What To Do - ECPv6.15.20//NONSGML v1.0//EN
CALSCALE:GREGORIAN
METHOD:PUBLISH
X-WR-CALNAME:What To Do
X-ORIGINAL-URL:https://www.whattododigital.com
X-WR-CALDESC:Events for What To Do
REFRESH-INTERVAL;VALUE=DURATION:PT1H
X-Robots-Tag:noindex
X-PUBLISHED-TTL:PT1H
BEGIN:VTIMEZONE
TZID:America/New_York
BEGIN:DAYLIGHT
TZOFFSETFROM:-0500
TZOFFSETTO:-0400
TZNAME:EDT
DTSTART:20240310T070000
END:DAYLIGHT
BEGIN:STANDARD
TZOFFSETFROM:-0400
TZOFFSETTO:-0500
TZNAME:EST
DTSTART:20241103T060000
END:STANDARD
BEGIN:DAYLIGHT
TZOFFSETFROM:-0500
TZOFFSETTO:-0400
TZNAME:EDT
DTSTART:20250309T070000
END:DAYLIGHT
BEGIN:STANDARD
TZOFFSETFROM:-0400
TZOFFSETTO:-0500
TZNAME:EST
DTSTART:20251102T060000
END:STANDARD
BEGIN:DAYLIGHT
TZOFFSETFROM:-0500
TZOFFSETTO:-0400
TZNAME:EDT
DTSTART:20260308T070000
END:DAYLIGHT
BEGIN:STANDARD
TZOFFSETFROM:-0400
TZOFFSETTO:-0500
TZNAME:EST
DTSTART:20261101T060000
END:STANDARD
END:VTIMEZONE
BEGIN:VEVENT
DTSTART;TZID=America/New_York:20251101T220000
DTEND;TZID=America/New_York:20251101T220000
DTSTAMP:20260424T184534
CREATED:20250630T194400Z
LAST-MODIFIED:20250630T194400Z
UID:87515-1762034400-1762034400@www.whattododigital.com
SUMMARY:The Purchase PAC: The Rocky Horror Picture Show
DESCRIPTION:The Purchase PAC: The Rocky Horror Picture Show \nProbably the oddest\, most off-the-wall cult film ever made\, this kinky rock’n’roll science fiction horror satire is everybody’s favorite late-night show. A young couple stumbles into a castle inhabited by weirdos from the planet Transylvania including Dr. Frank N. Furter (Tim Curry) a transvestite Frankenstein in rhinestone heels. A marvelous musical spoof which urges\, “Give yourself over to absolute pleasure.” \nFeaturing a live shadow cast performance! \nThe Rocky Horror Picture Show 50th Anniversary \nThe Purchase PAC
URL:https://www.whattododigital.com/event/the-purchase-pac-the-rocky-horror-picture-show/
LOCATION:The Performing Arts Center Purchase College\, 735 Anderson Hill Rd.\, Purchase\, Purchase\, NY\, 10577\, United States
CATEGORIES:Halloween,Movies
ATTACH;FMTTYPE=image/jpeg:https://www.whattododigital.com/wp-content/uploads/2025/06/PAC_RockyHorror_web940.jpg
END:VEVENT
END:VCALENDAR